Workbook

Sheet Ficha de Jogo
E1: Boletim de jogo de Corfebol Em vigor a partir de 30 de outubro de 2026
E2: Época: | F2: 2026/27 | H2: Prova/Fase: | K2: =IF(LEFT($T$2,4)="CN1D","Campeonato Nacional 1ª Divisão",IF(LEFT($T$2,4)="CN2D","Campeonato Nacional 2ª Divisão",IF(LEFT($T$2,4)="CN3D","Campeonato Nacional 3ª Divisão",IF(LEFT($T$2,2)="TP","Taça de Portugal",IF(LEFT($T$2,2)="ST","Supertaça Mário Godinho",IF(LEFT($T$2,4)="CN1_","Campeonato Nacional 1ª Divisão Play-offs",IF(LEFT($T$2,4)="CN2_","Campeonato Nacional 2ª Divisão Play-offs",IF(LEFT($T$2,4)="CN3_","Campeonato Nacional 3ª Divisão Play-offs","")))))))) | R2: Jogo: | T2: =IF(ISBLANK($S$2),"",INDEX(Calendário!B:G,MATCH($S$2,Calendário!B:B,0),2)) | AA2: FPC
E3: Data: | F3: =IF(ISBLANK($S$2),"",INDEX(Calendário!B:G,MATCH($S$2,Calendário!B:B,0),5)) | H3: Pavilhão/Local: | K3: =IF(ISBLANK($S$2),"",INDEX(Calendário!B:G,MATCH($S$2,Calendário!B:B,0),6)) | R3: Hora: | S3: =IF(ISBLANK($S$2),"",INDEX(Calendário!$F$1:$F$2460,MATCH(S2,Calendário!$B$1:$B$2460))) | AA3: =$A$6
AA4: =$L$6
A5: Equipa visitada: | L5: Equipa visitante:
A6: =IF(ISBLANK($S$2),"",INDEX(Calendário!B:G,MATCH($S$2,Calendário!B:B,0),3)) | L6: =IF(ISBLANK($S$2),"",INDEX(Calendário!B:G,MATCH($S$2,Calendário!B:B,0),4))
A8: Jogadores/as: | L8: Jogadores/as:
A9: FPC nº | B9: Jogador nº | C9: Nome | E9: Minutos de jogo | F9: Equipa Inicial (x) | G9: Pontos Marcados | H9: Cartão Amarelo | I9: Cartão Vermelho | J9: Cartão Branco | L9: FPC nº | M9: Jogador nº | N9: Nome | P9: Minutos de jogo | Q9: Equipa Inicial (x) | R9: Pontos Marcados | S9: Cartão Amarelo | T9: Cartão Vermelho | U9: Cartão Branco
C10: =IF(A10="","",IF(ISBLANK($S$2),"Preencher nr do jogo",IF(INDEX(AgentesDesportivos!$D:$D,MATCH(A10,AgentesDesportivos!$A:$A,0))="","Não inscrito",IF(INDEX(AgentesDesportivos!$K:$K,MATCH(A10,AgentesDesportivos!$A:$A,0))<>LEFT(A$6,FIND(" ",A$6&" ")-1),"Não inscrito no "&LEFT(A$6,FIND(" ",A$6&" ")-1),IF(INDEX(AgentesDesportivos!$L:$L,MATCH(A10,AgentesDesportivos!$A:$A,0))<IFERROR(MID(A$6,FIND(" ",A$6)+1,FIND(" ",A$6&" ",FIND(" ",A$6)+1)-FIND(" ",A$6)-1),"A"),"Jogador inscrito no "&INDEX(AgentesDesportivos!$K:$K,MATCH(A10,AgentesDesportivos!$A:$A,0))&" "&INDEX(AgentesDesportivos!$L:$L,MATCH(A10,AgentesDesportivos!$A:$A,0)),INDEX(AgentesDesportivos!$B:$B,MATCH(A10,AgentesDesportivos!$A:$A,0))))))) | E10: =MinutosVisitada!E3 | N10: =IF(L10="","",IF(ISBLANK($S$2),"Preencher nr do jogo",IF(INDEX(AgentesDesportivos!$D:$D,MATCH(L10,AgentesDesportivos!$A:$A,0))="","Não inscrito",IF(INDEX(AgentesDesportivos!$K:$K,MATCH(L10,AgentesDesportivos!$A:$A,0))<>LEFT(L$6,FIND(" ",L$6&" ")-1),"Não inscrito no "&LEFT(L$6,FIND(" ",L$6&" ")-1),IF(INDEX(AgentesDesportivos!$L:$L,MATCH(L10,AgentesDesportivos!$A:$A,0))<IFERROR(MID(L$6,FIND(" ",L$6)+1,FIND(" ",L$6&" ",FIND(" ",L$6)+1)-FIND(" ",L$6)-1),"A"),"Jogador inscrito no "&INDEX(AgentesDesportivos!$K:$K,MATCH(L10,AgentesDesportivos!$A:$A,0))&" "&INDEX(AgentesDesportivos!$L:$L,MATCH(L10,AgentesDesportivos!$A:$A,0)),INDEX(AgentesDesportivos!$B:$B,MATCH(L10,AgentesDesportivos!$A:$A,0))))))) | P10: =MinutosVisitante!E3
C11: =IF(A11="","",IF(ISBLANK($S$2),"Preencher nr do jogo",IF(INDEX(AgentesDesportivos!$D:$D,MATCH(A11,AgentesDesportivos!$A:$A,0))="","Não inscrito",IF(INDEX(AgentesDesportivos!$K:$K,MATCH(A11,AgentesDesportivos!$A:$A,0))<>LEFT(A$6,FIND(" ",A$6&" ")-1),"Não inscrito no "&LEFT(A$6,FIND(" ",A$6&" ")-1),IF(INDEX(AgentesDesportivos!$L:$L,MATCH(A11,AgentesDesportivos!$A:$A,0))<IFERROR(MID(A$6,FIND(" ",A$6)+1,FIND(" ",A$6&" ",FIND(" ",A$6)+1)-FIND(" ",A$6)-1),"A"),"Jogador inscrito no "&INDEX(AgentesDesportivos!$K:$K,MATCH(A11,AgentesDesportivos!$A:$A,0))&" "&INDEX(AgentesDesportivos!$L:$L,MATCH(A11,AgentesDesportivos!$A:$A,0)),INDEX(AgentesDesportivos!$B:$B,MATCH(A11,AgentesDesportivos!$A:$A,0))))))) | E11: =MinutosVisitada!E4 | N11: =IF(L11="","",IF(ISBLANK($S$2),"Preencher nr do jogo",IF(INDEX(AgentesDesportivos!$D:$D,MATCH(L11,AgentesDesportivos!$A:$A,0))="","Não inscrito",IF(INDEX(AgentesDesportivos!$K:$K,MATCH(L11,AgentesDesportivos!$A:$A,0))<>LEFT(L$6,FIND(" ",L$6&" ")-1),"Não inscrito no "&LEFT(L$6,FIND(" ",L$6&" ")-1),IF(INDEX(AgentesDesportivos!$L:$L,MATCH(L11,AgentesDesportivos!$A:$A,0))<IFERROR(MID(L$6,FIND(" ",L$6)+1,FIND(" ",L$6&" ",FIND(" ",L$6)+1)-FIND(" ",L$6)-1),"A"),"Jogador inscrito no "&INDEX(AgentesDesportivos!$K:$K,MATCH(L11,AgentesDesportivos!$A:$A,0))&" "&INDEX(AgentesDesportivos!$L:$L,MATCH(L11,AgentesDesportivos!$A:$A,0)),INDEX(AgentesDesportivos!$B:$B,MATCH(L11,AgentesDesportivos!$A:$A,0))))))) | P11: =MinutosVisitante!E4
C12: =IF(A12="","",IF(ISBLANK($S$2),"Preencher nr do jogo",IF(INDEX(AgentesDesportivos!$D:$D,MATCH(A12,AgentesDesportivos!$A:$A,0))="","Não inscrito",IF(INDEX(AgentesDesportivos!$K:$K,MATCH(A12,AgentesDesportivos!$A:$A,0))<>LEFT(A$6,FIND(" ",A$6&" ")-1),"Não inscrito no "&LEFT(A$6,FIND(" ",A$6&" ")-1),IF(INDEX(AgentesDesportivos!$L:$L,MATCH(A12,AgentesDesportivos!$A:$A,0))<IFERROR(MID(A$6,FIND(" ",A$6)+1,FIND(" ",A$6&" ",FIND(" ",A$6)+1)-FIND(" ",A$6)-1),"A"),"Jogador inscrito no "&INDEX(AgentesDesportivos!$K:$K,MATCH(A12,AgentesDesportivos!$A:$A,0))&" "&INDEX(AgentesDesportivos!$L:$L,MATCH(A12,AgentesDesportivos!$A:$A,0)),INDEX(AgentesDesportivos!$B:$B,MATCH(A12,AgentesDesportivos!$A:$A,0))))))) | E12: =MinutosVisitada!E5 | N12: =IF(L12="","",IF(ISBLANK($S$2),"Preencher nr do jogo",IF(INDEX(AgentesDesportivos!$D:$D,MATCH(L12,AgentesDesportivos!$A:$A,0))="","Não inscrito",IF(INDEX(AgentesDesportivos!$K:$K,MATCH(L12,AgentesDesportivos!$A:$A,0))<>LEFT(L$6,FIND(" ",L$6&" ")-1),"Não inscrito no "&LEFT(L$6,FIND(" ",L$6&" ")-1),IF(INDEX(AgentesDesportivos!$L:$L,MATCH(L12,AgentesDesportivos!$A:$A,0))<IFERROR(MID(L$6,FIND(" ",L$6)+1,FIND(" ",L$6&" ",FIND(" ",L$6)+1)-FIND(" ",L$6)-1),"A"),"Jogador inscrito no "&INDEX(AgentesDesportivos!$K:$K,MATCH(L12,AgentesDesportivos!$A:$A,0))&" "&INDEX(AgentesDesportivos!$L:$L,MATCH(L12,AgentesDesportivos!$A:$A,0)),INDEX(AgentesDesportivos!$B:$B,MATCH(L12,AgentesDesportivos!$A:$A,0))))))) | P12: =MinutosVisitante!E5
C13: =IF(A13="","",IF(ISBLANK($S$2),"Preencher nr do jogo",IF(INDEX(AgentesDesportivos!$D:$D,MATCH(A13,AgentesDesportivos!$A:$A,0))="","Não inscrito",IF(INDEX(AgentesDesportivos!$K:$K,MATCH(A13,AgentesDesportivos!$A:$A,0))<>LEFT(A$6,FIND(" ",A$6&" ")-1),"Não inscrito no "&LEFT(A$6,FIND(" ",A$6&" ")-1),IF(INDEX(AgentesDesportivos!$L:$L,MATCH(A13,AgentesDesportivos!$A:$A,0))<IFERROR(MID(A$6,FIND(" ",A$6)+1,FIND(" ",A$6&" ",FIND(" ",A$6)+1)-FIND(" ",A$6)-1),"A"),"Jogador inscrito no "&INDEX(AgentesDesportivos!$K:$K,MATCH(A13,AgentesDesportivos!$A:$A,0))&" "&INDEX(AgentesDesportivos!$L:$L,MATCH(A13,AgentesDesportivos!$A:$A,0)),INDEX(AgentesDesportivos!$B:$B,MATCH(A13,AgentesDesportivos!$A:$A,0))))))) | E13: =MinutosVisitada!E6 | N13: =IF(L13="","",IF(ISBLANK($S$2),"Preencher nr do jogo",IF(INDEX(AgentesDesportivos!$D:$D,MATCH(L13,AgentesDesportivos!$A:$A,0))="","Não inscrito",IF(INDEX(AgentesDesportivos!$K:$K,MATCH(L13,AgentesDesportivos!$A:$A,0))<>LEFT(L$6,FIND(" ",L$6&" ")-1),"Não inscrito no "&LEFT(L$6,FIND(" ",L$6&" ")-1),IF(INDEX(AgentesDesportivos!$L:$L,MATCH(L13,AgentesDesportivos!$A:$A,0))<IFERROR(MID(L$6,FIND(" ",L$6)+1,FIND(" ",L$6&" ",FIND(" ",L$6)+1)-FIND(" ",L$6)-1),"A"),"Jogador inscrito no "&INDEX(AgentesDesportivos!$K:$K,MATCH(L13,AgentesDesportivos!$A:$A,0))&" "&INDEX(AgentesDesportivos!$L:$L,MATCH(L13,AgentesDesportivos!$A:$A,0)),INDEX(AgentesDesportivos!$B:$B,MATCH(L13,AgentesDesportivos!$A:$A,0))))))) | P13: =MinutosVisitante!E6
C14: =IF(A14="","",IF(ISBLANK($S$2),"Preencher nr do jogo",IF(INDEX(AgentesDesportivos!$D:$D,MATCH(A14,AgentesDesportivos!$A:$A,0))="","Não inscrito",IF(INDEX(AgentesDesportivos!$K:$K,MATCH(A14,AgentesDesportivos!$A:$A,0))<>LEFT(A$6,FIND(" ",A$6&" ")-1),"Não inscrito no "&LEFT(A$6,FIND(" ",A$6&" ")-1),IF(INDEX(AgentesDesportivos!$L:$L,MATCH(A14,AgentesDesportivos!$A:$A,0))<IFERROR(MID(A$6,FIND(" ",A$6)+1,FIND(" ",A$6&" ",FIND(" ",A$6)+1)-FIND(" ",A$6)-1),"A"),"Jogador inscrito no "&INDEX(AgentesDesportivos!$K:$K,MATCH(A14,AgentesDesportivos!$A:$A,0))&" "&INDEX(AgentesDesportivos!$L:$L,MATCH(A14,AgentesDesportivos!$A:$A,0)),INDEX(AgentesDesportivos!$B:$B,MATCH(A14,AgentesDesportivos!$A:$A,0))))))) | E14: =MinutosVisitada!E7 | N14: =IF(L14="","",IF(ISBLANK($S$2),"Preencher nr do jogo",IF(INDEX(AgentesDesportivos!$D:$D,MATCH(L14,AgentesDesportivos!$A:$A,0))="","Não inscrito",IF(INDEX(AgentesDesportivos!$K:$K,MATCH(L14,AgentesDesportivos!$A:$A,0))<>LEFT(L$6,FIND(" ",L$6&" ")-1),"Não inscrito no "&LEFT(L$6,FIND(" ",L$6&" ")-1),IF(INDEX(AgentesDesportivos!$L:$L,MATCH(L14,AgentesDesportivos!$A:$A,0))<IFERROR(MID(L$6,FIND(" ",L$6)+1,FIND(" ",L$6&" ",FIND(" ",L$6)+1)-FIND(" ",L$6)-1),"A"),"Jogador inscrito no "&INDEX(AgentesDesportivos!$K:$K,MATCH(L14,AgentesDesportivos!$A:$A,0))&" "&INDEX(AgentesDesportivos!$L:$L,MATCH(L14,AgentesDesportivos!$A:$A,0)),INDEX(AgentesDesportivos!$B:$B,MATCH(L14,AgentesDesportivos!$A:$A,0))))))) | P14: =MinutosVisitante!E7
C15: =IF(A15="","",IF(ISBLANK($S$2),"Preencher nr do jogo",IF(INDEX(AgentesDesportivos!$D:$D,MATCH(A15,AgentesDesportivos!$A:$A,0))="","Não inscrito",IF(INDEX(AgentesDesportivos!$K:$K,MATCH(A15,AgentesDesportivos!$A:$A,0))<>LEFT(A$6,FIND(" ",A$6&" ")-1),"Não inscrito no "&LEFT(A$6,FIND(" ",A$6&" ")-1),IF(INDEX(AgentesDesportivos!$L:$L,MATCH(A15,AgentesDesportivos!$A:$A,0))<IFERROR(MID(A$6,FIND(" ",A$6)+1,FIND(" ",A$6&" ",FIND(" ",A$6)+1)-FIND(" ",A$6)-1),"A"),"Jogador inscrito no "&INDEX(AgentesDesportivos!$K:$K,MATCH(A15,AgentesDesportivos!$A:$A,0))&" "&INDEX(AgentesDesportivos!$L:$L,MATCH(A15,AgentesDesportivos!$A:$A,0)),INDEX(AgentesDesportivos!$B:$B,MATCH(A15,AgentesDesportivos!$A:$A,0))))))) | E15: =MinutosVisitada!E8 | N15: =IF(L15="","",IF(ISBLANK($S$2),"Preencher nr do jogo",IF(INDEX(AgentesDesportivos!$D:$D,MATCH(L15,AgentesDesportivos!$A:$A,0))="","Não inscrito",IF(INDEX(AgentesDesportivos!$K:$K,MATCH(L15,AgentesDesportivos!$A:$A,0))<>LEFT(L$6,FIND(" ",L$6&" ")-1),"Não inscrito no "&LEFT(L$6,FIND(" ",L$6&" ")-1),IF(INDEX(AgentesDesportivos!$L:$L,MATCH(L15,AgentesDesportivos!$A:$A,0))<IFERROR(MID(L$6,FIND(" ",L$6)+1,FIND(" ",L$6&" ",FIND(" ",L$6)+1)-FIND(" ",L$6)-1),"A"),"Jogador inscrito no "&INDEX(AgentesDesportivos!$K:$K,MATCH(L15,AgentesDesportivos!$A:$A,0))&" "&INDEX(AgentesDesportivos!$L:$L,MATCH(L15,AgentesDesportivos!$A:$A,0)),INDEX(AgentesDesportivos!$B:$B,MATCH(L15,AgentesDesportivos!$A:$A,0))))))) | P15: =MinutosVisitante!E8
C16: =IF(A16="","",IF(ISBLANK($S$2),"Preencher nr do jogo",IF(INDEX(AgentesDesportivos!$D:$D,MATCH(A16,AgentesDesportivos!$A:$A,0))="","Não inscrito",IF(INDEX(AgentesDesportivos!$K:$K,MATCH(A16,AgentesDesportivos!$A:$A,0))<>LEFT(A$6,FIND(" ",A$6&" ")-1),"Não inscrito no "&LEFT(A$6,FIND(" ",A$6&" ")-1),IF(INDEX(AgentesDesportivos!$L:$L,MATCH(A16,AgentesDesportivos!$A:$A,0))<IFERROR(MID(A$6,FIND(" ",A$6)+1,FIND(" ",A$6&" ",FIND(" ",A$6)+1)-FIND(" ",A$6)-1),"A"),"Jogador inscrito no "&INDEX(AgentesDesportivos!$K:$K,MATCH(A16,AgentesDesportivos!$A:$A,0))&" "&INDEX(AgentesDesportivos!$L:$L,MATCH(A16,AgentesDesportivos!$A:$A,0)),INDEX(AgentesDesportivos!$B:$B,MATCH(A16,AgentesDesportivos!$A:$A,0))))))) | E16: =MinutosVisitada!E9 | N16: =IF(L16="","",IF(ISBLANK($S$2),"Preencher nr do jogo",IF(INDEX(AgentesDesportivos!$D:$D,MATCH(L16,AgentesDesportivos!$A:$A,0))="","Não inscrito",IF(INDEX(AgentesDesportivos!$K:$K,MATCH(L16,AgentesDesportivos!$A:$A,0))<>LEFT(L$6,FIND(" ",L$6&" ")-1),"Não inscrito no "&LEFT(L$6,FIND(" ",L$6&" ")-1),IF(INDEX(AgentesDesportivos!$L:$L,MATCH(L16,AgentesDesportivos!$A:$A,0))<IFERROR(MID(L$6,FIND(" ",L$6)+1,FIND(" ",L$6&" ",FIND(" ",L$6)+1)-FIND(" ",L$6)-1),"A"),"Jogador inscrito no "&INDEX(AgentesDesportivos!$K:$K,MATCH(L16,AgentesDesportivos!$A:$A,0))&" "&INDEX(AgentesDesportivos!$L:$L,MATCH(L16,AgentesDesportivos!$A:$A,0)),INDEX(AgentesDesportivos!$B:$B,MATCH(L16,AgentesDesportivos!$A:$A,0))))))) | P16: =MinutosVisitante!E9
C17: =IF(A17="","",IF(ISBLANK($S$2),"Preencher nr do jogo",IF(INDEX(AgentesDesportivos!$D:$D,MATCH(A17,AgentesDesportivos!$A:$A,0))="","Não inscrito",IF(INDEX(AgentesDesportivos!$K:$K,MATCH(A17,AgentesDesportivos!$A:$A,0))<>LEFT(A$6,FIND(" ",A$6&" ")-1),"Não inscrito no "&LEFT(A$6,FIND(" ",A$6&" ")-1),IF(INDEX(AgentesDesportivos!$L:$L,MATCH(A17,AgentesDesportivos!$A:$A,0))<IFERROR(MID(A$6,FIND(" ",A$6)+1,FIND(" ",A$6&" ",FIND(" ",A$6)+1)-FIND(" ",A$6)-1),"A"),"Jogador inscrito no "&INDEX(AgentesDesportivos!$K:$K,MATCH(A17,AgentesDesportivos!$A:$A,0))&" "&INDEX(AgentesDesportivos!$L:$L,MATCH(A17,AgentesDesportivos!$A:$A,0)),INDEX(AgentesDesportivos!$B:$B,MATCH(A17,AgentesDesportivos!$A:$A,0))))))) | E17: =MinutosVisitada!E10 | N17: =IF(L17="","",IF(ISBLANK($S$2),"Preencher nr do jogo",IF(INDEX(AgentesDesportivos!$D:$D,MATCH(L17,AgentesDesportivos!$A:$A,0))="","Não inscrito",IF(INDEX(AgentesDesportivos!$K:$K,MATCH(L17,AgentesDesportivos!$A:$A,0))<>LEFT(L$6,FIND(" ",L$6&" ")-1),"Não inscrito no "&LEFT(L$6,FIND(" ",L$6&" ")-1),IF(INDEX(AgentesDesportivos!$L:$L,MATCH(L17,AgentesDesportivos!$A:$A,0))<IFERROR(MID(L$6,FIND(" ",L$6)+1,FIND(" ",L$6&" ",FIND(" ",L$6)+1)-FIND(" ",L$6)-1),"A"),"Jogador inscrito no "&INDEX(AgentesDesportivos!$K:$K,MATCH(L17,AgentesDesportivos!$A:$A,0))&" "&INDEX(AgentesDesportivos!$L:$L,MATCH(L17,AgentesDesportivos!$A:$A,0)),INDEX(AgentesDesportivos!$B:$B,MATCH(L17,AgentesDesportivos!$A:$A,0))))))) | P17: =MinutosVisitante!E10
C18: =IF(A18="","",IF(ISBLANK($S$2),"Preencher nr do jogo",IF(INDEX(AgentesDesportivos!$D:$D,MATCH(A18,AgentesDesportivos!$A:$A,0))="","Não inscrito",IF(INDEX(AgentesDesportivos!$K:$K,MATCH(A18,AgentesDesportivos!$A:$A,0))<>LEFT(A$6,FIND(" ",A$6&" ")-1),"Não inscrito no "&LEFT(A$6,FIND(" ",A$6&" ")-1),IF(INDEX(AgentesDesportivos!$L:$L,MATCH(A18,AgentesDesportivos!$A:$A,0))<IFERROR(MID(A$6,FIND(" ",A$6)+1,FIND(" ",A$6&" ",FIND(" ",A$6)+1)-FIND(" ",A$6)-1),"A"),"Jogador inscrito no "&INDEX(AgentesDesportivos!$K:$K,MATCH(A18,AgentesDesportivos!$A:$A,0))&" "&INDEX(AgentesDesportivos!$L:$L,MATCH(A18,AgentesDesportivos!$A:$A,0)),INDEX(AgentesDesportivos!$B:$B,MATCH(A18,AgentesDesportivos!$A:$A,0))))))) | E18: =MinutosVisitada!E11 | N18: =IF(L18="","",IF(ISBLANK($S$2),"Preencher nr do jogo",IF(INDEX(AgentesDesportivos!$D:$D,MATCH(L18,AgentesDesportivos!$A:$A,0))="","Não inscrito",IF(INDEX(AgentesDesportivos!$K:$K,MATCH(L18,AgentesDesportivos!$A:$A,0))<>LEFT(L$6,FIND(" ",L$6&" ")-1),"Não inscrito no "&LEFT(L$6,FIND(" ",L$6&" ")-1),IF(INDEX(AgentesDesportivos!$L:$L,MATCH(L18,AgentesDesportivos!$A:$A,0))<IFERROR(MID(L$6,FIND(" ",L$6)+1,FIND(" ",L$6&" ",FIND(" ",L$6)+1)-FIND(" ",L$6)-1),"A"),"Jogador inscrito no "&INDEX(AgentesDesportivos!$K:$K,MATCH(L18,AgentesDesportivos!$A:$A,0))&" "&INDEX(AgentesDesportivos!$L:$L,MATCH(L18,AgentesDesportivos!$A:$A,0)),INDEX(AgentesDesportivos!$B:$B,MATCH(L18,AgentesDesportivos!$A:$A,0))))))) | P18: =MinutosVisitante!E11
C19: =IF(A19="","",IF(ISBLANK($S$2),"Preencher nr do jogo",IF(INDEX(AgentesDesportivos!$D:$D,MATCH(A19,AgentesDesportivos!$A:$A,0))="","Não inscrito",IF(INDEX(AgentesDesportivos!$K:$K,MATCH(A19,AgentesDesportivos!$A:$A,0))<>LEFT(A$6,FIND(" ",A$6&" ")-1),"Não inscrito no "&LEFT(A$6,FIND(" ",A$6&" ")-1),IF(INDEX(AgentesDesportivos!$L:$L,MATCH(A19,AgentesDesportivos!$A:$A,0))<IFERROR(MID(A$6,FIND(" ",A$6)+1,FIND(" ",A$6&" ",FIND(" ",A$6)+1)-FIND(" ",A$6)-1),"A"),"Jogador inscrito no "&INDEX(AgentesDesportivos!$K:$K,MATCH(A19,AgentesDesportivos!$A:$A,0))&" "&INDEX(AgentesDesportivos!$L:$L,MATCH(A19,AgentesDesportivos!$A:$A,0)),INDEX(AgentesDesportivos!$B:$B,MATCH(A19,AgentesDesportivos!$A:$A,0))))))) | E19: =MinutosVisitada!E12 | N19: =IF(L19="","",IF(ISBLANK($S$2),"Preencher nr do jogo",IF(INDEX(AgentesDesportivos!$D:$D,MATCH(L19,AgentesDesportivos!$A:$A,0))="","Não inscrito",IF(INDEX(AgentesDesportivos!$K:$K,MATCH(L19,AgentesDesportivos!$A:$A,0))<>LEFT(L$6,FIND(" ",L$6&" ")-1),"Não inscrito no "&LEFT(L$6,FIND(" ",L$6&" ")-1),IF(INDEX(AgentesDesportivos!$L:$L,MATCH(L19,AgentesDesportivos!$A:$A,0))<IFERROR(MID(L$6,FIND(" ",L$6)+1,FIND(" ",L$6&" ",FIND(" ",L$6)+1)-FIND(" ",L$6)-1),"A"),"Jogador inscrito no "&INDEX(AgentesDesportivos!$K:$K,MATCH(L19,AgentesDesportivos!$A:$A,0))&" "&INDEX(AgentesDesportivos!$L:$L,MATCH(L19,AgentesDesportivos!$A:$A,0)),INDEX(AgentesDesportivos!$B:$B,MATCH(L19,AgentesDesportivos!$A:$A,0))))))) | P19: =MinutosVisitante!E12
C20: =IF(A20="","",IF(ISBLANK($S$2),"Preencher nr do jogo",IF(INDEX(AgentesDesportivos!$D:$D,MATCH(A20,AgentesDesportivos!$A:$A,0))="","Não inscrito",IF(INDEX(AgentesDesportivos!$K:$K,MATCH(A20,AgentesDesportivos!$A:$A,0))<>LEFT(A$6,FIND(" ",A$6&" ")-1),"Não inscrito no "&LEFT(A$6,FIND(" ",A$6&" ")-1),IF(INDEX(AgentesDesportivos!$L:$L,MATCH(A20,AgentesDesportivos!$A:$A,0))<IFERROR(MID(A$6,FIND(" ",A$6)+1,FIND(" ",A$6&" ",FIND(" ",A$6)+1)-FIND(" ",A$6)-1),"A"),"Jogador inscrito no "&INDEX(AgentesDesportivos!$K:$K,MATCH(A20,AgentesDesportivos!$A:$A,0))&" "&INDEX(AgentesDesportivos!$L:$L,MATCH(A20,AgentesDesportivos!$A:$A,0)),INDEX(AgentesDesportivos!$B:$B,MATCH(A20,AgentesDesportivos!$A:$A,0))))))) | E20: =MinutosVisitada!E13 | N20: =IF(L20="","",IF(ISBLANK($S$2),"Preencher nr do jogo",IF(INDEX(AgentesDesportivos!$D:$D,MATCH(L20,AgentesDesportivos!$A:$A,0))="","Não inscrito",IF(INDEX(AgentesDesportivos!$K:$K,MATCH(L20,AgentesDesportivos!$A:$A,0))<>LEFT(L$6,FIND(" ",L$6&" ")-1),"Não inscrito no "&LEFT(L$6,FIND(" ",L$6&" ")-1),IF(INDEX(AgentesDesportivos!$L:$L,MATCH(L20,AgentesDesportivos!$A:$A,0))<IFERROR(MID(L$6,FIND(" ",L$6)+1,FIND(" ",L$6&" ",FIND(" ",L$6)+1)-FIND(" ",L$6)-1),"A"),"Jogador inscrito no "&INDEX(AgentesDesportivos!$K:$K,MATCH(L20,AgentesDesportivos!$A:$A,0))&" "&INDEX(AgentesDesportivos!$L:$L,MATCH(L20,AgentesDesportivos!$A:$A,0)),INDEX(AgentesDesportivos!$B:$B,MATCH(L20,AgentesDesportivos!$A:$A,0))))))) | P20: =MinutosVisitante!E13
C21: =IF(A21="","",IF(ISBLANK($S$2),"Preencher nr do jogo",IF(INDEX(AgentesDesportivos!$D:$D,MATCH(A21,AgentesDesportivos!$A:$A,0))="","Não inscrito",IF(INDEX(AgentesDesportivos!$K:$K,MATCH(A21,AgentesDesportivos!$A:$A,0))<>LEFT(A$6,FIND(" ",A$6&" ")-1),"Não inscrito no "&LEFT(A$6,FIND(" ",A$6&" ")-1),IF(INDEX(AgentesDesportivos!$L:$L,MATCH(A21,AgentesDesportivos!$A:$A,0))<IFERROR(MID(A$6,FIND(" ",A$6)+1,FIND(" ",A$6&" ",FIND(" ",A$6)+1)-FIND(" ",A$6)-1),"A"),"Jogador inscrito no "&INDEX(AgentesDesportivos!$K:$K,MATCH(A21,AgentesDesportivos!$A:$A,0))&" "&INDEX(AgentesDesportivos!$L:$L,MATCH(A21,AgentesDesportivos!$A:$A,0)),INDEX(AgentesDesportivos!$B:$B,MATCH(A21,AgentesDesportivos!$A:$A,0))))))) | E21: =MinutosVisitada!E14 | N21: =IF(L21="","",IF(ISBLANK($S$2),"Preencher nr do jogo",IF(INDEX(AgentesDesportivos!$D:$D,MATCH(L21,AgentesDesportivos!$A:$A,0))="","Não inscrito",IF(INDEX(AgentesDesportivos!$K:$K,MATCH(L21,AgentesDesportivos!$A:$A,0))<>LEFT(L$6,FIND(" ",L$6&" ")-1),"Não inscrito no "&LEFT(L$6,FIND(" ",L$6&" ")-1),IF(INDEX(AgentesDesportivos!$L:$L,MATCH(L21,AgentesDesportivos!$A:$A,0))<IFERROR(MID(L$6,FIND(" ",L$6)+1,FIND(" ",L$6&" ",FIND(" ",L$6)+1)-FIND(" ",L$6)-1),"A"),"Jogador inscrito no "&INDEX(AgentesDesportivos!$K:$K,MATCH(L21,AgentesDesportivos!$A:$A,0))&" "&INDEX(AgentesDesportivos!$L:$L,MATCH(L21,AgentesDesportivos!$A:$A,0)),INDEX(AgentesDesportivos!$B:$B,MATCH(L21,AgentesDesportivos!$A:$A,0))))))) | P21: =MinutosVisitante!E14
... C23: =IF(A23="","",IF(ISBLANK($S$2),"Preencher nr do jogo",IF(INDEX(AgentesDesportivos!$D:$D,MATCH(A23,AgentesDesportivos!$A:$A,0))="","Não inscrito",IF(INDEX(AgentesDesportivos!$K:$K,MATCH(A23,AgentesDesportivos!$A:$A,0))<>LEFT(A$6,FIND(" ",A$6&" ")-1),"Não inscrito no "&LEFT(A$6,FIND(" ",A$6&" ")-1),IF(INDEX(AgentesDesportivos!$L:$L,MATCH(A23,AgentesDesportivos!$A:$A,0))<IFERROR(MID(A$6,FIND(" ",A$6)+1,FIND(" ",A$6&" ",FIND(" ",A$6)+1)-FIND(" ",A$6)-1),"A"),"Jogador inscrito no "&INDEX(AgentesDesportivos!$K:$K,MATCH(A23,AgentesDesportivos!$A:$A,0))&" "&INDEX(AgentesDesportivos!$L:$L,MATCH(A23,AgentesDesportivos!$A:$A,0)),INDEX(AgentesDesportivos!$B:$B,MATCH(A23,AgentesDesportivos!$A:$A,0))))))) | E23: =MinutosVisitada!E16 | N23: =IF(L23="","",IF(ISBLANK($S$2),"Preencher nr do jogo",IF(INDEX(AgentesDesportivos!$D:$D,MATCH(L23,AgentesDesportivos!$A:$A,0))="","Não inscrito",IF(INDEX(AgentesDesportivos!$K:$K,MATCH(L23,AgentesDesportivos!$A:$A,0))<>LEFT(L$6,FIND(" ",L$6&" ")-1),"Não inscrito no "&LEFT(L$6,FIND(" ",L$6&" ")-1),IF(INDEX(AgentesDesportivos!$L:$L,MATCH(L23,AgentesDesportivos!$A:$A,0))<IFERROR(MID(L$6,FIND(" ",L$6)+1,FIND(" ",L$6&" ",FIND(" ",L$6)+1)-FIND(" ",L$6)-1),"A"),"Jogador inscrito no "&INDEX(AgentesDesportivos!$K:$K,MATCH(L23,AgentesDesportivos!$A:$A,0))&" "&INDEX(AgentesDesportivos!$L:$L,MATCH(L23,AgentesDesportivos!$A:$A,0)),INDEX(AgentesDesportivos!$B:$B,MATCH(L23,AgentesDesportivos!$A:$A,0))))))) | P23: =MinutosVisitante!E16
A25: Substituições: | L25: Substituições:
B26: 1ª | C26: 2ª | D26: 3ª | E26: 4ª | F26: 5ª | G26: 6ª | H26: 7ª | I26: 8ª | M26: 1ª | N26: 2ª | O26: 3ª | P26: 4ª | Q26: 5ª | R26: 6ª | S26: 7ª | T26: 8ª
A27: Entra nº | L27: Entra nº
A28: Sai nº | L28: Sai nº
A29: Minuto (1 a 50) | L29: Minuto (1 a 50)
A31: Função | D31: FPC nº | E31: Nome | H31: CA | I31: CV | J31: CB | L31: Função | O31: FPC nº | P31: Nome | S31: CA | T31: CV | U31: CB
A32: Treinador | E32: =IF(D32="","",IF($S$2="","Preencher nr do jogo",IF(INDEX(AgentesDesportivos!$F:$F,MATCH(D32,AgentesDesportivos!$A:$A,0))="","Não inscrito",INDEX(AgentesDesportivos!$B:$B,MATCH(D32,AgentesDesportivos!$A:$A,0))))) | L32: Treinador | P32: =IF(O32="","",IF($S$2="","Preencher nr do jogo",IF(INDEX(AgentesDesportivos!$F:$F,MATCH(O32,AgentesDesportivos!$A:$A,0))="","Não inscrito",INDEX(AgentesDesportivos!$B:$B,MATCH(O32,AgentesDesportivos!$A:$A,0)))))
A33: Treinador Adjunto | E33: =IF(D33="","",IF($S$2="","Preencher nr do jogo",IF(INDEX(AgentesDesportivos!$F:$F,MATCH(D33,AgentesDesportivos!$A:$A,0))="","Não inscrito",INDEX(AgentesDesportivos!$B:$B,MATCH(D33,AgentesDesportivos!$A:$A,0))))) | L33: Treinador Adjunto | P33: =IF(O33="","",IF($S$2="","Preencher nr do jogo",IF(INDEX(AgentesDesportivos!$F:$F,MATCH(O33,AgentesDesportivos!$A:$A,0))="","Não inscrito",INDEX(AgentesDesportivos!$B:$B,MATCH(O33,AgentesDesportivos!$A:$A,0)))))
A34: Delegado/Dirigente | E34: =IF(D34="","",IF($S$2="","Preencher nr do jogo",IF(INDEX(AgentesDesportivos!$G:$G,MATCH(D34,AgentesDesportivos!$A:$A,0))="","Não inscrito",INDEX(AgentesDesportivos!$B:$B,MATCH(D34,AgentesDesportivos!$A:$A,0))))) | L34: Delegado/Dirigente | P34: =IF(O34="","",IF($S$2="","Preencher nr do jogo",IF(INDEX(AgentesDesportivos!$G:$G,MATCH(O34,AgentesDesportivos!$A:$A,0))="","Não inscrito",INDEX(AgentesDesportivos!$B:$B,MATCH(O34,AgentesDesportivos!$A:$A,0)))))
A35: Médico/Fisioterapeuta | E35: =IF(D35="","",IF($S$2="","Preencher nr do jogo",IF(INDEX(AgentesDesportivos!$I:$I,MATCH(D35,AgentesDesportivos!$A:$A,0))="","Não inscrito",INDEX(AgentesDesportivos!$B:$B,MATCH(D35,AgentesDesportivos!$A:$A,0))))) | L35: Médico/Fisioterapeuta | P35: =IF(O35="","",IF($S$2="","Preencher nr do jogo",IF(INDEX(AgentesDesportivos!$I:$I,MATCH(O35,AgentesDesportivos!$A:$A,0))="","Não inscrito",INDEX(AgentesDesportivos!$B:$B,MATCH(O35,AgentesDesportivos!$A:$A,0)))))
A36: P. Físico/Massagista | E36: =IF(D36="","",IF($S$2="","Preencher nr do jogo",IF(INDEX(AgentesDesportivos!$J:$J,MATCH(D36,AgentesDesportivos!$A:$A,0))="","Não inscrito",INDEX(AgentesDesportivos!$B:$B,MATCH(D36,AgentesDesportivos!$A:$A,0))))) | L36: P. Físico/Massagista | P36: =IF(O36="","",IF($S$2="","Preencher nr do jogo",IF(INDEX(AgentesDesportivos!$J:$J,MATCH(O36,AgentesDesportivos!$A:$A,0))="","Não inscrito",INDEX(AgentesDesportivos!$B:$B,MATCH(O36,AgentesDesportivos!$A:$A,0)))))
A37: Operador Audiovisual | E37: =IF(D37="","",IF($S$2="","Preencher nr do jogo",IF(INDEX(AgentesDesportivos!$M:$M,MATCH(D37,AgentesDesportivos!$A:$A,0))="","Não inscrito",INDEX(AgentesDesportivos!$B:$B,MATCH(D37,AgentesDesportivos!$A:$A,0))))) | L37: Operador Audiovisual | P37: =IF(O37="","",IF($S$2="","Preencher nr do jogo",IF(INDEX(AgentesDesportivos!$M:$M,MATCH(O37,AgentesDesportivos!$A:$A,0))="","Não inscrito",INDEX(AgentesDesportivos!$B:$B,MATCH(O37,AgentesDesportivos!$A:$A,0)))))
C39: Descontos de tempo (x) | N39: Descontos de tempo (x)
C40: Capitão de Equipa nº | N40: Capitão de Equipa nº
C41: Registo Audiovisual (x) | N41: Registo Audiovisual (x)
D43: Resultado ao intervalo
D44: =A6 | M44: =L6
D46: Resultado final
D47: =A6 | J47: =IF($S$2<>"",TEXT(SUM(G10:G23),"0"),"") | L47: =IF($S$2<>"",TEXT(SUM(R10:R23),"0"),"") | M47: =L6
...

Sheet Ocorrências e observações
A1: =IF(ISBLANK('Ficha de Jogo'!S2),"Ocorrências e observações do jogo ",CONCATENATE("Ocorrências e observações do jogo ",'Ficha de Jogo'!S2," entre ",'Ficha de Jogo'!A6," e ",'Ficha de Jogo'!L6)) -> Ocorrências e observações do jogo
A3: A preencher pelos capitães das equipas: (Qualquer protesto do jogo exige declaração formal neste espaço)
A5: ='Ficha de Jogo'!A6:K6
A7: ='Ficha de Jogo'!L6
A10: A preencher pelo árbitro: (Devem ser justificadas todas as medidas disciplinares)
A11: =IF('Ficha de Jogo'!$J$58&'Ficha de Jogo'!$K$58&'Ficha de Jogo'!$J$59&'Ficha de Jogo'!$K$59="","",'Ficha de Jogo'!$L$58&IF('Ficha de Jogo'!$J$59="",""," e "&'Ficha de Jogo'!$L$59))
A14: Cartão branco
A15: =$A$11
A18: A preencher pela FPC:

Sheet Calendário
A1: ORDEM | B1: JOGO | C1: CÓDIGO | D1: VISITADA | E1: VISITANTE | F1: DATA/HORA | G1: LOCAL | H1: OBS
A2: 1 | B2: 1.5 | D2: 10 e 11 Out | F2: 46303
A3: 2 | B3: 2 | C3: CN3D1.1 | D3: CASPAE | E3: CCRAM | F3: 46508.5 | G3: Pav. Mun. Mário Mexia (Coimbra)
A4: 3 | B4: 3 | C4: CN3D1.2 | D4: CCCD C | E4: KLX D | F4: 46306.667 | G4: EB Vieira da Silva (Carnaxide)
A5: 4 | B5: 4 | C5: CN3D1.3 | D5: CCO B | E5: KLX E | F5: 46502.667 | G5: EBS Amélia Rey Colaço (Linda-a-Velha)
A6: 5 | B6: 5 | C6: CN3D1.4 | D6: CRCQL C | E6: ADS4W B | F6: 46431.729 | G6: ES Carcavelos
A7: 6 | B7: 6 | C7: CN3D1.5 | D7: GDBD B | E7: NCB C | F7: 46362.708 | G7: ES Ramada
A8: 7 | B8: 7 | C8: CN3D1.6 | D8: OSC B | E8: NCB D | F8: 46306.792 | G8: EB Moinhos da Arroja (Odivelas) | H8: * Falta de comparência
A9: 8 | B9: 7.5 | D9: 17 e 18 Out | F9: 46310
B10: 8 | C10: CN3D2.1 | D10: ADS4W B | E10: CASPAE | F10: 46502.5 | G10: Pav. Mun. Mário Mexia (Coimbra)
B11: 9 | C11: CN3D2.2 | D11: CCRAM | E11: CCCD C | F11: 46312.667 | G11: Pav. Mun. Alto do Moinho
B12: 10 | C12: CN3D2.3 | D12: CRCQL C | E12: CCO B | F12: 46313.667 | G12: ES Carcavelos
B13: 11 | C13: CN3D2.4 | D13: GDBD B | E13: CCCD D | F13: 46313.792 | G13: ES Ramada
A14: 9 | B14: 12 | C14: CN3D2.5 | D14: NCB C | E14: OSC B | F14: 46312.792 | G14: ES José Gomes Ferreira (Benfica)
A15: 10 | B15: 13 | C15: CN3D2.6 | D15: NCB D | E15: KLX D
A16: 11 | B16: 13.5 | D16: 24 e 25 Out | F16: 46317
A17: 12 | B17: 14 | C17: CN3D3.1 | D17: CCCD C | E17: GDBD B | F17: 46319.75 | G17: EB Vieira da Silva (Carnaxide)
A18: 13 | B18: 15 | C18: CN3D3.2 | D18: CCCD D | E18: KLX E | F18: 46319.667 | G18: EB Vieira da Silva (Carnaxide)
A19: 14 | B19: 16 | C19: CN3D3.3 | D19: CCO B | E19: CCRAM | F19: 46320.667 | G19: EBS Amélia Rey Colaço (Linda-a-Velha)
A20: 15 | B20: 17 | C20: CN3D3.4 | D20: NCB C | E20: CRCQL C | F20: 46319.792 | G20: ES José Gomes Ferreira (Benfica)
A21: 16 | B21: 18 | C21: CN3D3.5 | D21: NCB D | E21: ADS4W B | G21: ES José Gomes Ferreira (Benfica)
B22: 19 | C22: CN3D3.6 | D22: OSC B | E22: CASPAE | F22: 46320.458 | G22: Pav. de Lordemão (Coimbra)
B23: 19.5 | D23: 31 Out e 1 de Nov | F23: 46324
B24: 20 | C24: CN3D4.1 | D24: ADS4W B | E24: KLX D | F24: 46327.75 | G24: EB Alfornelos
B25: 21 | C25: CN3D4.2 | D25: CCCD C | E25: CCO B | F25: 46326.75 | G25: EB Vieira da Silva (Carnaxide)
A26: 17 | B26: 22 | C26: CN3D4.3 | D26: CCCD D | E26: NCB C | F26: 46368.667 | G26: EB Vieira da Silva (Carnaxide)
A27: 18 | B27: 23 | C27: CN3D4.4 | D27: CCRAM | E27: NCB D | F27: 46326.667 | G27: Pav. Mun. Alto do Moinho
A28: 19 | B28: 24 | C28: CN3D4.5 | D28: CRCQL C | E28: GDBD B | F28: 46326.729 | G28: ES Carcavelos
A29: 20 | B29: 25 | C29: CN3D4.6 | D29: OSC B | E29: KLX E | F29: 46326.792 | G29: EB Moinhos da Arroja (Odivelas)
A30: 21 | B30: 25.5 | D30: 7 e 8 Nov | F30: 46331
A31: 22 | B31: 26 | C31: CN1D1.1 | D31: ADS4W | E31: KLX
A32: 23 | B32: 27 | C32: CN1D1.2 | D32: CRCQL | E32: CCCD | F32: 46396.812 | G32: ES Carcavelos
A33: 24 | B33: 28 | C33: CN2D1.1 | D33: CCO | E33: KLX C | F33: 46333.708 | G33: EBS Amélia Rey Colaço (Linda-a-Velha)
B34: 29 | C34: CN2D1.2 | D34: CRCQL B | E34: OSC | F34: 46334.75 | G34: ES Carcavelos
B35: 30 | C35: CN2D1.3 | D35: GDBD | E35: KLX B | F35: 46334.792 | G35: ES Ramada
B36: 31 | C36: CN2D1.4 | D36: NCB B | E36: CCCD B | F36: 46333.792 | G36: ES José Gomes Ferreira (Benfica)
B37: 32 | C37: CN3D5.1 | D37: ADS4W B | E37: KLX E | F37: 46333.625 | G37: EB Alfornelos
B38: 33 | C38: CN3D5.2 | D38: CASPAE | E38: KLX D | F38: 46334.458 | G38: Pav. Mun. Mário Mexia (Coimbra)
A39: 25 | B39: 34 | C39: CN3D5.3 | D39: CCO B | E39: CCCD D | F39: 46333.625 | G39: EBS Amélia Rey Colaço (Linda-a-Velha)
A40: 26 | B40: 35 | C40: CN3D5.4 | D40: CRCQL C | E40: CCRAM | F40: 46334.667 | G40: ES Carcavelos
...

Sheet Folha auxiliar substituições
A1: Folha Auxiliar
A2: =IF(ISBLANK('Ficha de Jogo'!S2),"Cálculo do tempo de jogo das substituições",CONCATENATE("Cálculo do tempo de jogo das substituições (jogo ",'Ficha de Jogo'!S2,")")) -> Cálculo do tempo de jogo das substituições | H2: Tempo de jogo | I2: =TIME(0,50,0) -> 0.034722222
A3: Equipa visitada: | F3: ='Ficha de Jogo'!A6 | H3: Número de períodos | I3: 4
A4: Equipa visitante: | F4: ='Ficha de Jogo'!L6 | H4: Tempo de golo de ouro | I4: =TIME(0,10,0) -> 0.0069444444
A5: # | B5: Equipa | C5: Entra jogador nr | D5: Sai jogador nr | E5: Período em que decorre a substituição exemplo: 1 | F5: Tempo no cronómetro (mmss) exemplo: 8 min e 37 seg -> escrever 837 | G5: Minuto (colocar na ficha de jogo) | H5: (auxiliar) Tempo total que já se jogou
A6: 1 | G6: =IF(ISBLANK(F6),"",IF(ISBLANK(E6),"Preencher período (coluna D)",ROUNDUP(MINUTE(H6)+SECOND(H6)/60,0))) | H6: =IF(OR(ISBLANK(E6),ISBLANK(F6)),"",IF(E6<>"Golo-de-ouro",E6*$I$2/4-TIME(0,QUOTIENT(F6,100),MOD(F6,100)),$I$2+$I$4-TIME(0,QUOTIENT(F6,100),MOD(F6,100))))
A7: 2 | G7: =IF(ISBLANK(F7),"",IF(ISBLANK(E7),"Preencher período (coluna D)",ROUNDUP(MINUTE(H7)+SECOND(H7)/60,0))) | H7: =IF(OR(ISBLANK(E7),ISBLANK(F7)),"",IF(E7<>"Golo-de-ouro",E7*$I$2/4-TIME(0,QUOTIENT(F7,100),MOD(F7,100)),$I$2+$I$4-TIME(0,QUOTIENT(F7,100),MOD(F7,100))))
A8: 3 | G8: =IF(ISBLANK(F8),"",IF(ISBLANK(E8),"Preencher período (coluna D)",ROUNDUP(MINUTE(H8)+SECOND(H8)/60,0))) | H8: =IF(OR(ISBLANK(E8),ISBLANK(F8)),"",IF(E8<>"Golo-de-ouro",E8*$I$2/4-TIME(0,QUOTIENT(F8,100),MOD(F8,100)),$I$2+$I$4-TIME(0,QUOTIENT(F8,100),MOD(F8,100))))
A9: 4 | G9: =IF(ISBLANK(F9),"",IF(ISBLANK(E9),"Preencher período (coluna D)",ROUNDUP(MINUTE(H9)+SECOND(H9)/60,0))) | H9: =IF(OR(ISBLANK(E9),ISBLANK(F9)),"",IF(E9<>"Golo-de-ouro",E9*$I$2/4-TIME(0,QUOTIENT(F9,100),MOD(F9,100)),$I$2+$I$4-TIME(0,QUOTIENT(F9,100),MOD(F9,100))))
A10: 5 | G10: =IF(ISBLANK(F10),"",IF(ISBLANK(E10),"Preencher período (coluna D)",ROUNDUP(MINUTE(H10)+SECOND(H10)/60,0))) | H10: =IF(OR(ISBLANK(E10),ISBLANK(F10)),"",IF(E10<>"Golo-de-ouro",E10*$I$2/4-TIME(0,QUOTIENT(F10,100),MOD(F10,100)),$I$2+$I$4-TIME(0,QUOTIENT(F10,100),MOD(F10,100))))
A11: 6 | G11: =IF(ISBLANK(F11),"",IF(ISBLANK(E11),"Preencher período (coluna D)",ROUNDUP(MINUTE(H11)+SECOND(H11)/60,0))) | H11: =IF(OR(ISBLANK(E11),ISBLANK(F11)),"",IF(E11<>"Golo-de-ouro",E11*$I$2/4-TIME(0,QUOTIENT(F11,100),MOD(F11,100)),$I$2+$I$4-TIME(0,QUOTIENT(F11,100),MOD(F11,100))))
A12: 7 | G12: =IF(ISBLANK(F12),"",IF(ISBLANK(E12),"Preencher período (coluna D)",ROUNDUP(MINUTE(H12)+SECOND(H12)/60,0))) | H12: =IF(OR(ISBLANK(E12),ISBLANK(F12)),"",IF(E12<>"Golo-de-ouro",E12*$I$2/4-TIME(0,QUOTIENT(F12,100),MOD(F12,100)),$I$2+$I$4-TIME(0,QUOTIENT(F12,100),MOD(F12,100))))
A13: 8 | G13: =IF(ISBLANK(F13),"",IF(ISBLANK(E13),"Preencher período (coluna D)",ROUNDUP(MINUTE(H13)+SECOND(H13)/60,0))) | H13: =IF(OR(ISBLANK(E13),ISBLANK(F13)),"",IF(E13<>"Golo-de-ouro",E13*$I$2/4-TIME(0,QUOTIENT(F13,100),MOD(F13,100)),$I$2+$I$4-TIME(0,QUOTIENT(F13,100),MOD(F13,100))))
A14: 9 | G14: =IF(ISBLANK(F14),"",IF(ISBLANK(E14),"Preencher período (coluna D)",ROUNDUP(MINUTE(H14)+SECOND(H14)/60,0))) | H14: =IF(OR(ISBLANK(E14),ISBLANK(F14)),"",IF(E14<>"Golo-de-ouro",E14*$I$2/4-TIME(0,QUOTIENT(F14,100),MOD(F14,100)),$I$2+$I$4-TIME(0,QUOTIENT(F14,100),MOD(F14,100))))
A15: 10 | G15: =IF(ISBLANK(F15),"",IF(ISBLANK(E15),"Preencher período (coluna D)",ROUNDUP(MINUTE(H15)+SECOND(H15)/60,0))) | H15: =IF(OR(ISBLANK(E15),ISBLANK(F15)),"",IF(E15<>"Golo-de-ouro",E15*$I$2/4-TIME(0,QUOTIENT(F15,100),MOD(F15,100)),$I$2+$I$4-TIME(0,QUOTIENT(F15,100),MOD(F15,100))))
A16: 11 | G16: =IF(ISBLANK(F16),"",IF(ISBLANK(E16),"Preencher período (coluna D)",ROUNDUP(MINUTE(H16)+SECOND(H16)/60,0))) | H16: =IF(OR(ISBLANK(E16),ISBLANK(F16)),"",IF(E16<>"Golo-de-ouro",E16*$I$2/4-TIME(0,QUOTIENT(F16,100),MOD(F16,100)),$I$2+$I$4-TIME(0,QUOTIENT(F16,100),MOD(F16,100))))
A17: 12 | G17: =IF(ISBLANK(F17),"",IF(ISBLANK(E17),"Preencher período (coluna D)",ROUNDUP(MINUTE(H17)+SECOND(H17)/60,0))) | H17: =IF(OR(ISBLANK(E17),ISBLANK(F17)),"",IF(E17<>"Golo-de-ouro",E17*$I$2/4-TIME(0,QUOTIENT(F17,100),MOD(F17,100)),$I$2+$I$4-TIME(0,QUOTIENT(F17,100),MOD(F17,100))))
... A25: 20 | G25: =IF(ISBLANK(F25),"",IF(ISBLANK(E25),"Preencher período (coluna D)",ROUNDUP(MINUTE(H25)+SECOND(H25)/60,0))) | H25: =IF(OR(ISBLANK(E25),ISBLANK(F25)),"",IF(E25<>"Golo-de-ouro",E25*$I$2/4-TIME(0,QUOTIENT(F25,100),MOD(F25,100)),$I$2+$I$4-TIME(0,QUOTIENT(F25,100),MOD(F25,100))))

Sheet Folha auxiliar cartão amarelo
A1: Folha Auxiliar | G1: Tempo de jogo | H1: =TIME(0,50,0) -> 0.034722222
A2: =IF(ISBLANK('Ficha de Jogo'!S2),"Cálculo do tempo de suspensão devido a cartão amarelo",CONCATENATE("Cálculo do tempo de suspensão devido a cartão amarelo (jogo ",'Ficha de Jogo'!S2,")")) -> Cálculo do tempo de suspensão devido a cartão amarelo | G2: Número de períodos | H2: 4
A3: Equipa visitada: | E3: ='Ficha de Jogo'!A6 | G3: Tempo de golo de ouro | H3: =TIME(0,10,0) -> 0.0069444444
A4: Equipa visitante: | E4: ='Ficha de Jogo'!L6 | G4: Tempo de suspensão | H4: =TIME(0,4,0) -> 0.0027777778
A5: # | B5: Equipa | C5: Nome agente desportivo | D5: Período em ocorreu a suspensão exemplo: 1 | E5: Tempo no cronómetro (mmss) exemplo: 8 min e 37 seg -> escrever 837 | F5: Momento em que a suspensão de 4 minutos termina | G5: (auxiliar) Período em que volta a entrar | H5: (auxiliar) Tempo total que falta jogar | I5: (auxiliar) Tempo total que falta jogar após suspensão | J5: (auxiliar) Tempo que falta jogar após suspensão no período em causa
A6: 1 | F6: =IF(ISBLANK(E6),"",IF(ISBLANK(D6),"Preencher período (coluna D e/ou F)",IF(G6<>"Não volta a entrar",_xlfn.CONCAT(G6,": ",MINUTE(J6),":",SECOND(J6)),G6))) | G6: =IF(OR(ISBLANK(D6),ISBLANK(E6)),"",IF(D6<>"Golo-de-ouro",IF(E6-400>0,_xlfn.CONCAT("Período ",D6),IF(D6=4,_xlfn.CONCAT("Não volta a entrar ou Golo de ouro"),_xlfn.CONCAT("Período ", D6+1))),IF(E6-400>0,_xlfn.CONCAT("Golo-de-ouro"),"Não volta a entrar"))) | H6: =IF(OR(ISBLANK(D6),ISBLANK(E6)),"",IF(D6<>"Golo-de-ouro",$H$1-D6*$H$1/$H$2+TIME(0,QUOTIENT(E6,100),MOD(E6,100)),TIME(0,QUOTIENT(E6,100),MOD(E6,100)))) | I6: =IF(OR(ISBLANK(D6),ISBLANK(E6)),"",IF($H$4<H6,H6-$H$4,H6+$H$3-$H$4)) | J6: =IF(OR(ISBLANK(D6),ISBLANK(E6)),"",IF($H$4<H6,I6-_xlfn.FLOOR.MATH(I6/($H$1/$H$2))*$H$1/$H$2,I6))
A7: 2 | F7: =IF(ISBLANK(E7),"",IF(ISBLANK(D7),"Preencher período (coluna D e/ou F)",IF(G7<>"Não volta a entrar",_xlfn.CONCAT(G7,": ",MINUTE(J7),":",SECOND(J7)),G7))) | G7: =IF(OR(ISBLANK(D7),ISBLANK(E7)),"",IF(D7<>"Golo-de-ouro",IF(E7-400>0,_xlfn.CONCAT("Período ",D7),IF(D7=4,_xlfn.CONCAT("Não volta a entrar ou Golo de ouro"),_xlfn.CONCAT("Período ", D7+1))),IF(E7-400>0,_xlfn.CONCAT("Golo-de-ouro"),"Não volta a entrar"))) | H7: =IF(OR(ISBLANK(D7),ISBLANK(E7)),"",IF(D7<>"Golo-de-ouro",$H$1-D7*$H$1/$H$2+TIME(0,QUOTIENT(E7,100),MOD(E7,100)),TIME(0,QUOTIENT(E7,100),MOD(E7,100)))) | I7: =IF(OR(ISBLANK(D7),ISBLANK(E7)),"",IF($H$4<H7,H7-$H$4,H7+$H$3-$H$4)) | J7: =IF(OR(ISBLANK(D7),ISBLANK(E7)),"",IF($H$4<H7,I7-_xlfn.FLOOR.MATH(I7/($H$1/$H$2))*$H$1/$H$2,I7))
A8: 3 | F8: =IF(ISBLANK(E8),"",IF(ISBLANK(D8),"Preencher período (coluna D e/ou F)",IF(G8<>"Não volta a entrar",_xlfn.CONCAT(G8,": ",MINUTE(J8),":",SECOND(J8)),G8))) | G8: =IF(OR(ISBLANK(D8),ISBLANK(E8)),"",IF(D8<>"Golo-de-ouro",IF(E8-400>0,_xlfn.CONCAT("Período ",D8),IF(D8=4,_xlfn.CONCAT("Não volta a entrar ou Golo de ouro"),_xlfn.CONCAT("Período ", D8+1))),IF(E8-400>0,_xlfn.CONCAT("Golo-de-ouro"),"Não volta a entrar"))) | H8: =IF(OR(ISBLANK(D8),ISBLANK(E8)),"",IF(D8<>"Golo-de-ouro",$H$1-D8*$H$1/$H$2+TIME(0,QUOTIENT(E8,100),MOD(E8,100)),TIME(0,QUOTIENT(E8,100),MOD(E8,100)))) | I8: =IF(OR(ISBLANK(D8),ISBLANK(E8)),"",IF($H$4<H8,H8-$H$4,H8+$H$3-$H$4)) | J8: =IF(OR(ISBLANK(D8),ISBLANK(E8)),"",IF($H$4<H8,I8-_xlfn.FLOOR.MATH(I8/($H$1/$H$2))*$H$1/$H$2,I8))
A9: 4 | F9: =IF(ISBLANK(E9),"",IF(ISBLANK(D9),"Preencher período (coluna D e/ou F)",IF(G9<>"Não volta a entrar",_xlfn.CONCAT(G9,": ",MINUTE(J9),":",SECOND(J9)),G9))) | G9: =IF(OR(ISBLANK(D9),ISBLANK(E9)),"",IF(D9<>"Golo-de-ouro",IF(E9-400>0,_xlfn.CONCAT("Período ",D9),IF(D9=4,_xlfn.CONCAT("Não volta a entrar ou Golo de ouro"),_xlfn.CONCAT("Período ", D9+1))),IF(E9-400>0,_xlfn.CONCAT("Golo-de-ouro"),"Não volta a entrar"))) | H9: =IF(OR(ISBLANK(D9),ISBLANK(E9)),"",IF(D9<>"Golo-de-ouro",$H$1-D9*$H$1/$H$2+TIME(0,QUOTIENT(E9,100),MOD(E9,100)),TIME(0,QUOTIENT(E9,100),MOD(E9,100)))) | I9: =IF(OR(ISBLANK(D9),ISBLANK(E9)),"",IF($H$4<H9,H9-$H$4,H9+$H$3-$H$4)) | J9: =IF(OR(ISBLANK(D9),ISBLANK(E9)),"",IF($H$4<H9,I9-_xlfn.FLOOR.MATH(I9/($H$1/$H$2))*$H$1/$H$2,I9))
A10: 5 | F10: =IF(ISBLANK(E10),"",IF(ISBLANK(D10),"Preencher período (coluna D e/ou F)",IF(G10<>"Não volta a entrar",_xlfn.CONCAT(G10,": ",MINUTE(J10),":",SECOND(J10)),G10))) | G10: =IF(OR(ISBLANK(D10),ISBLANK(E10)),"",IF(D10<>"Golo-de-ouro",IF(E10-400>0,_xlfn.CONCAT("Período ",D10),IF(D10=4,_xlfn.CONCAT("Não volta a entrar ou Golo de ouro"),_xlfn.CONCAT("Período ", D10+1))),IF(E10-400>0,_xlfn.CONCAT("Golo-de-ouro"),"Não volta a entrar"))) | H10: =IF(OR(ISBLANK(D10),ISBLANK(E10)),"",IF(D10<>"Golo-de-ouro",$H$1-D10*$H$1/$H$2+TIME(0,QUOTIENT(E10,100),MOD(E10,100)),TIME(0,QUOTIENT(E10,100),MOD(E10,100)))) | I10: =IF(OR(ISBLANK(D10),ISBLANK(E10)),"",IF($H$4<H10,H10-$H$4,H10+$H$3-$H$4)) | J10: =IF(OR(ISBLANK(D10),ISBLANK(E10)),"",IF($H$4<H10,I10-_xlfn.FLOOR.MATH(I10/($H$1/$H$2))*$H$1/$H$2,I10))
A11: 6 | F11: =IF(ISBLANK(E11),"",IF(ISBLANK(D11),"Preencher período (coluna D e/ou F)",IF(G11<>"Não volta a entrar",_xlfn.CONCAT(G11,": ",MINUTE(J11),":",SECOND(J11)),G11))) | G11: =IF(OR(ISBLANK(D11),ISBLANK(E11)),"",IF(D11<>"Golo-de-ouro",IF(E11-400>0,_xlfn.CONCAT("Período ",D11),IF(D11=4,_xlfn.CONCAT("Não volta a entrar ou Golo de ouro"),_xlfn.CONCAT("Período ", D11+1))),IF(E11-400>0,_xlfn.CONCAT("Golo-de-ouro"),"Não volta a entrar"))) | H11: =IF(OR(ISBLANK(D11),ISBLANK(E11)),"",IF(D11<>"Golo-de-ouro",$H$1-D11*$H$1/$H$2+TIME(0,QUOTIENT(E11,100),MOD(E11,100)),TIME(0,QUOTIENT(E11,100),MOD(E11,100)))) | I11: =IF(OR(ISBLANK(D11),ISBLANK(E11)),"",IF($H$4<H11,H11-$H$4,H11+$H$3-$H$4)) | J11: =IF(OR(ISBLANK(D11),ISBLANK(E11)),"",IF($H$4<H11,I11-_xlfn.FLOOR.MATH(I11/($H$1/$H$2))*$H$1/$H$2,I11))
A12: 7 | F12: =IF(ISBLANK(E12),"",IF(ISBLANK(D12),"Preencher período (coluna D e/ou F)",IF(G12<>"Não volta a entrar",_xlfn.CONCAT(G12,": ",MINUTE(J12),":",SECOND(J12)),G12))) | G12: =IF(OR(ISBLANK(D12),ISBLANK(E12)),"",IF(D12<>"Golo-de-ouro",IF(E12-400>0,_xlfn.CONCAT("Período ",D12),IF(D12=4,_xlfn.CONCAT("Não volta a entrar ou Golo de ouro"),_xlfn.CONCAT("Período ", D12+1))),IF(E12-400>0,_xlfn.CONCAT("Golo-de-ouro"),"Não volta a entrar"))) | H12: =IF(OR(ISBLANK(D12),ISBLANK(E12)),"",IF(D12<>"Golo-de-ouro",$H$1-D12*$H$1/$H$2+TIME(0,QUOTIENT(E12,100),MOD(E12,100)),TIME(0,QUOTIENT(E12,100),MOD(E12,100)))) | I12: =IF(OR(ISBLANK(D12),ISBLANK(E12)),"",IF($H$4<H12,H12-$H$4,H12+$H$3-$H$4)) | J12: =IF(OR(ISBLANK(D12),ISBLANK(E12)),"",IF($H$4<H12,I12-_xlfn.FLOOR.MATH(I12/($H$1/$H$2))*$H$1/$H$2,I12))
A13: 8 | F13: =IF(ISBLANK(E13),"",IF(ISBLANK(D13),"Preencher período (coluna D e/ou F)",IF(G13<>"Não volta a entrar",_xlfn.CONCAT(G13,": ",MINUTE(J13),":",SECOND(J13)),G13))) | G13: =IF(OR(ISBLANK(D13),ISBLANK(E13)),"",IF(D13<>"Golo-de-ouro",IF(E13-400>0,_xlfn.CONCAT("Período ",D13),IF(D13=4,_xlfn.CONCAT("Não volta a entrar ou Golo de ouro"),_xlfn.CONCAT("Período ", D13+1))),IF(E13-400>0,_xlfn.CONCAT("Golo-de-ouro"),"Não volta a entrar"))) | H13: =IF(OR(ISBLANK(D13),ISBLANK(E13)),"",IF(D13<>"Golo-de-ouro",$H$1-D13*$H$1/$H$2+TIME(0,QUOTIENT(E13,100),MOD(E13,100)),TIME(0,QUOTIENT(E13,100),MOD(E13,100)))) | I13: =IF(OR(ISBLANK(D13),ISBLANK(E13)),"",IF($H$4<H13,H13-$H$4,H13+$H$3-$H$4)) | J13: =IF(OR(ISBLANK(D13),ISBLANK(E13)),"",IF($H$4<H13,I13-_xlfn.FLOOR.MATH(I13/($H$1/$H$2))*$H$1/$H$2,I13))
A14: 9 | F14: =IF(ISBLANK(E14),"",IF(ISBLANK(D14),"Preencher período (coluna D e/ou F)",IF(G14<>"Não volta a entrar",_xlfn.CONCAT(G14,": ",MINUTE(J14),":",SECOND(J14)),G14))) | G14: =IF(OR(ISBLANK(D14),ISBLANK(E14)),"",IF(D14<>"Golo-de-ouro",IF(E14-400>0,_xlfn.CONCAT("Período ",D14),IF(D14=4,_xlfn.CONCAT("Não volta a entrar ou Golo de ouro"),_xlfn.CONCAT("Período ", D14+1))),IF(E14-400>0,_xlfn.CONCAT("Golo-de-ouro"),"Não volta a entrar"))) | H14: =IF(OR(ISBLANK(D14),ISBLANK(E14)),"",IF(D14<>"Golo-de-ouro",$H$1-D14*$H$1/$H$2+TIME(0,QUOTIENT(E14,100),MOD(E14,100)),TIME(0,QUOTIENT(E14,100),MOD(E14,100)))) | I14: =IF(OR(ISBLANK(D14),ISBLANK(E14)),"",IF($H$4<H14,H14-$H$4,H14+$H$3-$H$4)) | J14: =IF(OR(ISBLANK(D14),ISBLANK(E14)),"",IF($H$4<H14,I14-_xlfn.FLOOR.MATH(I14/($H$1/$H$2))*$H$1/$H$2,I14))
A15: 10 | F15: =IF(ISBLANK(E15),"",IF(ISBLANK(D15),"Preencher período (coluna D e/ou F)",IF(G15<>"Não volta a entrar",_xlfn.CONCAT(G15,": ",MINUTE(J15),":",SECOND(J15)),G15))) | G15: =IF(OR(ISBLANK(D15),ISBLANK(E15)),"",IF(D15<>"Golo-de-ouro",IF(E15-400>0,_xlfn.CONCAT("Período ",D15),IF(D15=4,_xlfn.CONCAT("Não volta a entrar ou Golo de ouro"),_xlfn.CONCAT("Período ", D15+1))),IF(E15-400>0,_xlfn.CONCAT("Golo-de-ouro"),"Não volta a entrar"))) | H15: =IF(OR(ISBLANK(D15),ISBLANK(E15)),"",IF(D15<>"Golo-de-ouro",$H$1-D15*$H$1/$H$2+TIME(0,QUOTIENT(E15,100),MOD(E15,100)),TIME(0,QUOTIENT(E15,100),MOD(E15,100)))) | I15: =IF(OR(ISBLANK(D15),ISBLANK(E15)),"",IF($H$4<H15,H15-$H$4,H15+$H$3-$H$4)) | J15: =IF(OR(ISBLANK(D15),ISBLANK(E15)),"",IF($H$4<H15,I15-_xlfn.FLOOR.MATH(I15/($H$1/$H$2))*$H$1/$H$2,I15))
A16: 11 | F16: =IF(ISBLANK(E16),"",IF(ISBLANK(D16),"Preencher período (coluna D e/ou F)",IF(G16<>"Não volta a entrar",_xlfn.CONCAT(G16,": ",MINUTE(J16),":",SECOND(J16)),G16))) | G16: =IF(OR(ISBLANK(D16),ISBLANK(E16)),"",IF(D16<>"Golo-de-ouro",IF(E16-400>0,_xlfn.CONCAT("Período ",D16),IF(D16=4,_xlfn.CONCAT("Não volta a entrar ou Golo de ouro"),_xlfn.CONCAT("Período ", D16+1))),IF(E16-400>0,_xlfn.CONCAT("Golo-de-ouro"),"Não volta a entrar"))) | H16: =IF(OR(ISBLANK(D16),ISBLANK(E16)),"",IF(D16<>"Golo-de-ouro",$H$1-D16*$H$1/$H$2+TIME(0,QUOTIENT(E16,100),MOD(E16,100)),TIME(0,QUOTIENT(E16,100),MOD(E16,100)))) | I16: =IF(OR(ISBLANK(D16),ISBLANK(E16)),"",IF($H$4<H16,H16-$H$4,H16+$H$3-$H$4)) | J16: =IF(OR(ISBLANK(D16),ISBLANK(E16)),"",IF($H$4<H16,I16-_xlfn.FLOOR.MATH(I16/($H$1/$H$2))*$H$1/$H$2,I16))
A17: 12 | F17: =IF(ISBLANK(E17),"",IF(ISBLANK(D17),"Preencher período (coluna D e/ou F)",IF(G17<>"Não volta a entrar",_xlfn.CONCAT(G17,": ",MINUTE(J17),":",SECOND(J17)),G17))) | G17: =IF(OR(ISBLANK(D17),ISBLANK(E17)),"",IF(D17<>"Golo-de-ouro",IF(E17-400>0,_xlfn.CONCAT("Período ",D17),IF(D17=4,_xlfn.CONCAT("Não volta a entrar ou Golo de ouro"),_xlfn.CONCAT("Período ", D17+1))),IF(E17-400>0,_xlfn.CONCAT("Golo-de-ouro"),"Não volta a entrar"))) | H17: =IF(OR(ISBLANK(D17),ISBLANK(E17)),"",IF(D17<>"Golo-de-ouro",$H$1-D17*$H$1/$H$2+TIME(0,QUOTIENT(E17,100),MOD(E17,100)),TIME(0,QUOTIENT(E17,100),MOD(E17,100)))) | I17: =IF(OR(ISBLANK(D17),ISBLANK(E17)),"",IF($H$4<H17,H17-$H$4,H17+$H$3-$H$4)) | J17: =IF(OR(ISBLANK(D17),ISBLANK(E17)),"",IF($H$4<H17,I17-_xlfn.FLOOR.MATH(I17/($H$1/$H$2))*$H$1/$H$2,I17))
... A20: 15 | F20: =IF(ISBLANK(E20),"",IF(ISBLANK(D20),"Preencher período (coluna D e/ou F)",IF(G20<>"Não volta a entrar",_xlfn.CONCAT(G20,": ",MINUTE(J20),":",SECOND(J20)),G20))) | G20: =IF(OR(ISBLANK(D20),ISBLANK(E20)),"",IF(D20<>"Golo-de-ouro",IF(E20-400>0,_xlfn.CONCAT("Período ",D20),IF(D20=4,_xlfn.CONCAT("Não volta a entrar ou Golo de ouro"),_xlfn.CONCAT("Período ", D20+1))),IF(E20-400>0,_xlfn.CONCAT("Golo-de-ouro"),"Não volta a entrar"))) | H20: =IF(OR(ISBLANK(D20),ISBLANK(E20)),"",IF(D20<>"Golo-de-ouro",$H$1-D20*$H$1/$H$2+TIME(0,QUOTIENT(E20,100),MOD(E20,100)),TIME(0,QUOTIENT(E20,100),MOD(E20,100)))) | I20: =IF(OR(ISBLANK(D20),ISBLANK(E20)),"",IF($H$4<H20,H20-$H$4,H20+$H$3-$H$4)) | J20: =IF(OR(ISBLANK(D20),ISBLANK(E20)),"",IF($H$4<H20,I20-_xlfn.FLOOR.MATH(I20/($H$1/$H$2))*$H$1/$H$2,I20))
A21: 16 | F21: =IF(ISBLANK(E21),"",IF(ISBLANK(D21),"Preencher período (coluna D e/ou F)",IF(G21<>"Não volta a entrar",_xlfn.CONCAT(G21,": ",MINUTE(J21),":",SECOND(J21)),G21))) | G21: =IF(OR(ISBLANK(D21),ISBLANK(E21)),"",IF(D21<>"Golo-de-ouro",IF(E21-400>0,_xlfn.CONCAT("Período ",D21),IF(D21=4,_xlfn.CONCAT("Não volta a entrar ou Golo de ouro"),_xlfn.CONCAT("Período ", D21+1))),IF(E21-400>0,_xlfn.CONCAT("Golo-de-ouro"),"Não volta a entrar"))) | H21: =IF(OR(ISBLANK(D21),ISBLANK(E21)),"",$H$1-D21*$H$1/$H$2+TIME(0,QUOTIENT(E21,100),MOD(E21,100))) | I21: =IF(OR(ISBLANK(D21),ISBLANK(E21)),"",IF($H$4<H21,H21-$H$4,H21+$H$3-$H$4)) | J21: =IF(OR(ISBLANK(D21),ISBLANK(E21)),"",IF($H$4<H21,I21-_xlfn.FLOOR.MATH(I21/($H$1/$H$2))*$H$1/$H$2,I21))
A22: 17 | F22: =IF(ISBLANK(E22),"",IF(ISBLANK(D22),"Preencher período (coluna D e/ou F)",IF(G22<>"Não volta a entrar",_xlfn.CONCAT(G22,": ",MINUTE(J22),":",SECOND(J22)),G22))) | G22: =IF(OR(ISBLANK(D22),ISBLANK(E22)),"",IF(D22<>"Golo-de-ouro",IF(E22-400>0,_xlfn.CONCAT("Período ",D22),IF(D22=4,_xlfn.CONCAT("Não volta a entrar ou Golo de ouro"),_xlfn.CONCAT("Período ", D22+1))),IF(E22-400>0,_xlfn.CONCAT("Golo-de-ouro"),"Não volta a entrar"))) | H22: =IF(OR(ISBLANK(D22),ISBLANK(E22)),"",$H$1-D22*$H$1/$H$2+TIME(0,QUOTIENT(E22,100),MOD(E22,100))) | I22: =IF(OR(ISBLANK(D22),ISBLANK(E22)),"",IF($H$4<H22,H22-$H$4,H22+$H$3-$H$4)) | J22: =IF(OR(ISBLANK(D22),ISBLANK(E22)),"",IF($H$4<H22,I22-_xlfn.FLOOR.MATH(I22/($H$1/$H$2))*$H$1/$H$2,I22))
A23: 18 | F23: =IF(ISBLANK(E23),"",IF(ISBLANK(D23),"Preencher período (coluna D e/ou F)",IF(G23<>"Não volta a entrar",_xlfn.CONCAT(G23,": ",MINUTE(J23),":",SECOND(J23)),G23))) | G23: =IF(OR(ISBLANK(D23),ISBLANK(E23)),"",IF(D23<>"Golo-de-ouro",IF(E23-400>0,_xlfn.CONCAT("Período ",D23),IF(D23=4,_xlfn.CONCAT("Não volta a entrar ou Golo de ouro"),_xlfn.CONCAT("Período ", D23+1))),IF(E23-400>0,_xlfn.CONCAT("Golo-de-ouro"),"Não volta a entrar"))) | H23: =IF(OR(ISBLANK(D23),ISBLANK(E23)),"",$H$1-D23*$H$1/$H$2+TIME(0,QUOTIENT(E23,100),MOD(E23,100))) | I23: =IF(OR(ISBLANK(D23),ISBLANK(E23)),"",IF($H$4<H23,H23-$H$4,H23+$H$3-$H$4)) | J23: =IF(OR(ISBLANK(D23),ISBLANK(E23)),"",IF($H$4<H23,I23-_xlfn.FLOOR.MATH(I23/($H$1/$H$2))*$H$1/$H$2,I23))
A24: 19 | F24: =IF(ISBLANK(E24),"",IF(ISBLANK(D24),"Preencher período (coluna D e/ou F)",IF(G24<>"Não volta a entrar",_xlfn.CONCAT(G24,": ",MINUTE(J24),":",SECOND(J24)),G24))) | G24: =IF(OR(ISBLANK(D24),ISBLANK(E24)),"",IF(D24<>"Golo-de-ouro",IF(E24-400>0,_xlfn.CONCAT("Período ",D24),IF(D24=4,_xlfn.CONCAT("Não volta a entrar ou Golo de ouro"),_xlfn.CONCAT("Período ", D24+1))),IF(E24-400>0,_xlfn.CONCAT("Golo-de-ouro"),"Não volta a entrar"))) | H24: =IF(OR(ISBLANK(D24),ISBLANK(E24)),"",$H$1-D24*$H$1/$H$2+TIME(0,QUOTIENT(E24,100),MOD(E24,100))) | I24: =IF(OR(ISBLANK(D24),ISBLANK(E24)),"",IF($H$4<H24,H24-$H$4,H24+$H$3-$H$4)) | J24: =IF(OR(ISBLANK(D24),ISBLANK(E24)),"",IF($H$4<H24,I24-_xlfn.FLOOR.MATH(I24/($H$1/$H$2))*$H$1/$H$2,I24))
A25: 20 | F25: =IF(ISBLANK(E25),"",IF(ISBLANK(D25),"Preencher período (coluna D e/ou F)",IF(G25<>"Não volta a entrar",_xlfn.CONCAT(G25,": ",MINUTE(J25),":",SECOND(J25)),G25))) | G25: =IF(OR(ISBLANK(D25),ISBLANK(E25)),"",IF(D25<>"Golo-de-ouro",IF(E25-400>0,_xlfn.CONCAT("Período ",D25),IF(D25=4,_xlfn.CONCAT("Não volta a entrar ou Golo de ouro"),_xlfn.CONCAT("Período ", D25+1))),IF(E25-400>0,_xlfn.CONCAT("Golo-de-ouro"),"Não volta a entrar"))) | H25: =IF(OR(ISBLANK(D25),ISBLANK(E25)),"",$H$1-D25*$H$1/$H$2+TIME(0,QUOTIENT(E25,100),MOD(E25,100))) | I25: =IF(OR(ISBLANK(D25),ISBLANK(E25)),"",IF($H$4<H25,H25-$H$4,H25+$H$3-$H$4)) | J25: =IF(OR(ISBLANK(D25),ISBLANK(E25)),"",IF($H$4<H25,I25-_xlfn.FLOOR.MATH(I25/($H$1/$H$2))*$H$1/$H$2,I25))

Sheet AgentesDesportivos
A1: Nº | B1: Nome | C1: Sexo | D1: Jog | E1: Árb | F1: Trei | G1: Dir | H1: ST | I1: Fisio | J1: PF | K1: Clube | L1: Equipa | M1: Audiovisual
A2: 1 | M2: =IF(COUNTA($D2:$J2)>0,"x","") | O2: Jogador | P2: 3 | Q2: Coluna C
A3: 2 | M3: =IF(COUNTA($D3:$J3)>0,"x","") | O3: Árbitro | P3: 4 | Q3: Coluna D
A4: 3 | M4: =IF(COUNTA($D4:$J4)>0,"x","") | O4: Treinador | P4: 5 | Q4: Coluna E
A5: 4 | M5: =IF(COUNTA($D5:$J5)>0,"x","") | O5: Dirigente | P5: 6 | Q5: Coluna F
A6: 5 | M6: =IF(COUNTA($D6:$J6)>0,"x","") | O6: ST | P6: 7 | Q6: Coluna G
A7: 6 | B7: Jorge Alves | C7: M | K7: CRCQL | M7: =IF(COUNTA($D7:$J7)>0,"x","") | O7: Med_Fisio | P7: 8 | Q7: Coluna H
A8: 7 | B8: Isabel Teixeira | C8: F | F8: x | G8: x | K8: OSC | M8: =IF(COUNTA($D8:$J8)>0,"x","") -> x | O8: PrepFisico_Massag | P8: 9 | Q8: Coluna I
A9: 8 | M9: =IF(COUNTA($D9:$J9)>0,"x","") | O9: Operador Audiovisual | P9: 12 | Q9: Coluna K
A10: 9 | M10: =IF(COUNTA($D10:$J10)>0,"x","")
A11: 10 | M11: =IF(COUNTA($D11:$J11)>0,"x","") | O11: Clube | P11: (All)
A12: 11 | M12: =IF(COUNTA($D12:$J12)>0,"x","") | O12: Jog | P12: x
A13: 12 | M13: =IF(COUNTA($D13:$J13)>0,"x","")
A14: 13 | M14: =IF(COUNTA($D14:$J14)>0,"x","") | O14: Row Labels | P14: Count of Sexo
A15: 14 | M15: =IF(COUNTA($D15:$J15)>0,"x","") | O15: A | P15: 83
A16: 15 | B16: Vasco Condado | C16: M | M16: =IF(COUNTA($D16:$J16)>0,"x","") | O16: F | P16: 39
A17: 16 | M17: =IF(COUNTA($D17:$J17)>0,"x","") | O17: M | P17: 44
A18: 17 | B18: Marco Gonçalves | C18: M | H18: x | M18: =IF(COUNTA($D18:$J18)>0,"x","") -> x | O18: B | P18: 123
A19: 18 | M19: =IF(COUNTA($D19:$J19)>0,"x","") | O19: F | P19: 65
A20: 19 | B20: Duarte Alão | C20: M | F20: x | M20: =IF(COUNTA($D20:$J20)>0,"x","") -> x | O20: M | P20: 58
A21: 20 | M21: =IF(COUNTA($D21:$J21)>0,"x","") | O21: C | P21: 44
A22: 21 | M22: =IF(COUNTA($D22:$J22)>0,"x","") | O22: F | P22: 24
A23: 22 | B23: Vitor Machado | C23: M | M23: =IF(COUNTA($D23:$J23)>0,"x","") | O23: M | P23: 20
A24: 23 | B24: Carla Antunes | C24: F | M24: =IF(COUNTA($D24:$J24)>0,"x","") | O24: (blank)
A25: 24 | M25: =IF(COUNTA($D25:$J25)>0,"x","") | O25: D | P25: 39
A26: 25 | M26: =IF(COUNTA($D26:$J26)>0,"x","") | O26: F | P26: 16
A27: 26 | M27: =IF(COUNTA($D27:$J27)>0,"x","") | O27: M | P27: 23
A28: 27 | M28: =IF(COUNTA($D28:$J28)>0,"x","") | O28: E | P28: 26
A29: 28 | M29: =IF(COUNTA($D29:$J29)>0,"x","") | O29: F | P29: 13
A30: 29 | M30: =IF(COUNTA($D30:$J30)>0,"x","") | O30: M | P30: 13
A31: 30 | M31: =IF(COUNTA($D31:$J31)>0,"x","") | O31: Grand Total | P31: 315
A32: 31 | B32: Rogério Lourenço | C32: M | M32: =IF(COUNTA($D32:$J32)>0,"x","")
A33: 32 | M33: =IF(COUNTA($D33:$J33)>0,"x","")
A34: 33 | M34: =IF(COUNTA($D34:$J34)>0,"x","")
A35: 34 | M35: =IF(COUNTA($D35:$J35)>0,"x","")
A36: 35 | M36: =IF(COUNTA($D36:$J36)>0,"x","")
A37: 36 | B37: Pedro Berjano | C37: M | D37: x | F37: x | H37: x | K37: CCO | L37: B | M37: =IF(COUNTA($D37:$J37)>0,"x","") -> x
A38: 37 | M38: =IF(COUNTA($D38:$J38)>0,"x","")
A39: 38 | B39: Marta Jorge | C39: F | D39: x | H39: x | K39: KLX | L39: D | M39: =IF(COUNTA($D39:$J39)>0,"x","") -> x
A40: 39 | M40: =IF(COUNTA($D40:$J40)>0,"x","")
...

Sheet MinutosVisitada
A1: ='Ficha de Jogo'!A6 | AC1: Equipa em jogo
A2: ='Ficha de Jogo'!L9 -> FPC nº | B2: ='Ficha de Jogo'!M9 -> Jogador nº | C2: ='Ficha de Jogo'!N9 -> Nome | D2: ='Ficha de Jogo'!Q9 -> Equipa Inicial (x) | E2: Minutos jogados | F2: Ponto Inicial | G2: 1ª | H2: 2ª | I2: 3ª | J2: 4ª | K2: 5ª | L2: 6ª | M2: 7ª | N2: 8ª | O2: 9ª | P2: Quantas vezes "in" e "out" | Q2: 1ª | R2: 2ª | S2: 3ª | T2: 4ª | U2: 5ª | V2: 6ª | W2: 7ª | X2: 8ª | Y2: 9ª | Z2: Compensação 2 ou + in/out e titular | AA2: Compensação 2 ou + in/out e suplente | AC2: Equipa inicial | AD2: 1ª | AE2: 2ª | AF2: 3ª | AG2: 4ª | AH2: 5ª | AI2: 6ª | AJ2: 7ª | AK2: 8ª | AL2: 9ª
A3: =IF(ISBLANK('Ficha de Jogo'!A10),"",'Ficha de Jogo'!A10) | B3: =IF(ISBLANK('Ficha de Jogo'!B10),"",'Ficha de Jogo'!B10) | C3: ='Ficha de Jogo'!C10 | D3: =IF(ISBLANK('Ficha de Jogo'!F10),"",'Ficha de Jogo'!F10) | E3: =IF(B3="","",IF(D3="x",IF(F3="",SUM(Q3:Y3)+Z3,SUM(Q3:Y3)+Z3+F3),IF(F3="",IF(AND(P3<>0,SUM(Q3:Y3)+AA3=0),SUM(Q3:Y3)+AA3+1,SUM(Q3:Y3)+AA3),SUM(Q3:Y3)+AA3+F3))) | F3: =IF($D3="x",IF(COUNTIF('Ficha de Jogo'!$B$27:$J$28,$B3)=0,50+N('Ficha de Jogo'!$J$50),""),IF(COUNTIF('Ficha de Jogo'!$B$27:$J$28,$B3)=0,0,"")) | G3: =IF(ISNUMBER($A3),IF('Ficha de Jogo'!B$27=$B3,"in",IF('Ficha de Jogo'!B$28=$B3,"out","")),"") | H3: =IF(ISNUMBER($A3),IF('Ficha de Jogo'!C$27=$B3,"in",IF('Ficha de Jogo'!C$28=$B3,"out","")),"") | I3: =IF(ISNUMBER($A3),IF('Ficha de Jogo'!D$27=$B3,"in",IF('Ficha de Jogo'!D$28=$B3,"out","")),"") | J3: =IF(ISNUMBER($A3),IF('Ficha de Jogo'!E$27=$B3,"in",IF('Ficha de Jogo'!E$28=$B3,"out","")),"") | K3: =IF(ISNUMBER($A3),IF('Ficha de Jogo'!F$27=$B3,"in",IF('Ficha de Jogo'!F$28=$B3,"out","")),"") | L3: =IF(ISNUMBER($A3),IF('Ficha de Jogo'!G$27=$B3,"in",IF('Ficha de Jogo'!G$28=$B3,"out","")),"") | M3: =IF(ISNUMBER($A3),IF('Ficha de Jogo'!H$27=$B3,"in",IF('Ficha de Jogo'!H$28=$B3,"out","")),"") | N3: =IF(ISNUMBER($A3),IF('Ficha de Jogo'!I$27=$B3,"in",IF('Ficha de Jogo'!I$28=$B3,"out","")),"") | O3: =IF(ISNUMBER($A3),IF('Ficha de Jogo'!J$27=$B3,"in",IF('Ficha de Jogo'!J$28=$B3,"out","")),"") | P3: =COUNTIF($G3:$O3,"in")+COUNTIF($G3:$O3,"out") -> 0 | Q3: =IF(G3="out",'Ficha de Jogo'!B$29,IF(G3="in",50+N('Ficha de Jogo'!$J$50)-'Ficha de Jogo'!B$29,"")) | R3: =IF(H3="out",'Ficha de Jogo'!C$29,IF(H3="in",50+N('Ficha de Jogo'!$J$50)-'Ficha de Jogo'!C$29,"")) | S3: =IF(I3="out",'Ficha de Jogo'!D$29,IF(I3="in",50+N('Ficha de Jogo'!$J$50)-'Ficha de Jogo'!D$29,"")) | T3: =IF(J3="out",'Ficha de Jogo'!E$29,IF(J3="in",50+N('Ficha de Jogo'!$J$50)-'Ficha de Jogo'!E$29,"")) | U3: =IF(K3="out",'Ficha de Jogo'!F$29,IF(K3="in",50+N('Ficha de Jogo'!$J$50)-'Ficha de Jogo'!F$29,"")) | V3: =IF(L3="out",'Ficha de Jogo'!G$29,IF(L3="in",50+N('Ficha de Jogo'!$J$50)-'Ficha de Jogo'!G$29,"")) | W3: =IF(M3="out",'Ficha de Jogo'!H$29,IF(M3="in",50+N('Ficha de Jogo'!$J$50)-'Ficha de Jogo'!H$29,"")) | X3: =IF(N3="out",'Ficha de Jogo'!I$29,IF(N3="in",50+N('Ficha de Jogo'!$J$50)-'Ficha de Jogo'!I$29,"")) | Y3: =IF(O3="out",'Ficha de Jogo'!J$29,IF(O3="in",50+N('Ficha de Jogo'!$J$50)-'Ficha de Jogo'!J$29,"")) | Z3: =IF($P3>1,IF($P3>2,IF($P3>3,IF($P3>4,IF($P3>5,IF($P3>6,IF($P3>7,IF($P3>8,IF($P3>9,"aqui",-4*(50+N('Ficha de Jogo'!$J$50))),-3*(50+N('Ficha de Jogo'!$J$50))),-3*(50+N('Ficha de Jogo'!$J$50))),-2*(50+N('Ficha de Jogo'!$J$50))),-2*(50+N('Ficha de Jogo'!$J$50))),-1*(50+N('Ficha de Jogo'!$J$50))),-1*(50+N('Ficha de Jogo'!$J$50))),0),0) -> 0 | AA3: =IF($P3>1,IF($P3>2,IF($P3>3,IF($P3>4,IF($P3>5,IF($P3>6,IF($P3>7,IF($P3>8,IF($P3>9,"aqui",-4*(50+N('Ficha de Jogo'!$J$50))),-4*(50+N('Ficha de Jogo'!$J$50))),-3*(50+N('Ficha de Jogo'!$J$50))),-3*(50+N('Ficha de Jogo'!$J$50))),-2*(50+N('Ficha de Jogo'!$J$50))),-2*(50+N('Ficha de Jogo'!$J$50))),-1*(50+N('Ficha de Jogo'!$J$50))),-1*(50+N('Ficha de Jogo'!$J$50))),0) -> 0 | AC3: =IF(D3="x",B3,"") | AD3: =IF(AND(G3="",AC3=$B3),$B3,IF(G3="in",$B3,"")) | AE3: =IF(AND(H3="",AD3=$B3),$B3,IF(H3="in",$B3,"")) | AF3: =IF(AND(I3="",AE3=$B3),$B3,IF(I3="in",$B3,"")) | AG3: =IF(AND(J3="",AF3=$B3),$B3,IF(J3="in",$B3,"")) | AH3: =IF(AND(K3="",AG3=$B3),$B3,IF(K3="in",$B3,"")) | AI3: =IF(AND(L3="",AH3=$B3),$B3,IF(L3="in",$B3,"")) | AJ3: =IF(AND(M3="",AI3=$B3),$B3,IF(M3="in",$B3,"")) | AK3: =IF(AND(N3="",AJ3=$B3),$B3,IF(N3="in",$B3,"")) | AL3: =IF(AND(O3="",AK3=$B3),$B3,IF(O3="in",$B3,""))
A4: =IF(ISBLANK('Ficha de Jogo'!A11),"",'Ficha de Jogo'!A11) | B4: =IF(ISBLANK('Ficha de Jogo'!B11),"",'Ficha de Jogo'!B11) | C4: ='Ficha de Jogo'!C11 | D4: =IF(ISBLANK('Ficha de Jogo'!F11),"",'Ficha de Jogo'!F11) | E4: =IF(B4="","",IF(D4="x",IF(F4="",SUM(Q4:Y4)+Z4,SUM(Q4:Y4)+Z4+F4),IF(F4="",IF(AND(P4<>0,SUM(Q4:Y4)+AA4=0),SUM(Q4:Y4)+AA4+1,SUM(Q4:Y4)+AA4),SUM(Q4:Y4)+AA4+F4))) | F4: =IF($D4="x",IF(COUNTIF('Ficha de Jogo'!$B$27:$J$28,$B4)=0,50+N('Ficha de Jogo'!$J$50),""),IF(COUNTIF('Ficha de Jogo'!$B$27:$J$28,$B4)=0,0,"")) | G4: =IF(ISNUMBER($A4),IF('Ficha de Jogo'!B$27=$B4,"in",IF('Ficha de Jogo'!B$28=$B4,"out","")),"") | H4: =IF(ISNUMBER($A4),IF('Ficha de Jogo'!C$27=$B4,"in",IF('Ficha de Jogo'!C$28=$B4,"out","")),"") | I4: =IF(ISNUMBER($A4),IF('Ficha de Jogo'!D$27=$B4,"in",IF('Ficha de Jogo'!D$28=$B4,"out","")),"") | J4: =IF(ISNUMBER($A4),IF('Ficha de Jogo'!E$27=$B4,"in",IF('Ficha de Jogo'!E$28=$B4,"out","")),"") | K4: =IF(ISNUMBER($A4),IF('Ficha de Jogo'!F$27=$B4,"in",IF('Ficha de Jogo'!F$28=$B4,"out","")),"") | L4: =IF(ISNUMBER($A4),IF('Ficha de Jogo'!G$27=$B4,"in",IF('Ficha de Jogo'!G$28=$B4,"out","")),"") | M4: =IF(ISNUMBER($A4),IF('Ficha de Jogo'!H$27=$B4,"in",IF('Ficha de Jogo'!H$28=$B4,"out","")),"") | N4: =IF(ISNUMBER($A4),IF('Ficha de Jogo'!I$27=$B4,"in",IF('Ficha de Jogo'!I$28=$B4,"out","")),"") | O4: =IF(ISNUMBER($A4),IF('Ficha de Jogo'!J$27=$B4,"in",IF('Ficha de Jogo'!J$28=$B4,"out","")),"") | P4: =COUNTIF($G4:$O4,"in")+COUNTIF($G4:$O4,"out") -> 0 | Q4: =IF(G4="out",'Ficha de Jogo'!B$29,IF(G4="in",50+N('Ficha de Jogo'!$J$50)-'Ficha de Jogo'!B$29,"")) | R4: =IF(H4="out",'Ficha de Jogo'!C$29,IF(H4="in",50+N('Ficha de Jogo'!$J$50)-'Ficha de Jogo'!C$29,"")) | S4: =IF(I4="out",'Ficha de Jogo'!D$29,IF(I4="in",50+N('Ficha de Jogo'!$J$50)-'Ficha de Jogo'!D$29,"")) | T4: =IF(J4="out",'Ficha de Jogo'!E$29,IF(J4="in",50+N('Ficha de Jogo'!$J$50)-'Ficha de Jogo'!E$29,"")) | U4: =IF(K4="out",'Ficha de Jogo'!F$29,IF(K4="in",50+N('Ficha de Jogo'!$J$50)-'Ficha de Jogo'!F$29,"")) | V4: =IF(L4="out",'Ficha de Jogo'!G$29,IF(L4="in",50+N('Ficha de Jogo'!$J$50)-'Ficha de Jogo'!G$29,"")) | W4: =IF(M4="out",'Ficha de Jogo'!H$29,IF(M4="in",50+N('Ficha de Jogo'!$J$50)-'Ficha de Jogo'!H$29,"")) | X4: =IF(N4="out",'Ficha de Jogo'!I$29,IF(N4="in",50+N('Ficha de Jogo'!$J$50)-'Ficha de Jogo'!I$29,"")) | Y4: =IF(O4="out",'Ficha de Jogo'!J$29,IF(O4="in",50+N('Ficha de Jogo'!$J$50)-'Ficha de Jogo'!J$29,"")) | Z4: =IF($P4>1,IF($P4>2,IF($P4>3,IF($P4>4,IF($P4>5,IF($P4>6,IF($P4>7,IF($P4>8,IF($P4>9,"aqui",-4*(50+N('Ficha de Jogo'!$J$50))),-3*(50+N('Ficha de Jogo'!$J$50))),-3*(50+N('Ficha de Jogo'!$J$50))),-2*(50+N('Ficha de Jogo'!$J$50))),-2*(50+N('Ficha de Jogo'!$J$50))),-1*(50+N('Ficha de Jogo'!$J$50))),-1*(50+N('Ficha de Jogo'!$J$50))),0),0) -> 0 | AA4: =IF($P4>1,IF($P4>2,IF($P4>3,IF($P4>4,IF($P4>5,IF($P4>6,IF($P4>7,IF($P4>8,IF($P4>9,"aqui",-4*(50+N('Ficha de Jogo'!$J$50))),-4*(50+N('Ficha de Jogo'!$J$50))),-3*(50+N('Ficha de Jogo'!$J$50))),-3*(50+N('Ficha de Jogo'!$J$50))),-2*(50+N('Ficha de Jogo'!$J$50))),-2*(50+N('Ficha de Jogo'!$J$50))),-1*(50+N('Ficha de Jogo'!$J$50))),-1*(50+N('Ficha de Jogo'!$J$50))),0) -> 0 | AC4: =IF(D4="x",B4,"") | AD4: =IF(AND(G4="",AC4=$B4),$B4,IF(G4="in",$B4,"")) | AE4: =IF(AND(H4="",AD4=$B4),$B4,IF(H4="in",$B4,"")) | AF4: =IF(AND(I4="",AE4=$B4),$B4,IF(I4="in",$B4,"")) | AG4: =IF(AND(J4="",AF4=$B4),$B4,IF(J4="in",$B4,"")) | AH4: =IF(AND(K4="",AG4=$B4),$B4,IF(K4="in",$B4,"")) | AI4: =IF(AND(L4="",AH4=$B4),$B4,IF(L4="in",$B4,"")) | AJ4: =IF(AND(M4="",AI4=$B4),$B4,IF(M4="in",$B4,"")) | AK4: =IF(AND(N4="",AJ4=$B4),$B4,IF(N4="in",$B4,"")) | AL4: =IF(AND(O4="",AK4=$B4),$B4,IF(O4="in",$B4,""))
