Workbook

Sheet Ficha de Jogo
E1: Boletim de jogo de Corfebol Em vigor a partir de 30 de outubro de 2026
E2: Época: | F2: 2026/27 | H2: Prova/Fase: | K2: =IF(LEFT($T$2,4)="CN1D","Campeonato Nacional 1ª Divisão",IF(LEFT($T$2,4)="CN2D","Campeonato Nacional 2ª Divisão",IF(LEFT($T$2,4)="CN3D","Campeonato Nacional 3ª Divisão",IF(LEFT($T$2,2)="TP","Taça de Portugal",IF(LEFT($T$2,2)="ST","Supertaça Mário Godinho",IF(LEFT($T$2,4)="CN1_","Campeonato Nacional 1ª Divisão Play-offs",IF(LEFT($T$2,4)="CN2_","Campeonato Nacional 2ª Divisão Play-offs",IF(LEFT($T$2,4)="CN3_","Campeonato Nacional 3ª Divisão Play-offs","")))))))) | R2: Jogo: | T2: =IF(ISBLANK($S$2),"",INDEX(Calendário!B:G,MATCH($S$2,Calendário!B:B,0),2)) | AA2: FPC
E3: Data: | F3: =IF(ISBLANK($S$2),"",INDEX(Calendário!B:G,MATCH($S$2,Calendário!B:B,0),5)) | H3: Pavilhão/Local: | K3: =IF(ISBLANK($S$2),"",INDEX(Calendário!B:G,MATCH($S$2,Calendário!B:B,0),6)) | R3: Hora: | S3: =IF(ISBLANK($S$2),"",INDEX(Calendário!$F$1:$F$2460,MATCH(S2,Calendário!$B$1:$B$2460))) | AA3: =$A$6
AA4: =$L$6
A5: Equipa visitada: | L5: Equipa visitante:
A6: =IF(ISBLANK($S$2),"",INDEX(Calendário!B:G,MATCH($S$2,Calendário!B:B,0),3)) | L6: =IF(ISBLANK($S$2),"",INDEX(Calendário!B:G,MATCH($S$2,Calendário!B:B,0),4))
A8: Jogadores/as: | L8: Jogadores/as:
A9: FPC nº | B9: Jogador nº | C9: Nome | E9: Minutos de jogo | F9: Equipa Inicial (x) | G9: Pontos Marcados | H9: Cartão Amarelo | I9: Cartão Vermelho | J9: Cartão Branco | L9: FPC nº | M9: Jogador nº | N9: Nome | P9: Minutos de jogo | Q9: Equipa Inicial (x) | R9: Pontos Marcados | S9: Cartão Amarelo | T9: Cartão Vermelho | U9: Cartão Branco
C10: =IF(A10="","",IF(ISBLANK($S$2),"Preencher nr do jogo",IF(INDEX(AgentesDesportivos!$D:$D,MATCH(A10,AgentesDesportivos!$A:$A,0))="","Não inscrito",IF(INDEX(AgentesDesportivos!$K:$K,MATCH(A10,AgentesDesportivos!$A:$A,0))<>LEFT(A$6,FIND(" ",A$6&" ")-1),"Não inscrito no "&LEFT(A$6,FIND(" ",A$6&" ")-1),IF(INDEX(AgentesDesportivos!$L:$L,MATCH(A10,AgentesDesportivos!$A:$A,0))<IFERROR(MID(A$6,FIND(" ",A$6)+1,FIND(" ",A$6&" ",FIND(" ",A$6)+1)-FIND(" ",A$6)-1),"A"),"Jogador inscrito no "&INDEX(AgentesDesportivos!$K:$K,MATCH(A10,AgentesDesportivos!$A:$A,0))&" "&INDEX(AgentesDesportivos!$L:$L,MATCH(A10,AgentesDesportivos!$A:$A,0)),INDEX(AgentesDesportivos!$B:$B,MATCH(A10,AgentesDesportivos!$A:$A,0))))))) | E10: =MinutosVisitada!E3 | N10: =IF(L10="","",IF(ISBLANK($S$2),"Preencher nr do jogo",IF(INDEX(AgentesDesportivos!$D:$D,MATCH(L10,AgentesDesportivos!$A:$A,0))="","Não inscrito",IF(INDEX(AgentesDesportivos!$K:$K,MATCH(L10,AgentesDesportivos!$A:$A,0))<>LEFT(L$6,FIND(" ",L$6&" ")-1),"Não inscrito no "&LEFT(L$6,FIND(" ",L$6&" ")-1),IF(INDEX(AgentesDesportivos!$L:$L,MATCH(L10,AgentesDesportivos!$A:$A,0))<IFERROR(MID(L$6,FIND(" ",L$6)+1,FIND(" ",L$6&" ",FIND(" ",L$6)+1)-FIND(" ",L$6)-1),"A"),"Jogador inscrito no "&INDEX(AgentesDesportivos!$K:$K,MATCH(L10,AgentesDesportivos!$A:$A,0))&" "&INDEX(AgentesDesportivos!$L:$L,MATCH(L10,AgentesDesportivos!$A:$A,0)),INDEX(AgentesDesportivos!$B:$B,MATCH(L10,AgentesDesportivos!$A:$A,0))))))) | P10: =MinutosVisitante!E3
C11: =IF(A11="","",IF(ISBLANK($S$2),"Preencher nr do jogo",IF(INDEX(AgentesDesportivos!$D:$D,MATCH(A11,AgentesDesportivos!$A:$A,0))="","Não inscrito",IF(INDEX(AgentesDesportivos!$K:$K,MATCH(A11,AgentesDesportivos!$A:$A,0))<>LEFT(A$6,FIND(" ",A$6&" ")-1),"Não inscrito no "&LEFT(A$6,FIND(" ",A$6&" ")-1),IF(INDEX(AgentesDesportivos!$L:$L,MATCH(A11,AgentesDesportivos!$A:$A,0))<IFERROR(MID(A$6,FIND(" ",A$6)+1,FIND(" ",A$6&" ",FIND(" ",A$6)+1)-FIND(" ",A$6)-1),"A"),"Jogador inscrito no "&INDEX(AgentesDesportivos!$K:$K,MATCH(A11,AgentesDesportivos!$A:$A,0))&" "&INDEX(AgentesDesportivos!$L:$L,MATCH(A11,AgentesDesportivos!$A:$A,0)),INDEX(AgentesDesportivos!$B:$B,MATCH(A11,AgentesDesportivos!$A:$A,0))))))) | E11: =MinutosVisitada!E4 | N11: =IF(L11="","",IF(ISBLANK($S$2),"Preencher nr do jogo",IF(INDEX(AgentesDesportivos!$D:$D,MATCH(L11,AgentesDesportivos!$A:$A,0))="","Não inscrito",IF(INDEX(AgentesDesportivos!$K:$K,MATCH(L11,AgentesDesportivos!$A:$A,0))<>LEFT(L$6,FIND(" ",L$6&" ")-1),"Não inscrito no "&LEFT(L$6,FIND(" ",L$6&" ")-1),IF(INDEX(AgentesDesportivos!$L:$L,MATCH(L11,AgentesDesportivos!$A:$A,0))<IFERROR(MID(L$6,FIND(" ",L$6)+1,FIND(" ",L$6&" ",FIND(" ",L$6)+1)-FIND(" ",L$6)-1),"A"),"Jogador inscrito no "&INDEX(AgentesDesportivos!$K:$K,MATCH(L11,AgentesDesportivos!$A:$A,0))&" "&INDEX(AgentesDesportivos!$L:$L,MATCH(L11,AgentesDesportivos!$A:$A,0)),INDEX(AgentesDesportivos!$B:$B,MATCH(L11,AgentesDesportivos!$A:$A,0))))))) | P11: =MinutosVisitante!E4
C12: =IF(A12="","",IF(ISBLANK($S$2),"Preencher nr do jogo",IF(INDEX(AgentesDesportivos!$D:$D,MATCH(A12,AgentesDesportivos!$A:$A,0))="","Não inscrito",IF(INDEX(AgentesDesportivos!$K:$K,MATCH(A12,AgentesDesportivos!$A:$A,0))<>LEFT(A$6,FIND(" ",A$6&" ")-1),"Não inscrito no "&LEFT(A$6,FIND(" ",A$6&" ")-1),IF(INDEX(AgentesDesportivos!$L:$L,MATCH(A12,AgentesDesportivos!$A:$A,0))<IFERROR(MID(A$6,FIND(" ",A$6)+1,FIND(" ",A$6&" ",FIND(" ",A$6)+1)-FIND(" ",A$6)-1),"A"),"Jogador inscrito no "&INDEX(AgentesDesportivos!$K:$K,MATCH(A12,AgentesDesportivos!$A:$A,0))&" "&INDEX(AgentesDesportivos!$L:$L,MATCH(A12,AgentesDesportivos!$A:$A,0)),INDEX(AgentesDesportivos!$B:$B,MATCH(A12,AgentesDesportivos!$A:$A,0))))))) | E12: =MinutosVisitada!E5 | N12: =IF(L12="","",IF(ISBLANK($S$2),"Preencher nr do jogo",IF(INDEX(AgentesDesportivos!$D:$D,MATCH(L12,AgentesDesportivos!$A:$A,0))="","Não inscrito",IF(INDEX(AgentesDesportivos!$K:$K,MATCH(L12,AgentesDesportivos!$A:$A,0))<>LEFT(L$6,FIND(" ",L$6&" ")-1),"Não inscrito no "&LEFT(L$6,FIND(" ",L$6&" ")-1),IF(INDEX(AgentesDesportivos!$L:$L,MATCH(L12,AgentesDesportivos!$A:$A,0))<IFERROR(MID(L$6,FIND(" ",L$6)+1,FIND(" ",L$6&" ",FIND(" ",L$6)+1)-FIND(" ",L$6)-1),"A"),"Jogador inscrito no "&INDEX(AgentesDesportivos!$K:$K,MATCH(L12,AgentesDesportivos!$A:$A,0))&" "&INDEX(AgentesDesportivos!$L:$L,MATCH(L12,AgentesDesportivos!$A:$A,0)),INDEX(AgentesDesportivos!$B:$B,MATCH(L12,AgentesDesportivos!$A:$A,0))))))) | P12: =MinutosVisitante!E5
C13: =IF(A13="","",IF(ISBLANK($S$2),"Preencher nr do jogo",IF(INDEX(AgentesDesportivos!$D:$D,MATCH(A13,AgentesDesportivos!$A:$A,0))="","Não inscrito",IF(INDEX(AgentesDesportivos!$K:$K,MATCH(A13,AgentesDesportivos!$A:$A,0))<>LEFT(A$6,FIND(" ",A$6&" ")-1),"Não inscrito no "&LEFT(A$6,FIND(" ",A$6&" ")-1),IF(INDEX(AgentesDesportivos!$L:$L,MATCH(A13,AgentesDesportivos!$A:$A,0))<IFERROR(MID(A$6,FIND(" ",A$6)+1,FIND(" ",A$6&" ",FIND(" ",A$6)+1)-FIND(" ",A$6)-1),"A"),"Jogador inscrito no "&INDEX(AgentesDesportivos!$K:$K,MATCH(A13,AgentesDesportivos!$A:$A,0))&" "&INDEX(AgentesDesportivos!$L:$L,MATCH(A13,AgentesDesportivos!$A:$A,0)),INDEX(AgentesDesportivos!$B:$B,MATCH(A13,AgentesDesportivos!$A:$A,0))))))) | E13: =MinutosVisitada!E6 | N13: =IF(L13="","",IF(ISBLANK($S$2),"Preencher nr do jogo",IF(INDEX(AgentesDesportivos!$D:$D,MATCH(L13,AgentesDesportivos!$A:$A,0))="","Não inscrito",IF(INDEX(AgentesDesportivos!$K:$K,MATCH(L13,AgentesDesportivos!$A:$A,0))<>LEFT(L$6,FIND(" ",L$6&" ")-1),"Não inscrito no "&LEFT(L$6,FIND(" ",L$6&" ")-1),IF(INDEX(AgentesDesportivos!$L:$L,MATCH(L13,AgentesDesportivos!$A:$A,0))<IFERROR(MID(L$6,FIND(" ",L$6)+1,FIND(" ",L$6&" ",FIND(" ",L$6)+1)-FIND(" ",L$6)-1),"A"),"Jogador inscrito no "&INDEX(AgentesDesportivos!$K:$K,MATCH(L13,AgentesDesportivos!$A:$A,0))&" "&INDEX(AgentesDesportivos!$L:$L,MATCH(L13,AgentesDesportivos!$A:$A,0)),INDEX(AgentesDesportivos!$B:$B,MATCH(L13,AgentesDesportivos!$A:$A,0))))))) | P13: =MinutosVisitante!E6
C14: =IF(A14="","",IF(ISBLANK($S$2),"Preencher nr do jogo",IF(INDEX(AgentesDesportivos!$D:$D,MATCH(A14,AgentesDesportivos!$A:$A,0))="","Não inscrito",IF(INDEX(AgentesDesportivos!$K:$K,MATCH(A14,AgentesDesportivos!$A:$A,0))<>LEFT(A$6,FIND(" ",A$6&" ")-1),"Não inscrito no "&LEFT(A$6,FIND(" ",A$6&" ")-1),IF(INDEX(AgentesDesportivos!$L:$L,MATCH(A14,AgentesDesportivos!$A:$A,0))<IFERROR(MID(A$6,FIND(" ",A$6)+1,FIND(" ",A$6&" ",FIND(" ",A$6)+1)-FIND(" ",A$6)-1),"A"),"Jogador inscrito no "&INDEX(AgentesDesportivos!$K:$K,MATCH(A14,AgentesDesportivos!$A:$A,0))&" "&INDEX(AgentesDesportivos!$L:$L,MATCH(A14,AgentesDesportivos!$A:$A,0)),INDEX(AgentesDesportivos!$B:$B,MATCH(A14,AgentesDesportivos!$A:$A,0))))))) | E14: =MinutosVisitada!E7 | N14: =IF(L14="","",IF(ISBLANK($S$2),"Preencher nr do jogo",IF(INDEX(AgentesDesportivos!$D:$D,MATCH(L14,AgentesDesportivos!$A:$A,0))="","Não inscrito",IF(INDEX(AgentesDesportivos!$K:$K,MATCH(L14,AgentesDesportivos!$A:$A,0))<>LEFT(L$6,FIND(" ",L$6&" ")-1),"Não inscrito no "&LEFT(L$6,FIND(" ",L$6&" ")-1),IF(INDEX(AgentesDesportivos!$L:$L,MATCH(L14,AgentesDesportivos!$A:$A,0))<IFERROR(MID(L$6,FIND(" ",L$6)+1,FIND(" ",L$6&" ",FIND(" ",L$6)+1)-FIND(" ",L$6)-1),"A"),"Jogador inscrito no "&INDEX(AgentesDesportivos!$K:$K,MATCH(L14,AgentesDesportivos!$A:$A,0))&" "&INDEX(AgentesDesportivos!$L:$L,MATCH(L14,AgentesDesportivos!$A:$A,0)),INDEX(AgentesDesportivos!$B:$B,MATCH(L14,AgentesDesportivos!$A:$A,0))))))) | P14: =MinutosVisitante!E7
C15: =IF(A15="","",IF(ISBLANK($S$2),"Preencher nr do jogo",IF(INDEX(AgentesDesportivos!$D:$D,MATCH(A15,AgentesDesportivos!$A:$A,0))="","Não inscrito",IF(INDEX(AgentesDesportivos!$K:$K,MATCH(A15,AgentesDesportivos!$A:$A,0))<>LEFT(A$6,FIND(" ",A$6&" ")-1),"Não inscrito no "&LEFT(A$6,FIND(" ",A$6&" ")-1),IF(INDEX(AgentesDesportivos!$L:$L,MATCH(A15,AgentesDesportivos!$A:$A,0))<IFERROR(MID(A$6,FIND(" ",A$6)+1,FIND(" ",A$6&" ",FIND(" ",A$6)+1)-FIND(" ",A$6)-1),"A"),"Jogador inscrito no "&INDEX(AgentesDesportivos!$K:$K,MATCH(A15,AgentesDesportivos!$A:$A,0))&" "&INDEX(AgentesDesportivos!$L:$L,MATCH(A15,AgentesDesportivos!$A:$A,0)),INDEX(AgentesDesportivos!$B:$B,MATCH(A15,AgentesDesportivos!$A:$A,0))))))) | E15: =MinutosVisitada!E8 | N15: =IF(L15="","",IF(ISBLANK($S$2),"Preencher nr do jogo",IF(INDEX(AgentesDesportivos!$D:$D,MATCH(L15,AgentesDesportivos!$A:$A,0))="","Não inscrito",IF(INDEX(AgentesDesportivos!$K:$K,MATCH(L15,AgentesDesportivos!$A:$A,0))<>LEFT(L$6,FIND(" ",L$6&" ")-1),"Não inscrito no "&LEFT(L$6,FIND(" ",L$6&" ")-1),IF(INDEX(AgentesDesportivos!$L:$L,MATCH(L15,AgentesDesportivos!$A:$A,0))<IFERROR(MID(L$6,FIND(" ",L$6)+1,FIND(" ",L$6&" ",FIND(" ",L$6)+1)-FIND(" ",L$6)-1),"A"),"Jogador inscrito no "&INDEX(AgentesDesportivos!$K:$K,MATCH(L15,AgentesDesportivos!$A:$A,0))&" "&INDEX(AgentesDesportivos!$L:$L,MATCH(L15,AgentesDesportivos!$A:$A,0)),INDEX(AgentesDesportivos!$B:$B,MATCH(L15,AgentesDesportivos!$A:$A,0))))))) | P15: =MinutosVisitante!E8
C16: =IF(A16="","",IF(ISBLANK($S$2),"Preencher nr do jogo",IF(INDEX(AgentesDesportivos!$D:$D,MATCH(A16,AgentesDesportivos!$A:$A,0))="","Não inscrito",IF(INDEX(AgentesDesportivos!$K:$K,MATCH(A16,AgentesDesportivos!$A:$A,0))<>LEFT(A$6,FIND(" ",A$6&" ")-1),"Não inscrito no "&LEFT(A$6,FIND(" ",A$6&" ")-1),IF(INDEX(AgentesDesportivos!$L:$L,MATCH(A16,AgentesDesportivos!$A:$A,0))<IFERROR(MID(A$6,FIND(" ",A$6)+1,FIND(" ",A$6&" ",FIND(" ",A$6)+1)-FIND(" ",A$6)-1),"A"),"Jogador inscrito no "&INDEX(AgentesDesportivos!$K:$K,MATCH(A16,AgentesDesportivos!$A:$A,0))&" "&INDEX(AgentesDesportivos!$L:$L,MATCH(A16,AgentesDesportivos!$A:$A,0)),INDEX(AgentesDesportivos!$B:$B,MATCH(A16,AgentesDesportivos!$A:$A,0))))))) | E16: =MinutosVisitada!E9 | N16: =IF(L16="","",IF(ISBLANK($S$2),"Preencher nr do jogo",IF(INDEX(AgentesDesportivos!$D:$D,MATCH(L16,AgentesDesportivos!$A:$A,0))="","Não inscrito",IF(INDEX(AgentesDesportivos!$K:$K,MATCH(L16,AgentesDesportivos!$A:$A,0))<>LEFT(L$6,FIND(" ",L$6&" ")-1),"Não inscrito no "&LEFT(L$6,FIND(" ",L$6&" ")-1),IF(INDEX(AgentesDesportivos!$L:$L,MATCH(L16,AgentesDesportivos!$A:$A,0))<IFERROR(MID(L$6,FIND(" ",L$6)+1,FIND(" ",L$6&" ",FIND(" ",L$6)+1)-FIND(" ",L$6)-1),"A"),"Jogador inscrito no "&INDEX(AgentesDesportivos!$K:$K,MATCH(L16,AgentesDesportivos!$A:$A,0))&" "&INDEX(AgentesDesportivos!$L:$L,MATCH(L16,AgentesDesportivos!$A:$A,0)),INDEX(AgentesDesportivos!$B:$B,MATCH(L16,AgentesDesportivos!$A:$A,0))))))) | P16: =MinutosVisitante!E9
C17: =IF(A17="","",IF(ISBLANK($S$2),"Preencher nr do jogo",IF(INDEX(AgentesDesportivos!$D:$D,MATCH(A17,AgentesDesportivos!$A:$A,0))="","Não inscrito",IF(INDEX(AgentesDesportivos!$K:$K,MATCH(A17,AgentesDesportivos!$A:$A,0))<>LEFT(A$6,FIND(" ",A$6&" ")-1),"Não inscrito no "&LEFT(A$6,FIND(" ",A$6&" ")-1),IF(INDEX(AgentesDesportivos!$L:$L,MATCH(A17,AgentesDesportivos!$A:$A,0))<IFERROR(MID(A$6,FIND(" ",A$6)+1,FIND(" ",A$6&" ",FIND(" ",A$6)+1)-FIND(" ",A$6)-1),"A"),"Jogador inscrito no "&INDEX(AgentesDesportivos!$K:$K,MATCH(A17,AgentesDesportivos!$A:$A,0))&" "&INDEX(AgentesDesportivos!$L:$L,MATCH(A17,AgentesDesportivos!$A:$A,0)),INDEX(AgentesDesportivos!$B:$B,MATCH(A17,AgentesDesportivos!$A:$A,0))))))) | E17: =MinutosVisitada!E10 | N17: =IF(L17="","",IF(ISBLANK($S$2),"Preencher nr do jogo",IF(INDEX(AgentesDesportivos!$D:$D,MATCH(L17,AgentesDesportivos!$A:$A,0))="","Não inscrito",IF(INDEX(AgentesDesportivos!$K:$K,MATCH(L17,AgentesDesportivos!$A:$A,0))<>LEFT(L$6,FIND(" ",L$6&" ")-1),"Não inscrito no "&LEFT(L$6,FIND(" ",L$6&" ")-1),IF(INDEX(AgentesDesportivos!$L:$L,MATCH(L17,AgentesDesportivos!$A:$A,0))<IFERROR(MID(L$6,FIND(" ",L$6)+1,FIND(" ",L$6&" ",FIND(" ",L$6)+1)-FIND(" ",L$6)-1),"A"),"Jogador inscrito no "&INDEX(AgentesDesportivos!$K:$K,MATCH(L17,AgentesDesportivos!$A:$A,0))&" "&INDEX(AgentesDesportivos!$L:$L,MATCH(L17,AgentesDesportivos!$A:$A,0)),INDEX(AgentesDesportivos!$B:$B,MATCH(L17,AgentesDesportivos!$A:$A,0))))))) | P17: =MinutosVisitante!E10
C18: =IF(A18="","",IF(ISBLANK($S$2),"Preencher nr do jogo",IF(INDEX(AgentesDesportivos!$D:$D,MATCH(A18,AgentesDesportivos!$A:$A,0))="","Não inscrito",IF(INDEX(AgentesDesportivos!$K:$K,MATCH(A18,AgentesDesportivos!$A:$A,0))<>LEFT(A$6,FIND(" ",A$6&" ")-1),"Não inscrito no "&LEFT(A$6,FIND(" ",A$6&" ")-1),IF(INDEX(AgentesDesportivos!$L:$L,MATCH(A18,AgentesDesportivos!$A:$A,0))<IFERROR(MID(A$6,FIND(" ",A$6)+1,FIND(" ",A$6&" ",FIND(" ",A$6)+1)-FIND(" ",A$6)-1),"A"),"Jogador inscrito no "&INDEX(AgentesDesportivos!$K:$K,MATCH(A18,AgentesDesportivos!$A:$A,0))&" "&INDEX(AgentesDesportivos!$L:$L,MATCH(A18,AgentesDesportivos!$A:$A,0)),INDEX(AgentesDesportivos!$B:$B,MATCH(A18,AgentesDesportivos!$A:$A,0))))))) | E18: =MinutosVisitada!E11 | N18: =IF(L18="","",IF(ISBLANK($S$2),"Preencher nr do jogo",IF(INDEX(AgentesDesportivos!$D:$D,MATCH(L18,AgentesDesportivos!$A:$A,0))="","Não inscrito",IF(INDEX(AgentesDesportivos!$K:$K,MATCH(L18,AgentesDesportivos!$A:$A,0))<>LEFT(L$6,FIND(" ",L$6&" ")-1),"Não inscrito no "&LEFT(L$6,FIND(" ",L$6&" ")-1),IF(INDEX(AgentesDesportivos!$L:$L,MATCH(L18,AgentesDesportivos!$A:$A,0))<IFERROR(MID(L$6,FIND(" ",L$6)+1,FIND(" ",L$6&" ",FIND(" ",L$6)+1)-FIND(" ",L$6)-1),"A"),"Jogador inscrito no "&INDEX(AgentesDesportivos!$K:$K,MATCH(L18,AgentesDesportivos!$A:$A,0))&" "&INDEX(AgentesDesportivos!$L:$L,MATCH(L18,AgentesDesportivos!$A:$A,0)),INDEX(AgentesDesportivos!$B:$B,MATCH(L18,AgentesDesportivos!$A:$A,0))))))) | P18: =MinutosVisitante!E11
C19: =IF(A19="","",IF(ISBLANK($S$2),"Preencher nr do jogo",IF(INDEX(AgentesDesportivos!$D:$D,MATCH(A19,AgentesDesportivos!$A:$A,0))="","Não inscrito",IF(INDEX(AgentesDesportivos!$K:$K,MATCH(A19,AgentesDesportivos!$A:$A,0))<>LEFT(A$6,FIND(" ",A$6&" ")-1),"Não inscrito no "&LEFT(A$6,FIND(" ",A$6&" ")-1),IF(INDEX(AgentesDesportivos!$L:$L,MATCH(A19,AgentesDesportivos!$A:$A,0))<IFERROR(MID(A$6,FIND(" ",A$6)+1,FIND(" ",A$6&" ",FIND(" ",A$6)+1)-FIND(" ",A$6)-1),"A"),"Jogador inscrito no "&INDEX(AgentesDesportivos!$K:$K,MATCH(A19,AgentesDesportivos!$A:$A,0))&" "&INDEX(AgentesDesportivos!$L:$L,MATCH(A19,AgentesDesportivos!$A:$A,0)),INDEX(AgentesDesportivos!$B:$B,MATCH(A19,AgentesDesportivos!$A:$A,0))))))) | E19: =MinutosVisitada!E12 | N19: =IF(L19="","",IF(ISBLANK($S$2),"Preencher nr do jogo",IF(INDEX(AgentesDesportivos!$D:$D,MATCH(L19,AgentesDesportivos!$A:$A,0))="","Não inscrito",IF(INDEX(AgentesDesportivos!$K:$K,MATCH(L19,AgentesDesportivos!$A:$A,0))<>LEFT(L$6,FIND(" ",L$6&" ")-1),"Não inscrito no "&LEFT(L$6,FIND(" ",L$6&" ")-1),IF(INDEX(AgentesDesportivos!$L:$L,MATCH(L19,AgentesDesportivos!$A:$A,0))<IFERROR(MID(L$6,FIND(" ",L$6)+1,FIND(" ",L$6&" ",FIND(" ",L$6)+1)-FIND(" ",L$6)-1),"A"),"Jogador inscrito no "&INDEX(AgentesDesportivos!$K:$K,MATCH(L19,AgentesDesportivos!$A:$A,0))&" "&INDEX(AgentesDesportivos!$L:$L,MATCH(L19,AgentesDesportivos!$A:$A,0)),INDEX(AgentesDesportivos!$B:$B,MATCH(L19,AgentesDesportivos!$A:$A,0))))))) | P19: =MinutosVisitante!E12
C20: =IF(A20="","",IF(ISBLANK($S$2),"Preencher nr do jogo",IF(INDEX(AgentesDesportivos!$D:$D,MATCH(A20,AgentesDesportivos!$A:$A,0))="","Não inscrito",IF(INDEX(AgentesDesportivos!$K:$K,MATCH(A20,AgentesDesportivos!$A:$A,0))<>LEFT(A$6,FIND(" ",A$6&" ")-1),"Não inscrito no "&LEFT(A$6,FIND(" ",A$6&" ")-1),IF(INDEX(AgentesDesportivos!$L:$L,MATCH(A20,AgentesDesportivos!$A:$A,0))<IFERROR(MID(A$6,FIND(" ",A$6)+1,FIND(" ",A$6&" ",FIND(" ",A$6)+1)-FIND(" ",A$6)-1),"A"),"Jogador inscrito no "&INDEX(AgentesDesportivos!$K:$K,MATCH(A20,AgentesDesportivos!$A:$A,0))&" "&INDEX(AgentesDesportivos!$L:$L,MATCH(A20,AgentesDesportivos!$A:$A,0)),INDEX(AgentesDesportivos!$B:$B,MATCH(A20,AgentesDesportivos!$A:$A,0))))))) | E20: =MinutosVisitada!E13 | N20: =IF(L20="","",IF(ISBLANK($S$2),"Preencher nr do jogo",IF(INDEX(AgentesDesportivos!$D:$D,MATCH(L20,AgentesDesportivos!$A:$A,0))="","Não inscrito",IF(INDEX(AgentesDesportivos!$K:$K,MATCH(L20,AgentesDesportivos!$A:$A,0))<>LEFT(L$6,FIND(" ",L$6&" ")-1),"Não inscrito no "&LEFT(L$6,FIND(" ",L$6&" ")-1),IF(INDEX(AgentesDesportivos!$L:$L,MATCH(L20,AgentesDesportivos!$A:$A,0))<IFERROR(MID(L$6,FIND(" ",L$6)+1,FIND(" ",L$6&" ",FIND(" ",L$6)+1)-FIND(" ",L$6)-1),"A"),"Jogador inscrito no "&INDEX(AgentesDesportivos!$K:$K,MATCH(L20,AgentesDesportivos!$A:$A,0))&" "&INDEX(AgentesDesportivos!$L:$L,MATCH(L20,AgentesDesportivos!$A:$A,0)),INDEX(AgentesDesportivos!$B:$B,MATCH(L20,AgentesDesportivos!$A:$A,0))))))) | P20: =MinutosVisitante!E13
C21: =IF(A21="","",IF(ISBLANK($S$2),"Preencher nr do jogo",IF(INDEX(AgentesDesportivos!$D:$D,MATCH(A21,AgentesDesportivos!$A:$A,0))="","Não inscrito",IF(INDEX(AgentesDesportivos!$K:$K,MATCH(A21,AgentesDesportivos!$A:$A,0))<>LEFT(A$6,FIND(" ",A$6&" ")-1),"Não inscrito no "&LEFT(A$6,FIND(" ",A$6&" ")-1),IF(INDEX(AgentesDesportivos!$L:$L,MATCH(A21,AgentesDesportivos!$A:$A,0))<IFERROR(MID(A$6,FIND(" ",A$6)+1,FIND(" ",A$6&" ",FIND(" ",A$6)+1)-FIND(" ",A$6)-1),"A"),"Jogador inscrito no "&INDEX(AgentesDesportivos!$K:$K,MATCH(A21,AgentesDesportivos!$A:$A,0))&" "&INDEX(AgentesDesportivos!$L:$L,MATCH(A21,AgentesDesportivos!$A:$A,0)),INDEX(AgentesDesportivos!$B:$B,MATCH(A21,AgentesDesportivos!$A:$A,0))))))) | E21: =MinutosVisitada!E14 | N21: =IF(L21="","",IF(ISBLANK($S$2),"Preencher nr do jogo",IF(INDEX(AgentesDesportivos!$D:$D,MATCH(L21,AgentesDesportivos!$A:$A,0))="","Não inscrito",IF(INDEX(AgentesDesportivos!$K:$K,MATCH(L21,AgentesDesportivos!$A:$A,0))<>LEFT(L$6,FIND(" ",L$6&" ")-1),"Não inscrito no "&LEFT(L$6,FIND(" ",L$6&" ")-1),IF(INDEX(AgentesDesportivos!$L:$L,MATCH(L21,AgentesDesportivos!$A:$A,0))<IFERROR(MID(L$6,FIND(" ",L$6)+1,FIND(" ",L$6&" ",FIND(" ",L$6)+1)-FIND(" ",L$6)-1),"A"),"Jogador inscrito no "&INDEX(AgentesDesportivos!$K:$K,MATCH(L21,AgentesDesportivos!$A:$A,0))&" "&INDEX(AgentesDesportivos!$L:$L,MATCH(L21,AgentesDesportivos!$A:$A,0)),INDEX(AgentesDesportivos!$B:$B,MATCH(L21,AgentesDesportivos!$A:$A,0))))))) | P21: =MinutosVisitante!E14
... C23: =IF(A23="","",IF(ISBLANK($S$2),"Preencher nr do jogo",IF(INDEX(AgentesDesportivos!$D:$D,MATCH(A23,AgentesDesportivos!$A:$A,0))="","Não inscrito",IF(INDEX(AgentesDesportivos!$K:$K,MATCH(A23,AgentesDesportivos!$A:$A,0))<>LEFT(A$6,FIND(" ",A$6&" ")-1),"Não inscrito no "&LEFT(A$6,FIND(" ",A$6&" ")-1),IF(INDEX(AgentesDesportivos!$L:$L,MATCH(A23,AgentesDesportivos!$A:$A,0))<IFERROR(MID(A$6,FIND(" ",A$6)+1,FIND(" ",A$6&" ",FIND(" ",A$6)+1)-FIND(" ",A$6)-1),"A"),"Jogador inscrito no "&INDEX(AgentesDesportivos!$K:$K,MATCH(A23,AgentesDesportivos!$A:$A,0))&" "&INDEX(AgentesDesportivos!$L:$L,MATCH(A23,AgentesDesportivos!$A:$A,0)),INDEX(AgentesDesportivos!$B:$B,MATCH(A23,AgentesDesportivos!$A:$A,0))))))) | E23: =MinutosVisitada!E16 | N23: =IF(L23="","",IF(ISBLANK($S$2),"Preencher nr do jogo",IF(INDEX(AgentesDesportivos!$D:$D,MATCH(L23,AgentesDesportivos!$A:$A,0))="","Não inscrito",IF(INDEX(AgentesDesportivos!$K:$K,MATCH(L23,AgentesDesportivos!$A:$A,0))<>LEFT(L$6,FIND(" ",L$6&" ")-1),"Não inscrito no "&LEFT(L$6,FIND(" ",L$6&" ")-1),IF(INDEX(AgentesDesportivos!$L:$L,MATCH(L23,AgentesDesportivos!$A:$A,0))<IFERROR(MID(L$6,FIND(" ",L$6)+1,FIND(" ",L$6&" ",FIND(" ",L$6)+1)-FIND(" ",L$6)-1),"A"),"Jogador inscrito no "&INDEX(AgentesDesportivos!$K:$K,MATCH(L23,AgentesDesportivos!$A:$A,0))&" "&INDEX(AgentesDesportivos!$L:$L,MATCH(L23,AgentesDesportivos!$A:$A,0)),INDEX(AgentesDesportivos!$B:$B,MATCH(L23,AgentesDesportivos!$A:$A,0))))))) | P23: =MinutosVisitante!E16
A25: Substituições: | L25: Substituições:
B26: 1ª | C26: 2ª | D26: 3ª | E26: 4ª | F26: 5ª | G26: 6ª | H26: 7ª | I26: 8ª | M26: 1ª | N26: 2ª | O26: 3ª | P26: 4ª | Q26: 5ª | R26: 6ª | S26: 7ª | T26: 8ª
A27: Entra nº | L27: Entra nº
A28: Sai nº | L28: Sai nº
A29: Minuto (1 a 50) | L29: Minuto (1 a 50)
A31: Função | D31: FPC nº | E31: Nome | H31: CA | I31: CV | J31: CB | L31: Função | O31: FPC nº | P31: Nome | S31: CA | T31: CV | U31: CB
A32: Treinador | E32: =IF(D32="","",IF($S$2="","Preencher nr do jogo",IF(INDEX(AgentesDesportivos!$F:$F,MATCH(D32,AgentesDesportivos!$A:$A,0))="","Não inscrito",INDEX(AgentesDesportivos!$B:$B,MATCH(D32,AgentesDesportivos!$A:$A,0))))) | L32: Treinador | P32: =IF(O32="","",IF($S$2="","Preencher nr do jogo",IF(INDEX(AgentesDesportivos!$F:$F,MATCH(O32,AgentesDesportivos!$A:$A,0))="","Não inscrito",INDEX(AgentesDesportivos!$B:$B,MATCH(O32,AgentesDesportivos!$A:$A,0)))))
A33: Treinador Adjunto | E33: =IF(D33="","",IF($S$2="","Preencher nr do jogo",IF(INDEX(AgentesDesportivos!$F:$F,MATCH(D33,AgentesDesportivos!$A:$A,0))="","Não inscrito",INDEX(AgentesDesportivos!$B:$B,MATCH(D33,AgentesDesportivos!$A:$A,0))))) | L33: Treinador Adjunto | P33: =IF(O33="","",IF($S$2="","Preencher nr do jogo",IF(INDEX(AgentesDesportivos!$F:$F,MATCH(O33,AgentesDesportivos!$A:$A,0))="","Não inscrito",INDEX(AgentesDesportivos!$B:$B,MATCH(O33,AgentesDesportivos!$A:$A,0)))))
A34: Delegado/Dirigente | E34: =IF(D34="","",IF($S$2="","Preencher nr do jogo",IF(INDEX(AgentesDesportivos!$G:$G,MATCH(D34,AgentesDesportivos!$A:$A,0))="","Não inscrito",INDEX(AgentesDesportivos!$B:$B,MATCH(D34,AgentesDesportivos!$A:$A,0))))) | L34: Delegado/Dirigente | P34: =IF(O34="","",IF($S$2="","Preencher nr do jogo",IF(INDEX(AgentesDesportivos!$G:$G,MATCH(O34,AgentesDesportivos!$A:$A,0))="","Não inscrito",INDEX(AgentesDesportivos!$B:$B,MATCH(O34,AgentesDesportivos!$A:$A,0)))))
A35: Médico/Fisioterapeuta | E35: =IF(D35="","",IF($S$2="","Preencher nr do jogo",IF(INDEX(AgentesDesportivos!$I:$I,MATCH(D35,AgentesDesportivos!$A:$A,0))="","Não inscrito",INDEX(AgentesDesportivos!$B:$B,MATCH(D35,AgentesDesportivos!$A:$A,0))))) | L35: Médico/Fisioterapeuta | P35: =IF(O35="","",IF($S$2="","Preencher nr do jogo",IF(INDEX(AgentesDesportivos!$I:$I,MATCH(O35,AgentesDesportivos!$A:$A,0))="","Não inscrito",INDEX(AgentesDesportivos!$B:$B,MATCH(O35,AgentesDesportivos!$A:$A,0)))))
A36: P. Físico/Massagista | E36: =IF(D36="","",IF($S$2="","Preencher nr do jogo",IF(INDEX(AgentesDesportivos!$J:$J,MATCH(D36,AgentesDesportivos!$A:$A,0))="","Não inscrito",INDEX(AgentesDesportivos!$B:$B,MATCH(D36,AgentesDesportivos!$A:$A,0))))) | L36: P. Físico/Massagista | P36: =IF(O36="","",IF($S$2="","Preencher nr do jogo",IF(INDEX(AgentesDesportivos!$J:$J,MATCH(O36,AgentesDesportivos!$A:$A,0))="","Não inscrito",INDEX(AgentesDesportivos!$B:$B,MATCH(O36,AgentesDesportivos!$A:$A,0)))))
A37: Operador Audiovisual | E37: =IF(D37="","",IF($S$2="","Preencher nr do jogo",IF(INDEX(AgentesDesportivos!$M:$M,MATCH(D37,AgentesDesportivos!$A:$A,0))="","Não inscrito",INDEX(AgentesDesportivos!$B:$B,MATCH(D37,AgentesDesportivos!$A:$A,0))))) | L37: Operador Audiovisual | P37: =IF(O37="","",IF($S$2="","Preencher nr do jogo",IF(INDEX(AgentesDesportivos!$M:$M,MATCH(O37,AgentesDesportivos!$A:$A,0))="","Não inscrito",INDEX(AgentesDesportivos!$B:$B,MATCH(O37,AgentesDesportivos!$A:$A,0)))))
C39: Descontos de tempo (x) | N39: Descontos de tempo (x)
C40: Capitão de Equipa nº | N40: Capitão de Equipa nº
C41: Registo Audiovisual (x) | N41: Registo Audiovisual (x)
D43: Resultado ao intervalo
D44: =A6 | M44: =L6
D46: Resultado final
D47: =A6 | J47: =IF($S$2<>"",TEXT(SUM(G10:G23),"0"),"") | L47: =IF($S$2<>"",TEXT(SUM(R10:R23),"0"),"") | M47: =L6
H49: Tempo regular | I49: GO | J49: Tempo GO
D50: Jogo decidido em (x):
D52: Função | H52: FPC nº | I52: Nome | O52: Equipa
D53: Marcador/Ficha de Jogo | I53: =IF(H53="","",IF($S$2="","Preencher nr do jogo",IF(INDEX(AgentesDesportivos!$H:$H,MATCH(H53,AgentesDesportivos!$A:$A,0))="","Não inscrito",INDEX(AgentesDesportivos!$B:$B,MATCH(H53,AgentesDesportivos!$A:$A,0))))) | L53: =IF(K53="","",IF($S$2="","Preencher nr do jogo",IF(_xlfn.XLOOKUP(K53,AgentesDesportivos!$A:$A,AgentesDesportivos!$F:$F,,,2)="","Não inscrito",_xlfn.XLOOKUP(K53,AgentesDesportivos!$A:$A,AgentesDesportivos!$B:$B,,,2))))
D54: Cronometrista | I54: =IF(H54="","",IF($S$2="","Preencher nr do jogo",IF(INDEX(AgentesDesportivos!$H:$H,MATCH(H54,AgentesDesportivos!$A:$A,0))="","Não inscrito",INDEX(AgentesDesportivos!$B:$B,MATCH(H54,AgentesDesportivos!$A:$A,0))))) | L54: =IF(K54="","",IF($S$2="","Preencher nr do jogo",IF(_xlfn.XLOOKUP(K54,AgentesDesportivos!$A:$A,AgentesDesportivos!$F:$F,,,2)="","Não inscrito",_xlfn.XLOOKUP(K54,AgentesDesportivos!$A:$A,AgentesDesportivos!$B:$B,,,2))))
D55: Operador de Shot Clock | I55: =IF(H55="","",IF($S$2="","Preencher nr do jogo",IF(INDEX(AgentesDesportivos!$H:$H,MATCH(H55,AgentesDesportivos!$A:$A,0))="","Não inscrito",INDEX(AgentesDesportivos!$B:$B,MATCH(H55,AgentesDesportivos!$A:$A,0))))) | L55: =IF(K55="","",IF($S$2="","Preencher nr do jogo",IF(_xlfn.XLOOKUP(K55,AgentesDesportivos!$A:$A,AgentesDesportivos!$F:$F,,,2)="","Não inscrito",_xlfn.XLOOKUP(K55,AgentesDesportivos!$A:$A,AgentesDesportivos!$B:$B,,,2))))
F57: Função | J57: FPC nº | L57: Nome
F58: Equipa de Arbitragem | L58: =IF(J58="","",IF($S$2="","Preencher nr do jogo",IF(INDEX(AgentesDesportivos!$E:$E,MATCH(J58,AgentesDesportivos!$A:$A,0))="","Não inscrito",INDEX(AgentesDesportivos!$B:$B,MATCH(J58,AgentesDesportivos!$A:$A,0)))))
L59: =IF(J59="","",IF($S$2="","Preencher nr do jogo",IF(INDEX(AgentesDesportivos!$E:$E,MATCH(J59,AgentesDesportivos!$A:$A,0))="","Não inscrito",INDEX(AgentesDesportivos!$B:$B,MATCH(J59,AgentesDesportivos!$A:$A,0)))))

Sheet Ocorrências e observações
A1: =IF(ISBLANK('Ficha de Jogo'!S2),"Ocorrências e observações do jogo ",CONCATENATE("Ocorrências e observações do jogo ",'Ficha de Jogo'!S2," entre ",'Ficha de Jogo'!A6," e ",'Ficha de Jogo'!L6)) -> Ocorrências e observações do jogo
A3: A preencher pelos capitães das equipas: (Qualquer protesto do jogo exige declaração formal neste espaço)
A5: ='Ficha de Jogo'!A6:K6
A7: ='Ficha de Jogo'!L6
A10: A preencher pelo árbitro: (Devem ser justificadas todas as medidas disciplinares)
A11: =IF('Ficha de Jogo'!$J$58&'Ficha de Jogo'!$K$58&'Ficha de Jogo'!$J$59&'Ficha de Jogo'!$K$59="","",'Ficha de Jogo'!$L$58&IF('Ficha de Jogo'!$J$59="",""," e "&'Ficha de Jogo'!$L$59))
A14: Cartão branco
A15: =$A$11
A18: A preencher pela FPC:

Sheet Calendário
A1: ORDEM | B1: JOGO | C1: CÓDIGO | D1: VISITADA | E1: VISITANTE | F1: DATA/HORA | G1: LOCAL | H1: OBS
A2: 1 | B2: 1.5 | D2: 10 e 11 Out | F2: 46303
A3: 2 | B3: 2 | C3: CN3D1.1 | D3: CASPAE | E3: CCRAM | F3: 46508.5 | G3: Pav. Mun. Mário Mexia (Coimbra)
A4: 3 | B4: 3 | C4: CN3D1.2 | D4: CCCD C | E4: KLX D | F4: 46306.667 | G4: EB Vieira da Silva (Carnaxide)
A5: 4 | B5: 4 | C5: CN3D1.3 | D5: CCO B | E5: KLX E | F5: 46502.667 | G5: EBS Amélia Rey Colaço (Linda-a-Velha)
A6: 5 | B6: 5 | C6: CN3D1.4 | D6: CRCQL C | E6: ADS4W B | F6: 46431.729 | G6: ES Carcavelos
A7: 6 | B7: 6 | C7: CN3D1.5 | D7: GDBD B | E7: NCB C | F7: 46362.708 | G7: ES Ramada
A8: 7 | B8: 7 | C8: CN3D1.6 | D8: OSC B | E8: NCB D | F8: 46306.792 | G8: EB Moinhos da Arroja (Odivelas) | H8: * Falta de comparência
A9: 8 | B9: 7.5 | D9: 17 e 18 Out | F9: 46310
B10: 8 | C10: CN3D2.1 | D10: ADS4W B | E10: CASPAE | F10: 46502.5 | G10: Pav. Mun. Mário Mexia (Coimbra)
B11: 9 | C11: CN3D2.2 | D11: CCRAM | E11: CCCD C | F11: 46312.667 | G11: Pav. Mun. Alto do Moinho
B12: 10 | C12: CN3D2.3 | D12: CRCQL C | E12: CCO B | F12: 46313.667 | G12: ES Carcavelos
B13: 11 | C13: CN3D2.4 | D13: GDBD B | E13: CCCD D | F13: 46313.792 | G13: ES Ramada
A14: 9 | B14: 12 | C14: CN3D2.5 | D14: NCB C | E14: OSC B | F14: 46312.792 | G14: ES José Gomes Ferreira (Benfica)
A15: 10 | B15: 13 | C15: CN3D2.6 | D15: NCB D | E15: KLX D
A16: 11 | B16: 13.5 | D16: 24 e 25 Out | F16: 46317
A17: 12 | B17: 14 | C17: CN3D3.1 | D17: CCCD C | E17: GDBD B | F17: 46319.75 | G17: EB Vieira da Silva (Carnaxide)
A18: 13 | B18: 15 | C18: CN3D3.2 | D18: CCCD D | E18: KLX E | F18: 46319.667 | G18: EB Vieira da Silva (Carnaxide)
A19: 14 | B19: 16 | C19: CN3D3.3 | D19: CCO B | E19: CCRAM | F19: 46320.667 | G19: EBS Amélia Rey Colaço (Linda-a-Velha)
A20: 15 | B20: 17 | C20: CN3D3.4 | D20: NCB C | E20: CRCQL C | F20: 46319.792 | G20: ES José Gomes Ferreira (Benfica)
A21: 16 | B21: 18 | C21: CN3D3.5 | D21: NCB D | E21: ADS4W B | G21: ES José Gomes Ferreira (Benfica)
B22: 19 | C22: CN3D3.6 | D22: OSC B | E22: CASPAE | F22: 46320.458 | G22: Pav. de Lordemão (Coimbra)
B23: 19.5 | D23: 31 Out e 1 de Nov | F23: 46324
B24: 20 | C24: CN3D4.1 | D24: ADS4W B | E24: KLX D | F24: 46327.75 | G24: EB Alfornelos
B25: 21 | C25: CN3D4.2 | D25: CCCD C | E25: CCO B | F25: 46326.75 | G25: EB Vieira da Silva (Carnaxide)
A26: 17 | B26: 22 | C26: CN3D4.3 | D26: CCCD D | E26: NCB C | F26: 46368.667 | G26: EB Vieira da Silva (Carnaxide)
A27: 18 | B27: 23 | C27: CN3D4.4 | D27: CCRAM | E27: NCB D | F27: 46326.667 | G27: Pav. Mun. Alto do Moinho
A28: 19 | B28: 24 | C28: CN3D4.5 | D28: CRCQL C | E28: GDBD B | F28: 46326.729 | G28: ES Carcavelos
A29: 20 | B29: 25 | C29: CN3D4.6 | D29: OSC B | E29: KLX E | F29: 46326.792 | G29: EB Moinhos da Arroja (Odivelas)
A30: 21 | B30: 25.5 | D30: 7 e 8 Nov | F30: 46331
A31: 22 | B31: 26 | C31: CN1D1.1 | D31: ADS4W | E31: KLX
A32: 23 | B32: 27 | C32: CN1D1.2 | D32: CRCQL | E32: CCCD | F32: 46396.812 | G32: ES Carcavelos
A33: 24 | B33: 28 | C33: CN2D1.1 | D33: CCO | E33: KLX C | F33: 46333.708 | G33: EBS Amélia Rey Colaço (Linda-a-Velha)
B34: 29 | C34: CN2D1.2 | D34: CRCQL B | E34: OSC | F34: 46334.75 | G34: ES Carcavelos
B35: 30 | C35: CN2D1.3 | D35: GDBD | E35: KLX B | F35: 46334.792 | G35: ES Ramada
B36: 31 | C36: CN2D1.4 | D36: NCB B | E36: CCCD B | F36: 46333.792 | G36: ES José Gomes Ferreira (Benfica)
B37: 32 | C37: CN3D5.1 | D37: ADS4W B | E37: KLX E | F37: 46333.625 | G37: EB Alfornelos
B38: 33 | C38: CN3D5.2 | D38: CASPAE | E38: KLX D | F38: 46334.458 | G38: Pav. Mun. Mário Mexia (Coimbra)
A39: 25 | B39: 34 | C39: CN3D5.3 | D39: CCO B | E39: CCCD D | F39: 46333.625 | G39: EBS Amélia Rey Colaço (Linda-a-Velha)
A40: 26 | B40: 35 | C40: CN3D5.4 | D40: CRCQL C | E40: CCRAM | F40: 46334.667 | G40: ES Carcavelos
A41: 27 | B41: 36 | C41: CN3D5.5 | D41: GDBD B | E41: OSC B | F41: 46333.875 | G41: ES Ramada
A42: 28 | B42: 37 | C42: CN3D5.6 | D42: NCB D | E42: CCCD C | F42: 46333.708 | G42: ES José Gomes Ferreira (Benfica)
A43: 29 | B43: 37.5 | D43: 14 e 15 Nov | F43: 46338
A44: 30 | B44: 38 | C44: CN1D2.1 | D44: CCCD | E44: ADS4W | F44: 46341.75 | G44: EB Vieira da Silva (Carnaxide)
A45: 31 | B45: 39 | C45: CN1D2.2 | D45: NCB | E45: CRCQL | F45: 46340.854 | G45: ES José Gomes Ferreira (Benfica)
A46: 32 | B46: 40 | C46: CN2D2.1 | D46: CCCD B | E46: KLX C | F46: 46364.583 | G46: EB Vieira da Silva (Carnaxide)
A47: 33 | B47: 41 | C47: CN2D2.2 | D47: GDBD | E47: CRCQL B | F47: 46341.792 | G47: ES Ramada
A48: 34 | B48: 42 | C48: CN2D2.3 | D48: NCB B | E48: KLX B | F48: 46364.76 | G48: ES José Gomes Ferreira (Benfica)
A49: 35 | B49: 43 | C49: CN2D2.4 | D49: OSC | E49: CCO | F49: 46341.792 | G49: Moinhos da Arroja
B50: 44 | C50: CN3D6.1 | D50: CASPAE | E50: KLX E | F50: 46453.458 | G50: Pav. Mun. Mário Mexia (Coimbra)
A51: 36 | B51: 45 | C51: CN3D6.2 | D51: CCCD C | E51: CCCD D | F51: 46341.667 | G51: EB Vieira da Silva (Carnaxide)
A52: 37 | B52: 46 | C52: CN3D6.3 | D52: GDBD B | E52: ADS4W B | F52: 46340.708 | G52: ES Ramada
A53: 38 | B53: 47 | C53: CN3D6.4 | D53: NCB C | E53: KLX D | F53: 46305.719 | G53: ES José Gomes Ferreira (Benfica)
A54: 39 | B54: 48 | C54: CN3D6.5 | D54: NCB D | E54: CRCQL C | F54: 46340.635 | G54: ES José Gomes Ferreira (Benfica)
A55: 40 | B55: 49 | C55: CN3D6.6 | D55: OSC B | E55: CCRAM | F55: 46340.792 | G55: EB Moinhos da Arroja (Odivelas)
A56: 41 | B56: 49.5 | D56: 21 e 22 Nov | F56: 46345
A57: 42 | B57: 50 | C57: CN1D3.1 | D57: CRCQL | E57: ADS4W | F57: 46348.792 | G57: ES Carcavelos
A58: 43 | B58: 51 | C58: CN1D3.2 | D58: NCB | E58: KLX | F58: 46347.854 | G58: ES José Gomes Ferreira (Benfica)
A59: 44 | B59: 52 | C59: CN2D3.1 | D59: CCCD B | E59: GDBD | F59: 46347.75 | G59: EB Vieira da Silva (Carnaxide)
A60: 45 | B60: 53 | C60: CN2D3.2 | D60: CRCQL B | E60: KLX B | F60: 46348.708 | G60: ES Carcavelos
A61: 46 | B61: 54 | C61: CN2D3.3 | D61: NCB B | E61: CCO | F61: 46347.781 | G61: ES José Gomes Ferreira (Benfica)
B62: 55 | C62: CN2D3.4 | D62: OSC | E62: KLX C | F62: 46347.625 | G62: EB Moinhos da Arroja (Odivelas)
A63: 47 | B63: 56 | C63: CN3D7.1 | D63: CCCD C | E63: CASPAE | F63: 46417.458 | G63: Pav. Mun. Mário Mexia (Coimbra)
A64: 48 | B64: 57 | C64: CN3D7.2 | D64: CCCD D | E64: ADS4W B | F64: 46347.667 | G64: EB Vieira da Silva (Carnaxide)
A65: 49 | B65: 58 | C65: CN3D7.3 | D65: CCRAM | E65: KLX E | F65: 46348.792 | G65: Pav. Mun. Alto do Moinho
A66: 50 | B66: 59 | C66: CN3D7.4 | D66: CRCQL C | E66: KLX D | F66: 46348.625 | G66: ES Carcavelos
A67: 51 | B67: 60 | C67: CN3D7.5 | D67: NCB C | E67: CCO B | F67: 46347.708 | G67: ES José Gomes Ferreira (Benfica)
A68: 52 | B68: 61 | C68: CN3D7.6 | D68: NCB D | E68: GDBD B | F68: 46347.635 | G68: ES José Gomes Ferreira (Benfica)
A69: 53 | B69: 61.5 | D69: 28 e 29 Nov | F69: 46352
A70: 54 | B70: 62 | C70: CN1D4.1 | D70: ADS4W | E70: NCB | F70: 46354.802 | G70: EB Alfornelos
A71: 55 | B71: 63 | C71: CN1D4.2 | D71: CCCD | E71: KLX | F71: 46354.875 | G71: EB Vieira da Silva (Carnaxide)
A72: 56 | B72: 64 | C72: CN2D4.1 | D72: CCCD B | E72: OSC | F72: 46354.792 | G72: EB Vieira da Silva (Carnaxide)
A73: 57 | B73: 65 | C73: CN2D4.2 | D73: CCO | E73: CRCQL B | F73: 46355.667 | G73: EBS Amélia Rey Colaço (Linda-a-Velha)
B74: 66 | C74: CN2D4.3 | D74: GDBD | E74: NCB B | F74: 46354.875 | G74: ES Ramada
A75: 58 | B75: 67 | C75: CN2D4.4 | D75: KLX B | E75: KLX C | F75: 46464.833 | G75: EB Sarah Afonso (Olivais)
A76: 59 | B76: 68 | C76: CN3D8.1 | D76: ADS4W B | E76: NCB C | F76: 46354.708 | G76: EB Alfornelos
A77: 60 | B77: 69 | C77: CN3D8.2 | D77: CASPAE | E77: NCB D | F77: 46439.708 | G77: Pav. Mun. Mário Mexia (Coimbra)
A78: 61 | B78: 70 | C78: CN3D8.3 | D78: CCCD C | E78: CRCQL C | F78: 46354.708 | G78: EB Vieira da Silva (Carnaxide)
A79: 62 | B79: 71 | C79: CN3D8.4 | D79: CCCD D | E79: CCRAM | F79: 46354.625 | G79: EB Vieira da Silva (Carnaxide)
A80: 63 | B80: 72 | C80: CN3D8.5 | D80: CCO B | E80: OSC B | F80: 46357.792 | G80: EBS Amélia Rey Colaço (Linda-a-Velha)
A81: 64 | B81: 73 | C81: CN3D8.6 | D81: KLX D | E81: KLX E | F81: 46465.833 | G81: EB Sarah Afonso (Olivais)
A82: 65 | B82: 73.5 | D82: 1 de Dez | F82: 46357
A83: 66 | B83: 1 | C83: STMG1.1 | D83: NCB | E83: KLX | F83: 46357.646 | G83: Pav. Esteiro - FMH
A84: 67 | B84: 73.5 | D84: 5 e 6 Dez | F84: 46359
A85: 68 | B85: 74 | C85: CN1D5.1 | D85: CRCQL | E85: KLX | F85: 46362.833 | G85: ES Carcavelos
B86: 75 | C86: CN1D5.2 | D86: NCB | E86: CCCD | F86: 46361.854 | G86: ES José Gomes Ferreira (Benfica)
A87: 69 | B87: 76 | C87: CN2D5.1 | D87: CCO | E87: KLX B | F87: 46362.729 | G87: EBS Amélia Rey Colaço (Linda-a-Velha)
A88: 70 | B88: 77 | C88: CN2D5.2 | D88: CRCQL B | E88: CCCD B | F88: 46362.75 | G88: ES Carcavelos
A89: 71 | B89: 78 | C89: CN2D5.3 | D89: GDBD | E89: OSC | F89: 46362.875 | G89: ES Ramada
A90: 72 | B90: 79 | C90: CN2D5.4 | D90: NCB B | E90: KLX C | F90: 46361.781 | G90: ES José Gomes Ferreira (Benfica)
A91: 73 | B91: 80 | C91: CN3D9.1 | D91: CCO B | E91: KLX D | F91: 46362.646 | G91: EBS Amélia Rey Colaço (Linda-a-Velha)
A92: 80 | B92: 81 | C92: CN3D9.2 | D92: CCRAM | E92: ADS4W B | F92: 46417.708 | G92: Pav. Mun. Alto do Moinho
B93: 82 | C93: CN3D9.3 | D93: CRCQL C | E93: OSC B | F93: 46362.667 | G93: ES Carcavelos
B94: 83 | C94: CN3D9.4 | D94: GDBD B | E94: CASPAE | F94: 46361.458 | G94: Pav. Mun. Mário Mexia (Coimbra)
B95: 84 | C95: CN3D9.5 | D95: NCB C | E95: KLX E | F95: 46361.708 | G95: ES José Gomes Ferreira (Benfica)
B96: 85 | C96: CN3D9.6 | D96: NCB D | E96: CCCD D | F96: 46361.635 | G96: ES José Gomes Ferreira (Benfica)
B97: 85.5 | D97: 8 de Dez | F97: 46364
B98: 86 | C98: CN1D6.1 | D98: ADS4W | E98: CRCQL | F98: 46364.802 | G98: EB Alfornelos
A99: 87 | B99: 87 | C99: CN1D6.2 | D99: NCB | E99: KLX | F99: 46364.833 | G99: ES José Gomes Ferreira (Benfica)
A100: 88 | B100: 88 | C100: CN3D10.1 | D100: ADS4W B | E100: CCCD C | F100: 46364.688 | G100: EB Alfornelos
...

Sheet Folha auxiliar substituições
A1: Folha Auxiliar
A2: =IF(ISBLANK('Ficha de Jogo'!S2),"Cálculo do tempo de jogo das substituições",CONCATENATE("Cálculo do tempo de jogo das substituições (jogo ",'Ficha de Jogo'!S2,")")) -> Cálculo do tempo de jogo das substituições | H2: Tempo de jogo | I2: =TIME(0,50,0) -> 0.034722222
A3: Equipa visitada: | F3: ='Ficha de Jogo'!A6 | H3: Número de períodos | I3: 4
A4: Equipa visitante: | F4: ='Ficha de Jogo'!L6 | H4: Tempo de golo de ouro | I4: =TIME(0,10,0) -> 0.0069444444
A5: # | B5: Equipa | C5: Entra jogador nr | D5: Sai jogador nr | E5: Período em que decorre a substituição exemplo: 1 | F5: Tempo no cronómetro (mmss) exemplo: 8 min e 37 seg -> escrever 837 | G5: Minuto (colocar na ficha de jogo) | H5: (auxiliar) Tempo total que já se jogou
A6: 1 | G6: =IF(ISBLANK(F6),"",IF(ISBLANK(E6),"Preencher período (coluna D)",ROUNDUP(MINUTE(H6)+SECOND(H6)/60,0))) | H6: =IF(OR(ISBLANK(E6),ISBLANK(F6)),"",IF(E6<>"Golo-de-ouro",E6*$I$2/4-TIME(0,QUOTIENT(F6,100),MOD(F6,100)),$I$2+$I$4-TIME(0,QUOTIENT(F6,100),MOD(F6,100))))
A7: 2 | G7: =IF(ISBLANK(F7),"",IF(ISBLANK(E7),"Preencher período (coluna D)",ROUNDUP(MINUTE(H7)+SECOND(H7)/60,0))) | H7: =IF(OR(ISBLANK(E7),ISBLANK(F7)),"",IF(E7<>"Golo-de-ouro",E7*$I$2/4-TIME(0,QUOTIENT(F7,100),MOD(F7,100)),$I$2+$I$4-TIME(0,QUOTIENT(F7,100),MOD(F7,100))))
A8: 3 | G8: =IF(ISBLANK(F8),"",IF(ISBLANK(E8),"Preencher período (coluna D)",ROUNDUP(MINUTE(H8)+SECOND(H8)/60,0))) | H8: =IF(OR(ISBLANK(E8),ISBLANK(F8)),"",IF(E8<>"Golo-de-ouro",E8*$I$2/4-TIME(0,QUOTIENT(F8,100),MOD(F8,100)),$I$2+$I$4-TIME(0,QUOTIENT(F8,100),MOD(F8,100))))
A9: 4 | G9: =IF(ISBLANK(F9),"",IF(ISBLANK(E9),"Preencher período (coluna D)",ROUNDUP(MINUTE(H9)+SECOND(H9)/60,0))) | H9: =IF(OR(ISBLANK(E9),ISBLANK(F9)),"",IF(E9<>"Golo-de-ouro",E9*$I$2/4-TIME(0,QUOTIENT(F9,100),MOD(F9,100)),$I$2+$I$4-TIME(0,QUOTIENT(F9,100),MOD(F9,100))))
A10: 5 | G10: =IF(ISBLANK(F10),"",IF(ISBLANK(E10),"Preencher período (coluna D)",ROUNDUP(MINUTE(H10)+SECOND(H10)/60,0))) | H10: =IF(OR(ISBLANK(E10),ISBLANK(F10)),"",IF(E10<>"Golo-de-ouro",E10*$I$2/4-TIME(0,QUOTIENT(F10,100),MOD(F10,100)),$I$2+$I$4-TIME(0,QUOTIENT(F10,100),MOD(F10,100))))
A11: 6 | G11: =IF(ISBLANK(F11),"",IF(ISBLANK(E11),"Preencher período (coluna D)",ROUNDUP(MINUTE(H11)+SECOND(H11)/60,0))) | H11: =IF(OR(ISBLANK(E11),ISBLANK(F11)),"",IF(E11<>"Golo-de-ouro",E11*$I$2/4-TIME(0,QUOTIENT(F11,100),MOD(F11,100)),$I$2+$I$4-TIME(0,QUOTIENT(F11,100),MOD(F11,100))))
A12: 7 | G12: =IF(ISBLANK(F12),"",IF(ISBLANK(E12),"Preencher período (coluna D)",ROUNDUP(MINUTE(H12)+SECOND(H12)/60,0))) | H12: =IF(OR(ISBLANK(E12),ISBLANK(F12)),"",IF(E12<>"Golo-de-ouro",E12*$I$2/4-TIME(0,QUOTIENT(F12,100),MOD(F12,100)),$I$2+$I$4-TIME(0,QUOTIENT(F12,100),MOD(F12,100))))
A13: 8 | G13: =IF(ISBLANK(F13),"",IF(ISBLANK(E13),"Preencher período (coluna D)",ROUNDUP(MINUTE(H13)+SECOND(H13)/60,0))) | H13: =IF(OR(ISBLANK(E13),ISBLANK(F13)),"",IF(E13<>"Golo-de-ouro",E13*$I$2/4-TIME(0,QUOTIENT(F13,100),MOD(F13,100)),$I$2+$I$4-TIME(0,QUOTIENT(F13,100),MOD(F13,100))))
A14: 9 | G14: =IF(ISBLANK(F14),"",IF(ISBLANK(E14),"Preencher período (coluna D)",ROUNDUP(MINUTE(H14)+SECOND(H14)/60,0))) | H14: =IF(OR(ISBLANK(E14),ISBLANK(F14)),"",IF(E14<>"Golo-de-ouro",E14*$I$2/4-TIME(0,QUOTIENT(F14,100),MOD(F14,100)),$I$2+$I$4-TIME(0,QUOTIENT(F14,100),MOD(F14,100))))
A15: 10 | G15: =IF(ISBLANK(F15),"",IF(ISBLANK(E15),"Preencher período (coluna D)",ROUNDUP(MINUTE(H15)+SECOND(H15)/60,0))) | H15: =IF(OR(ISBLANK(E15),ISBLANK(F15)),"",IF(E15<>"Golo-de-ouro",E15*$I$2/4-TIME(0,QUOTIENT(F15,100),MOD(F15,100)),$I$2+$I$4-TIME(0,QUOTIENT(F15,100),MOD(F15,100))))
A16: 11 | G16: =IF(ISBLANK(F16),"",IF(ISBLANK(E16),"Preencher período (coluna D)",ROUNDUP(MINUTE(H16)+SECOND(H16)/60,0))) | H16: =IF(OR(ISBLANK(E16),ISBLANK(F16)),"",IF(E16<>"Golo-de-ouro",E16*$I$2/4-TIME(0,QUOTIENT(F16,100),MOD(F16,100)),$I$2+$I$4-TIME(0,QUOTIENT(F16,100),MOD(F16,100))))
A17: 12 | G17: =IF(ISBLANK(F17),"",IF(ISBLANK(E17),"Preencher período (coluna D)",ROUNDUP(MINUTE(H17)+SECOND(H17)/60,0))) | H17: =IF(OR(ISBLANK(E17),ISBLANK(F17)),"",IF(E17<>"Golo-de-ouro",E17*$I$2/4-TIME(0,QUOTIENT(F17,100),MOD(F17,100)),$I$2+$I$4-TIME(0,QUOTIENT(F17,100),MOD(F17,100))))
... A25: 20 | G25: =IF(ISBLANK(F25),"",IF(ISBLANK(E25),"Preencher período (coluna D)",ROUNDUP(MINUTE(H25)+SECOND(H25)/60,0))) | H25: =IF(OR(ISBLANK(E25),ISBLANK(F25)),"",IF(E25<>"Golo-de-ouro",E25*$I$2/4-TIME(0,QUOTIENT(F25,100),MOD(F25,100)),$I$2+$I$4-TIME(0,QUOTIENT(F25,100),MOD(F25,100))))

Sheet Folha auxiliar cartão amarelo
A1: Folha Auxiliar | G1: Tempo de jogo | H1: =TIME(0,50,0) -> 0.034722222
A2: =IF(ISBLANK('Ficha de Jogo'!S2),"Cálculo do tempo de suspensão devido a cartão amarelo",CONCATENATE("Cálculo do tempo de suspensão devido a cartão amarelo (jogo ",'Ficha de Jogo'!S2,")")) -> Cálculo do tempo de suspensão devido a cartão amarelo | G2: Número de períodos | H2: 4
A3: Equipa visitada: | E3: ='Ficha de Jogo'!A6 | G3: Tempo de golo de ouro | H3: =TIME(0,10,0) -> 0.0069444444
A4: Equipa visitante: | E4: ='Ficha de Jogo'!L6 | G4: Tempo de suspensão | H4: =TIME(0,4,0) -> 0.0027777778
A5: # | B5: Equipa | C5: Nome agente desportivo | D5: Período em ocorreu a suspensão exemplo: 1 | E5: Tempo no cronómetro (mmss) exemplo: 8 min e 37 seg -> escrever 837 | F5: Momento em que a suspensão de 4 minutos termina | G5: (auxiliar) Período em que volta a entrar | H5: (auxiliar) Tempo total que falta jogar | I5: (auxiliar) Tempo total que falta jogar após suspensão | J5: (auxiliar) Tempo que falta jogar após suspensão no período em causa
A6: 1 | F6: =IF(ISBLANK(E6),"",IF(ISBLANK(D6),"Preencher período (coluna D e/ou F)",IF(G6<>"Não volta a entrar",_xlfn.CONCAT(G6,": ",MINUTE(J6),":",SECOND(J6)),G6))) | G6: =IF(OR(ISBLANK(D6),ISBLANK(E6)),"",IF(D6<>"Golo-de-ouro",IF(E6-400>0,_xlfn.CONCAT("Período ",D6),IF(D6=4,_xlfn.CONCAT("Não volta a entrar ou Golo de ouro"),_xlfn.CONCAT("Período ", D6+1))),IF(E6-400>0,_xlfn.CONCAT("Golo-de-ouro"),"Não volta a entrar"))) | H6: =IF(OR(ISBLANK(D6),ISBLANK(E6)),"",IF(D6<>"Golo-de-ouro",$H$1-D6*$H$1/$H$2+TIME(0,QUOTIENT(E6,100),MOD(E6,100)),TIME(0,QUOTIENT(E6,100),MOD(E6,100)))) | I6: =IF(OR(ISBLANK(D6),ISBLANK(E6)),"",IF($H$4<H6,H6-$H$4,H6+$H$3-$H$4)) | J6: =IF(OR(ISBLANK(D6),ISBLANK(E6)),"",IF($H$4<H6,I6-_xlfn.FLOOR.MATH(I6/($H$1/$H$2))*$H$1/$H$2,I6))
A7: 2 | F7: =IF(ISBLANK(E7),"",IF(ISBLANK(D7),"Preencher período (coluna D e/ou F)",IF(G7<>"Não volta a entrar",_xlfn.CONCAT(G7,": ",MINUTE(J7),":",SECOND(J7)),G7))) | G7: =IF(OR(ISBLANK(D7),ISBLANK(E7)),"",IF(D7<>"Golo-de-ouro",IF(E7-400>0,_xlfn.CONCAT("Período ",D7),IF(D7=4,_xlfn.CONCAT("Não volta a entrar ou Golo de ouro"),_xlfn.CONCAT("Período ", D7+1))),IF(E7-400>0,_xlfn.CONCAT("Golo-de-ouro"),"Não volta a entrar"))) | H7: =IF(OR(ISBLANK(D7),ISBLANK(E7)),"",IF(D7<>"Golo-de-ouro",$H$1-D7*$H$1/$H$2+TIME(0,QUOTIENT(E7,100),MOD(E7,100)),TIME(0,QUOTIENT(E7,100),MOD(E7,100)))) | I7: =IF(OR(ISBLANK(D7),ISBLANK(E7)),"",IF($H$4<H7,H7-$H$4,H7+$H$3-$H$4)) | J7: =IF(OR(ISBLANK(D7),ISBLANK(E7)),"",IF($H$4<H7,I7-_xlfn.FLOOR.MATH(I7/($H$1/$H$2))*$H$1/$H$2,I7))
A8: 3 | F8: =IF(ISBLANK(E8),"",IF(ISBLANK(D8),"Preencher período (coluna D e/ou F)",IF(G8<>"Não volta a entrar",_xlfn.CONCAT(G8,": ",MINUTE(J8),":",SECOND(J8)),G8))) | G8: =IF(OR(ISBLANK(D8),ISBLANK(E8)),"",IF(D8<>"Golo-de-ouro",IF(E8-400>0,_xlfn.CONCAT("Período ",D8),IF(D8=4,_xlfn.CONCAT("Não volta a entrar ou Golo de ouro"),_xlfn.CONCAT("Período ", D8+1))),IF(E8-400>0,_xlfn.CONCAT("Golo-de-ouro"),"Não volta a entrar"))) | H8: =IF(OR(ISBLANK(D8),ISBLANK(E8)),"",IF(D8<>"Golo-de-ouro",$H$1-D8*$H$1/$H$2+TIME(0,QUOTIENT(E8,100),MOD(E8,100)),TIME(0,QUOTIENT(E8,100),MOD(E8,100)))) | I8: =IF(OR(ISBLANK(D8),ISBLANK(E8)),"",IF($H$4<H8,H8-$H$4,H8+$H$3-$H$4)) | J8: =IF(OR(ISBLANK(D8),ISBLANK(E8)),"",IF($H$4<H8,I8-_xlfn.FLOOR.MATH(I8/($H$1/$H$2))*$H$1/$H$2,I8))
A9: 4 | F9: =IF(ISBLANK(E9),"",IF(ISBLANK(D9),"Preencher período (coluna D e/ou F)",IF(G9<>"Não volta a entrar",_xlfn.CONCAT(G9,": ",MINUTE(J9),":",SECOND(J9)),G9))) | G9: =IF(OR(ISBLANK(D9),ISBLANK(E9)),"",IF(D9<>"Golo-de-ouro",IF(E9-400>0,_xlfn.CONCAT("Período ",D9),IF(D9=4,_xlfn.CONCAT("Não volta a entrar ou Golo de ouro"),_xlfn.CONCAT("Período ", D9+1))),IF(E9-400>0,_xlfn.CONCAT("Golo-de-ouro"),"Não volta a entrar"))) | H9: =IF(OR(ISBLANK(D9),ISBLANK(E9)),"",IF(D9<>"Golo-de-ouro",$H$1-D9*$H$1/$H$2+TIME(0,QUOTIENT(E9,100),MOD(E9,100)),TIME(0,QUOTIENT(E9,100),MOD(E9,100)))) | I9: =IF(OR(ISBLANK(D9),ISBLANK(E9)),"",IF($H$4<H9,H9-$H$4,H9+$H$3-$H$4)) | J9: =IF(OR(ISBLANK(D9),ISBLANK(E9)),"",IF($H$4<H9,I9-_xlfn.FLOOR.MATH(I9/($H$1/$H$2))*$H$1/$H$2,I9))
A10: 5 | F10: =IF(ISBLANK(E10),"",IF(ISBLANK(D10),"Preencher período (coluna D e/ou F)",IF(G10<>"Não volta a entrar",_xlfn.CONCAT(G10,": ",MINUTE(J10),":",SECOND(J10)),G10))) | G10: =IF(OR(ISBLANK(D10),ISBLANK(E10)),"",IF(D10<>"Golo-de-ouro",IF(E10-400>0,_xlfn.CONCAT("Período ",D10),IF(D10=4,_xlfn.CONCAT("Não volta a entrar ou Golo de ouro"),_xlfn.CONCAT("Período ", D10+1))),IF(E10-400>0,_xlfn.CONCAT("Golo-de-ouro"),"Não volta a entrar"))) | H10: =IF(OR(ISBLANK(D10),ISBLANK(E10)),"",IF(D10<>"Golo-de-ouro",$H$1-D10*$H$1/$H$2+TIME(0,QUOTIENT(E10,100),MOD(E10,100)),TIME(0,QUOTIENT(E10,100),MOD(E10,100)))) | I10: =IF(OR(ISBLANK(D10),ISBLANK(E10)),"",IF($H$4<H10,H10-$H$4,H10+$H$3-$H$4)) | J10: =IF(OR(ISBLANK(D10),ISBLANK(E10)),"",IF($H$4<H10,I10-_xlfn.FLOOR.MATH(I10/($H$1/$H$2))*$H$1/$H$2,I10))
A11: 6 | F11: =IF(ISBLANK(E11),"",IF(ISBLANK(D11),"Preencher período (coluna D e/ou F)",IF(G11<>"Não volta a entrar",_xlfn.CONCAT(G11,": ",MINUTE(J11),":",SECOND(J11)),G11))) | G11: =IF(OR(ISBLANK(D11),ISBLANK(E11)),"",IF(D11<>"Golo-de-ouro",IF(E11-400>0,_xlfn.CONCAT("Período ",D11),IF(D11=4,_xlfn.CONCAT("Não volta a entrar ou Golo de ouro"),_xlfn.CONCAT("Período ", D11+1))),IF(E11-400>0,_xlfn.CONCAT("Golo-de-ouro"),"Não volta a entrar"))) | H11: =IF(OR(ISBLANK(D11),ISBLANK(E11)),"",IF(D11<>"Golo-de-ouro",$H$1-D11*$H$1/$H$2+TIME(0,QUOTIENT(E11,100),MOD(E11,100)),TIME(0,QUOTIENT(E11,100),MOD(E11,100)))) | I11: =IF(OR(ISBLANK(D11),ISBLANK(E11)),"",IF($H$4<H11,H11-$H$4,H11+$H$3-$H$4)) | J11: =IF(OR(ISBLANK(D11),ISBLANK(E11)),"",IF($H$4<H11,I11-_xlfn.FLOOR.MATH(I11/($H$1/$H$2))*$H$1/$H$2,I11))
A12: 7 | F12: =IF(ISBLANK(E12),"",IF(ISBLANK(D12),"Preencher período (coluna D e/ou F)",IF(G12<>"Não volta a entrar",_xlfn.CONCAT(G12,": ",MINUTE(J12),":",SECOND(J12)),G12))) | G12: =IF(OR(ISBLANK(D12),ISBLANK(E12)),"",IF(D12<>"Golo-de-ouro",IF(E12-400>0,_xlfn.CONCAT("Período ",D12),IF(D12=4,_xlfn.CONCAT("Não volta a entrar ou Golo de ouro"),_xlfn.CONCAT("Período ", D12+1))),IF(E12-400>0,_xlfn.CONCAT("Golo-de-ouro"),"Não volta a entrar"))) | H12: =IF(OR(ISBLANK(D12),ISBLANK(E12)),"",IF(D12<>"Golo-de-ouro",$H$1-D12*$H$1/$H$2+TIME(0,QUOTIENT(E12,100),MOD(E12,100)),TIME(0,QUOTIENT(E12,100),MOD(E12,100)))) | I12: =IF(OR(ISBLANK(D12),ISBLANK(E12)),"",IF($H$4<H12,H12-$H$4,H12+$H$3-$H$4)) | J12: =IF(OR(ISBLANK(D12),ISBLANK(E12)),"",IF($H$4<H12,I12-_xlfn.FLOOR.MATH(I12/($H$1/$H$2))*$H$1/$H$2,I12))
A13: 8 | F13: =IF(ISBLANK(E13),"",IF(ISBLANK(D13),"Preencher período (coluna D e/ou F)",IF(G13<>"Não volta a entrar",_xlfn.CONCAT(G13,": ",MINUTE(J13),":",SECOND(J13)),G13))) | G13: =IF(OR(ISBLANK(D13),ISBLANK(E13)),"",IF(D13<>"Golo-de-ouro",IF(E13-400>0,_xlfn.CONCAT("Período ",D13),IF(D13=4,_xlfn.CONCAT("Não volta a entrar ou Golo de ouro"),_xlfn.CONCAT("Período ", D13+1))),IF(E13-400>0,_xlfn.CONCAT("Golo-de-ouro"),"Não volta a entrar"))) | H13: =IF(OR(ISBLANK(D13),ISBLANK(E13)),"",IF(D13<>"Golo-de-ouro",$H$1-D13*$H$1/$H$2+TIME(0,QUOTIENT(E13,100),MOD(E13,100)),TIME(0,QUOTIENT(E13,100),MOD(E13,100)))) | I13: =IF(OR(ISBLANK(D13),ISBLANK(E13)),"",IF($H$4<H13,H13-$H$4,H13+$H$3-$H$4)) | J13: =IF(OR(ISBLANK(D13),ISBLANK(E13)),"",IF($H$4<H13,I13-_xlfn.FLOOR.MATH(I13/($H$1/$H$2))*$H$1/$H$2,I13))
A14: 9 | F14: =IF(ISBLANK(E14),"",IF(ISBLANK(D14),"Preencher período (coluna D e/ou F)",IF(G14<>"Não volta a entrar",_xlfn.CONCAT(G14,": ",MINUTE(J14),":",SECOND(J14)),G14))) | G14: =IF(OR(ISBLANK(D14),ISBLANK(E14)),"",IF(D14<>"Golo-de-ouro",IF(E14-400>0,_xlfn.CONCAT("Período ",D14),IF(D14=4,_xlfn.CONCAT("Não volta a entrar ou Golo de ouro"),_xlfn.CONCAT("Período ", D14+1))),IF(E14-400>0,_xlfn.CONCAT("Golo-de-ouro"),"Não volta a entrar"))) | H14: =IF(OR(ISBLANK(D14),ISBLANK(E14)),"",IF(D14<>"Golo-de-ouro",$H$1-D14*$H$1/$H$2+TIME(0,QUOTIENT(E14,100),MOD(E14,100)),TIME(0,QUOTIENT(E14,100),MOD(E14,100)))) | I14: =IF(OR(ISBLANK(D14),ISBLANK(E14)),"",IF($H$4<H14,H14-$H$4,H14+$H$3-$H$4)) | J14: =IF(OR(ISBLANK(D14),ISBLANK(E14)),"",IF($H$4<H14,I14-_xlfn.FLOOR.MATH(I14/($H$1/$H$2))*$H$1/$H$2,I14))
A15: 10 | F15: =IF(ISBLANK(E15),"",IF(ISBLANK(D15),"Preencher período (coluna D e/ou F)",IF(G15<>"Não volta a entrar",_xlfn.CONCAT(G15,": ",MINUTE(J15),":",SECOND(J15)),G15))) | G15: =IF(OR(ISBLANK(D15),ISBLANK(E15)),"",IF(D15<>"Golo-de-ouro",IF(E15-400>0,_xlfn.CONCAT("Período ",D15),IF(D15=4,_xlfn.CONCAT("Não volta a entrar ou Golo de ouro"),_xlfn.CONCAT("Período ", D15+1))),IF(E15-400>0,_xlfn.CONCAT("Golo-de-ouro"),"Não volta a entrar"))) | H15: =IF(OR(ISBLANK(D15),ISBLANK(E15)),"",IF(D15<>"Golo-de-ouro",$H$1-D15*$H$1/$H$2+TIME(0,QUOTIENT(E15,100),MOD(E15,100)),TIME(0,QUOTIENT(E15,100),MOD(E15,100)))) | I15: =IF(OR(ISBLANK(D15),ISBLANK(E15)),"",IF($H$4<H15,H15-$H$4,H15+$H$3-$H$4)) | J15: =IF(OR(ISBLANK(D15),ISBLANK(E15)),"",IF($H$4<H15,I15-_xlfn.FLOOR.MATH(I15/($H$1/$H$2))*$H$1/$H$2,I15))
A16: 11 | F16: =IF(ISBLANK(E16),"",IF(ISBLANK(D16),"Preencher período (coluna D e/ou F)",IF(G16<>"Não volta a entrar",_xlfn.CONCAT(G16,": ",MINUTE(J16),":",SECOND(J16)),G16))) | G16: =IF(OR(ISBLANK(D16),ISBLANK(E16)),"",IF(D16<>"Golo-de-ouro",IF(E16-400>0,_xlfn.CONCAT("Período ",D16),IF(D16=4,_xlfn.CONCAT("Não volta a entrar ou Golo de ouro"),_xlfn.CONCAT("Período ", D16+1))),IF(E16-400>0,_xlfn.CONCAT("Golo-de-ouro"),"Não volta a entrar"))) | H16: =IF(OR(ISBLANK(D16),ISBLANK(E16)),"",IF(D16<>"Golo-de-ouro",$H$1-D16*$H$1/$H$2+TIME(0,QUOTIENT(E16,100),MOD(E16,100)),TIME(0,QUOTIENT(E16,100),MOD(E16,100)))) | I16: =IF(OR(ISBLANK(D16),ISBLANK(E16)),"",IF($H$4<H16,H16-$H$4,H16+$H$3-$H$4)) | J16: =IF(OR(ISBLANK(D16),ISBLANK(E16)),"",IF($H$4<H16,I16-_xlfn.FLOOR.MATH(I16/($H$1/$H$2))*$H$1/$H$2,I16))
A17: 12 | F17: =IF(ISBLANK(E17),"",IF(ISBLANK(D17),"Preencher período (coluna D e/ou F)",IF(G17<>"Não volta a entrar",_xlfn.CONCAT(G17,": ",MINUTE(J17),":",SECOND(J17)),G17))) | G17: =IF(OR(ISBLANK(D17),ISBLANK(E17)),"",IF(D17<>"Golo-de-ouro",IF(E17-400>0,_xlfn.CONCAT("Período ",D17),IF(D17=4,_xlfn.CONCAT("Não volta a entrar ou Golo de ouro"),_xlfn.CONCAT("Período ", D17+1))),IF(E17-400>0,_xlfn.CONCAT("Golo-de-ouro"),"Não volta a entrar"))) | H17: =IF(OR(ISBLANK(D17),ISBLANK(E17)),"",IF(D17<>"Golo-de-ouro",$H$1-D17*$H$1/$H$2+TIME(0,QUOTIENT(E17,100),MOD(E17,100)),TIME(0,QUOTIENT(E17,100),MOD(E17,100)))) | I17: =IF(OR(ISBLANK(D17),ISBLANK(E17)),"",IF($H$4<H17,H17-$H$4,H17+$H$3-$H$4)) | J17: =IF(OR(ISBLANK(D17),ISBLANK(E17)),"",IF($H$4<H17,I17-_xlfn.FLOOR.MATH(I17/($H$1/$H$2))*$H$1/$H$2,I17))
... A20: 15 | F20: =IF(ISBLANK(E20),"",IF(ISBLANK(D20),"Preencher período (coluna D e/ou F)",IF(G20<>"Não volta a entrar",_xlfn.CONCAT(G20,": ",MINUTE(J20),":",SECOND(J20)),G20))) | G20: =IF(OR(ISBLANK(D20),ISBLANK(E20)),"",IF(D20<>"Golo-de-ouro",IF(E20-400>0,_xlfn.CONCAT("Período ",D20),IF(D20=4,_xlfn.CONCAT("Não volta a entrar ou Golo de ouro"),_xlfn.CONCAT("Período ", D20+1))),IF(E20-400>0,_xlfn.CONCAT("Golo-de-ouro"),"Não volta a entrar"))) | H20: =IF(OR(ISBLANK(D20),ISBLANK(E20)),"",IF(D20<>"Golo-de-ouro",$H$1-D20*$H$1/$H$2+TIME(0,QUOTIENT(E20,100),MOD(E20,100)),TIME(0,QUOTIENT(E20,100),MOD(E20,100)))) | I20: =IF(OR(ISBLANK(D20),ISBLANK(E20)),"",IF($H$4<H20,H20-$H$4,H20+$H$3-$H$4)) | J20: =IF(OR(ISBLANK(D20),ISBLANK(E20)),"",IF($H$4<H20,I20-_xlfn.FLOOR.MATH(I20/($H$1/$H$2))*$H$1/$H$2,I20))
A21: 16 | F21: =IF(ISBLANK(E21),"",IF(ISBLANK(D21),"Preencher período (coluna D e/ou F)",IF(G21<>"Não volta a entrar",_xlfn.CONCAT(G21,": ",MINUTE(J21),":",SECOND(J21)),G21))) | G21: =IF(OR(ISBLANK(D21),ISBLANK(E21)),"",IF(D21<>"Golo-de-ouro",IF(E21-400>0,_xlfn.CONCAT("Período ",D21),IF(D21=4,_xlfn.CONCAT("Não volta a entrar ou Golo de ouro"),_xlfn.CONCAT("Período ", D21+1))),IF(E21-400>0,_xlfn.CONCAT("Golo-de-ouro"),"Não volta a entrar"))) | H21: =IF(OR(ISBLANK(D21),ISBLANK(E21)),"",$H$1-D21*$H$1/$H$2+TIME(0,QUOTIENT(E21,100),MOD(E21,100))) | I21: =IF(OR(ISBLANK(D21),ISBLANK(E21)),"",IF($H$4<H21,H21-$H$4,H21+$H$3-$H$4)) | J21: =IF(OR(ISBLANK(D21),ISBLANK(E21)),"",IF($H$4<H21,I21-_xlfn.FLOOR.MATH(I21/($H$1/$H$2))*$H$1/$H$2,I21))
A22: 17 | F22: =IF(ISBLANK(E22),"",IF(ISBLANK(D22),"Preencher período (coluna D e/ou F)",IF(G22<>"Não volta a entrar",_xlfn.CONCAT(G22,": ",MINUTE(J22),":",SECOND(J22)),G22))) | G22: =IF(OR(ISBLANK(D22),ISBLANK(E22)),"",IF(D22<>"Golo-de-ouro",IF(E22-400>0,_xlfn.CONCAT("Período ",D22),IF(D22=4,_xlfn.CONCAT("Não volta a entrar ou Golo de ouro"),_xlfn.CONCAT("Período ", D22+1))),IF(E22-400>0,_xlfn.CONCAT("Golo-de-ouro"),"Não volta a entrar"))) | H22: =IF(OR(ISBLANK(D22),ISBLANK(E22)),"",$H$1-D22*$H$1/$H$2+TIME(0,QUOTIENT(E22,100),MOD(E22,100))) | I22: =IF(OR(ISBLANK(D22),ISBLANK(E22)),"",IF($H$4<H22,H22-$H$4,H22+$H$3-$H$4)) | J22: =IF(OR(ISBLANK(D22),ISBLANK(E22)),"",IF($H$4<H22,I22-_xlfn.FLOOR.MATH(I22/($H$1/$H$2))*$H$1/$H$2,I22))
A23: 18 | F23: =IF(ISBLANK(E23),"",IF(ISBLANK(D23),"Preencher período (coluna D e/ou F)",IF(G23<>"Não volta a entrar",_xlfn.CONCAT(G23,": ",MINUTE(J23),":",SECOND(J23)),G23))) | G23: =IF(OR(ISBLANK(D23),ISBLANK(E23)),"",IF(D23<>"Golo-de-ouro",IF(E23-400>0,_xlfn.CONCAT("Período ",D23),IF(D23=4,_xlfn.CONCAT("Não volta a entrar ou Golo de ouro"),_xlfn.CONCAT("Período ", D23+1))),IF(E23-400>0,_xlfn.CONCAT("Golo-de-ouro"),"Não volta a entrar"))) | H23: =IF(OR(ISBLANK(D23),ISBLANK(E23)),"",$H$1-D23*$H$1/$H$2+TIME(0,QUOTIENT(E23,100),MOD(E23,100))) | I23: =IF(OR(ISBLANK(D23),ISBLANK(E23)),"",IF($H$4<H23,H23-$H$4,H23+$H$3-$H$4)) | J23: =IF(OR(ISBLANK(D23),ISBLANK(E23)),"",IF($H$4<H23,I23-_xlfn.FLOOR.MATH(I23/($H$1/$H$2))*$H$1/$H$2,I23))
A24: 19 | F24: =IF(ISBLANK(E24),"",IF(ISBLANK(D24),"Preencher período (coluna D e/ou F)",IF(G24<>"Não volta a entrar",_xlfn.CONCAT(G24,": ",MINUTE(J24),":",SECOND(J24)),G24))) | G24: =IF(OR(ISBLANK(D24),ISBLANK(E24)),"",IF(D24<>"Golo-de-ouro",IF(E24-400>0,_xlfn.CONCAT("Período ",D24),IF(D24=4,_xlfn.CONCAT("Não volta a entrar ou Golo de ouro"),_xlfn.CONCAT("Período ", D24+1))),IF(E24-400>0,_xlfn.CONCAT("Golo-de-ouro"),"Não volta a entrar"))) | H24: =IF(OR(ISBLANK(D24),ISBLANK(E24)),"",$H$1-D24*$H$1/$H$2+TIME(0,QUOTIENT(E24,100),MOD(E24,100))) | I24: =IF(OR(ISBLANK(D24),ISBLANK(E24)),"",IF($H$4<H24,H24-$H$4,H24+$H$3-$H$4)) | J24: =IF(OR(ISBLANK(D24),ISBLANK(E24)),"",IF($H$4<H24,I24-_xlfn.FLOOR.MATH(I24/($H$1/$H$2))*$H$1/$H$2,I24))
A25: 20 | F25: =IF(ISBLANK(E25),"",IF(ISBLANK(D25),"Preencher período (coluna D e/ou F)",IF(G25<>"Não volta a entrar",_xlfn.CONCAT(G25,": ",MINUTE(J25),":",SECOND(J25)),G25))) | G25: =IF(OR(ISBLANK(D25),ISBLANK(E25)),"",IF(D25<>"Golo-de-ouro",IF(E25-400>0,_xlfn.CONCAT("Período ",D25),IF(D25=4,_xlfn.CONCAT("Não volta a entrar ou Golo de ouro"),_xlfn.CONCAT("Período ", D25+1))),IF(E25-400>0,_xlfn.CONCAT("Golo-de-ouro"),"Não volta a entrar"))) | H25: =IF(OR(ISBLANK(D25),ISBLANK(E25)),"",$H$1-D25*$H$1/$H$2+TIME(0,QUOTIENT(E25,100),MOD(E25,100))) | I25: =IF(OR(ISBLANK(D25),ISBLANK(E25)),"",IF($H$4<H25,H25-$H$4,H25+$H$3-$H$4)) | J25: =IF(OR(ISBLANK(D25),ISBLANK(E25)),"",IF($H$4<H25,I25-_xlfn.FLOOR.MATH(I25/($H$1/$H$2))*$H$1/$H$2,I25))

Sheet AgentesDesportivos
A1: Nº | B1: Nome | C1: Sexo | D1: Jog | E1: Árb | F1: Trei | G1: Dir | H1: ST | I1: Fisio | J1: PF | K1: Clube | L1: Equipa | M1: Audiovisual
A2: 1 | M2: =IF(COUNTA($D2:$J2)>0,"x","") | O2: Jogador | P2: 3 | Q2: Coluna C
A3: 2 | M3: =IF(COUNTA($D3:$J3)>0,"x","") | O3: Árbitro | P3: 4 | Q3: Coluna D
A4: 3 | M4: =IF(COUNTA($D4:$J4)>0,"x","") | O4: Treinador | P4: 5 | Q4: Coluna E
A5: 4 | M5: =IF(COUNTA($D5:$J5)>0,"x","") | O5: Dirigente | P5: 6 | Q5: Coluna F
A6: 5 | M6: =IF(COUNTA($D6:$J6)>0,"x","") | O6: ST | P6: 7 | Q6: Coluna G
A7: 6 | B7: Jorge Alves | C7: M | K7: CRCQL | M7: =IF(COUNTA($D7:$J7)>0,"x","") | O7: Med_Fisio | P7: 8 | Q7: Coluna H
A8: 7 | B8: Isabel Teixeira | C8: F | F8: x | G8: x | K8: OSC | M8: =IF(COUNTA($D8:$J8)>0,"x","") -> x | O8: PrepFisico_Massag | P8: 9 | Q8: Coluna I
A9: 8 | M9: =IF(COUNTA($D9:$J9)>0,"x","") | O9: Operador Audiovisual | P9: 12 | Q9: Coluna K
A10: 9 | M10: =IF(COUNTA($D10:$J10)>0,"x","")
A11: 10 | M11: =IF(COUNTA($D11:$J11)>0,"x","") | O11: Clube | P11: (All)
A12: 11 | M12: =IF(COUNTA($D12:$J12)>0,"x","") | O12: Jog | P12: x
A13: 12 | M13: =IF(COUNTA($D13:$J13)>0,"x","")
A14: 13 | M14: =IF(COUNTA($D14:$J14)>0,"x","") | O14: Row Labels | P14: Count of Sexo
A15: 14 | M15: =IF(COUNTA($D15:$J15)>0,"x","") | O15: A | P15: 83
A16: 15 | B16: Vasco Condado | C16: M | M16: =IF(COUNTA($D16:$J16)>0,"x","") | O16: F | P16: 39
A17: 16 | M17: =IF(COUNTA($D17:$J17)>0,"x","") | O17: M | P17: 44
A18: 17 | B18: Marco Gonçalves | C18: M | H18: x | M18: =IF(COUNTA($D18:$J18)>0,"x","") -> x | O18: B | P18: 123
A19: 18 | M19: =IF(COUNTA($D19:$J19)>0,"x","") | O19: F | P19: 65
A20: 19 | B20: Duarte Alão | C20: M | F20: x | M20: =IF(COUNTA($D20:$J20)>0,"x","") -> x | O20: M | P20: 58
A21: 20 | M21: =IF(COUNTA($D21:$J21)>0,"x","") | O21: C | P21: 44
A22: 21 | M22: =IF(COUNTA($D22:$J22)>0,"x","") | O22: F | P22: 24
A23: 22 | B23: Vitor Machado | C23: M | M23: =IF(COUNTA($D23:$J23)>0,"x","") | O23: M | P23: 20
A24: 23 | B24: Carla Antunes | C24: F | M24: =IF(COUNTA($D24:$J24)>0,"x","") | O24: (blank)
A25: 24 | M25: =IF(COUNTA($D25:$J25)>0,"x","") | O25: D | P25: 39
A26: 25 | M26: =IF(COUNTA($D26:$J26)>0,"x","") | O26: F | P26: 16
A27: 26 | M27: =IF(COUNTA($D27:$J27)>0,"x","") | O27: M | P27: 23
A28: 27 | M28: =IF(COUNTA($D28:$J28)>0,"x","") | O28: E | P28: 26
A29: 28 | M29: =IF(COUNTA($D29:$J29)>0,"x","") | O29: F | P29: 13
A30: 29 | M30: =IF(COUNTA($D30:$J30)>0,"x","") | O30: M | P30: 13
A31: 30 | M31: =IF(COUNTA($D31:$J31)>0,"x","") | O31: Grand Total | P31: 315
A32: 31 | B32: Rogério Lourenço | C32: M | M32: =IF(COUNTA($D32:$J32)>0,"x","")
A33: 32 | M33: =IF(COUNTA($D33:$J33)>0,"x","")
A34: 33 | M34: =IF(COUNTA($D34:$J34)>0,"x","")
A35: 34 | M35: =IF(COUNTA($D35:$J35)>0,"x","")
A36: 35 | M36: =IF(COUNTA($D36:$J36)>0,"x","")
A37: 36 | B37: Pedro Berjano | C37: M | D37: x | F37: x | H37: x | K37: CCO | L37: B | M37: =IF(COUNTA($D37:$J37)>0,"x","") -> x
A38: 37 | M38: =IF(COUNTA($D38:$J38)>0,"x","")
A39: 38 | B39: Marta Jorge | C39: F | D39: x | H39: x | K39: KLX | L39: D | M39: =IF(COUNTA($D39:$J39)>0,"x","") -> x
A40: 39 | M40: =IF(COUNTA($D40:$J40)>0,"x","")
A41: 40 | M41: =IF(COUNTA($D41:$J41)>0,"x","")
A42: 41 | M42: =IF(COUNTA($D42:$J42)>0,"x","")
A43: 42 | M43: =IF(COUNTA($D43:$J43)>0,"x","")
A44: 43 | M44: =IF(COUNTA($D44:$J44)>0,"x","")
A45: 44 | M45: =IF(COUNTA($D45:$J45)>0,"x","")
A46: 45 | M46: =IF(COUNTA($D46:$J46)>0,"x","")
A47: 46 | M47: =IF(COUNTA($D47:$J47)>0,"x","")
A48: 47 | M48: =IF(COUNTA($D48:$J48)>0,"x","")
A49: 48 | M49: =IF(COUNTA($D49:$J49)>0,"x","")
A50: 49 | B50: Catarina Oliveira | C50: F | D50: x | F50: x | H50: x | K50: CCO | L50: B | M50: =IF(COUNTA($D50:$J50)>0,"x","") -> x
A51: 50 | M51: =IF(COUNTA($D51:$J51)>0,"x","")
A52: 51 | M52: =IF(COUNTA($D52:$J52)>0,"x","")
A53: 52 | M53: =IF(COUNTA($D53:$J53)>0,"x","")
A54: 53 | M54: =IF(COUNTA($D54:$J54)>0,"x","")
A55: 54 | M55: =IF(COUNTA($D55:$J55)>0,"x","")
A56: 55 | M56: =IF(COUNTA($D56:$J56)>0,"x","")
A57: 56 | M57: =IF(COUNTA($D57:$J57)>0,"x","")
A58: 57 | B58: Cláudia Jesus | C58: F | M58: =IF(COUNTA($D58:$J58)>0,"x","")
A59: 58 | B59: Joana Faria | C59: F | D59: x | E59: x | F59: x | H59: x | K59: NCB | L59: D | M59: =IF(COUNTA($D59:$J59)>0,"x","") -> x
A60: 59 | M60: =IF(COUNTA($D60:$J60)>0,"x","")
A61: 60 | M61: =IF(COUNTA($D61:$J61)>0,"x","")
A62: 61 | M62: =IF(COUNTA($D62:$J62)>0,"x","")
A63: 62 | M63: =IF(COUNTA($D63:$J63)>0,"x","")
A64: 63 | M64: =IF(COUNTA($D64:$J64)>0,"x","")
A65: 64 | M65: =IF(COUNTA($D65:$J65)>0,"x","")
A66: 65 | M66: =IF(COUNTA($D66:$J66)>0,"x","")
A67: 66 | M67: =IF(COUNTA($D67:$J67)>0,"x","")
A68: 67 | M68: =IF(COUNTA($D68:$J68)>0,"x","")
A69: 68 | M69: =IF(COUNTA($D69:$J69)>0,"x","")
A70: 69 | M70: =IF(COUNTA($D70:$J70)>0,"x","")
A71: 70 | M71: =IF(COUNTA($D71:$J71)>0,"x","")
... A79: 78 | M79: =IF(COUNTA($D79:$J79)>0,"x","")
A80: 79 | B80: Carla Lourenço | M80: =IF(COUNTA($D80:$J80)>0,"x","")
A81: 80 | M81: =IF(COUNTA($D81:$J81)>0,"x","")
A82: 81 | M82: =IF(COUNTA($D82:$J82)>0,"x","")
A83: 82 | M83: =IF(COUNTA($D83:$J83)>0,"x","")
A84: 83 | M84: =IF(COUNTA($D84:$J84)>0,"x","")
A85: 84 | M85: =IF(COUNTA($D85:$J85)>0,"x","")
A86: 85 | M86: =IF(COUNTA($D86:$J86)>0,"x","")
A87: 86 | B87: Sónia Jerónimo | M87: =IF(COUNTA($D87:$J87)>0,"x","")
A88: 87 | M88: =IF(COUNTA($D88:$J88)>0,"x","")
A89: 88 | M89: =IF(COUNTA($D89:$J89)>0,"x","")
A90: 89 | M90: =IF(COUNTA($D90:$J90)>0,"x","")
A91: 90 | M91: =IF(COUNTA($D91:$J91)>0,"x","")
A92: 91 | M92: =IF(COUNTA($D92:$J92)>0,"x","")
A93: 92 | M93: =IF(COUNTA($D93:$J93)>0,"x","")
A94: 93 | M94: =IF(COUNTA($D94:$J94)>0,"x","")
A95: 94 | M95: =IF(COUNTA($D95:$J95)>0,"x","")
A96: 95 | M96: =IF(COUNTA($D96:$J96)>0,"x","")
A97: 96 | M97: =IF(COUNTA($D97:$J97)>0,"x","")
A98: 97 | M98: =IF(COUNTA($D98:$J98)>0,"x","")
A99: 98 | M99: =IF(COUNTA($D99:$J99)>0,"x","")
... A105: 104 | M105: =IF(COUNTA($D105:$J105)>0,"x","")
A106: 105 | B106: Rui Malcata | C106: M | F106: x | K106: GDBD | M106: =IF(COUNTA($D106:$J106)>0,"x","") -> x
A107: 106 | M107: =IF(COUNTA($D107:$J107)>0,"x","")
A108: 107 | M108: =IF(COUNTA($D108:$J108)>0,"x","")
A109: 108 | M109: =IF(COUNTA($D109:$J109)>0,"x","")
A110: 109 | B110: Nuno Tomás | C110: M | M110: =IF(COUNTA($D110:$J110)>0,"x","")
A111: 110 | B111: Sandra Diogo | C111: F | D111: x | K111: GDBD | L111: B | M111: =IF(COUNTA($D111:$J111)>0,"x","") -> x
A112: 111 | M112: =IF(COUNTA($D112:$J112)>0,"x","")
...

Sheet MinutosVisitada
A1: ='Ficha de Jogo'!A6 | AC1: Equipa em jogo
A2: ='Ficha de Jogo'!L9 -> FPC nº | B2: ='Ficha de Jogo'!M9 -> Jogador nº | C2: ='Ficha de Jogo'!N9 -> Nome | D2: ='Ficha de Jogo'!Q9 -> Equipa Inicial (x) | E2: Minutos jogados | F2: Ponto Inicial | G2: 1ª | H2: 2ª | I2: 3ª | J2: 4ª | K2: 5ª | L2: 6ª | M2: 7ª | N2: 8ª | O2: 9ª | P2: Quantas vezes "in" e "out" | Q2: 1ª | R2: 2ª | S2: 3ª | T2: 4ª | U2: 5ª | V2: 6ª | W2: 7ª | X2: 8ª | Y2: 9ª | Z2: Compensação 2 ou + in/out e titular | AA2: Compensação 2 ou + in/out e suplente | AC2: Equipa inicial | AD2: 1ª | AE2: 2ª | AF2: 3ª | AG2: 4ª | AH2: 5ª | AI2: 6ª | AJ2: 7ª | AK2: 8ª | AL2: 9ª
A3: =IF(ISBLANK('Ficha de Jogo'!A10),"",'Ficha de Jogo'!A10) | B3: =IF(ISBLANK('Ficha de Jogo'!B10),"",'Ficha de Jogo'!B10) | C3: ='Ficha de Jogo'!C10 | D3: =IF(ISBLANK('Ficha de Jogo'!F10),"",'Ficha de Jogo'!F10) | E3: =IF(B3="","",IF(D3="x",IF(F3="",SUM(Q3:Y3)+Z3,SUM(Q3:Y3)+Z3+F3),IF(F3="",IF(AND(P3<>0,SUM(Q3:Y3)+AA3=0),SUM(Q3:Y3)+AA3+1,SUM(Q3:Y3)+AA3),SUM(Q3:Y3)+AA3+F3))) | F3: =IF($D3="x",IF(COUNTIF('Ficha de Jogo'!$B$27:$J$28,$B3)=0,50+N('Ficha de Jogo'!$J$50),""),IF(COUNTIF('Ficha de Jogo'!$B$27:$J$28,$B3)=0,0,"")) | G3: =IF(ISNUMBER($A3),IF('Ficha de Jogo'!B$27=$B3,"in",IF('Ficha de Jogo'!B$28=$B3,"out","")),"") | H3: =IF(ISNUMBER($A3),IF('Ficha de Jogo'!C$27=$B3,"in",IF('Ficha de Jogo'!C$28=$B3,"out","")),"") | I3: =IF(ISNUMBER($A3),IF('Ficha de Jogo'!D$27=$B3,"in",IF('Ficha de Jogo'!D$28=$B3,"out","")),"") | J3: =IF(ISNUMBER($A3),IF('Ficha de Jogo'!E$27=$B3,"in",IF('Ficha de Jogo'!E$28=$B3,"out","")),"") | K3: =IF(ISNUMBER($A3),IF('Ficha de Jogo'!F$27=$B3,"in",IF('Ficha de Jogo'!F$28=$B3,"out","")),"") | L3: =IF(ISNUMBER($A3),IF('Ficha de Jogo'!G$27=$B3,"in",IF('Ficha de Jogo'!G$28=$B3,"out","")),"") | M3: =IF(ISNUMBER($A3),IF('Ficha de Jogo'!H$27=$B3,"in",IF('Ficha de Jogo'!H$28=$B3,"out","")),"") | N3: =IF(ISNUMBER($A3),IF('Ficha de Jogo'!I$27=$B3,"in",IF('Ficha de Jogo'!I$28=$B3,"out","")),"") | O3: =IF(ISNUMBER($A3),IF('Ficha de Jogo'!J$27=$B3,"in",IF('Ficha de Jogo'!J$28=$B3,"out","")),"") | P3: =COUNTIF($G3:$O3,"in")+COUNTIF($G3:$O3,"out") -> 0 | Q3: =IF(G3="out",'Ficha de Jogo'!B$29,IF(G3="in",50+N('Ficha de Jogo'!$J$50)-'Ficha de Jogo'!B$29,"")) | R3: =IF(H3="out",'Ficha de Jogo'!C$29,IF(H3="in",50+N('Ficha de Jogo'!$J$50)-'Ficha de Jogo'!C$29,"")) | S3: =IF(I3="out",'Ficha de Jogo'!D$29,IF(I3="in",50+N('Ficha de Jogo'!$J$50)-'Ficha de Jogo'!D$29,"")) | T3: =IF(J3="out",'Ficha de Jogo'!E$29,IF(J3="in",50+N('Ficha de Jogo'!$J$50)-'Ficha de Jogo'!E$29,"")) | U3: =IF(K3="out",'Ficha de Jogo'!F$29,IF(K3="in",50+N('Ficha de Jogo'!$J$50)-'Ficha de Jogo'!F$29,"")) | V3: =IF(L3="out",'Ficha de Jogo'!G$29,IF(L3="in",50+N('Ficha de Jogo'!$J$50)-'Ficha de Jogo'!G$29,"")) | W3: =IF(M3="out",'Ficha de Jogo'!H$29,IF(M3="in",50+N('Ficha de Jogo'!$J$50)-'Ficha de Jogo'!H$29,"")) | X3: =IF(N3="out",'Ficha de Jogo'!I$29,IF(N3="in",50+N('Ficha de Jogo'!$J$50)-'Ficha de Jogo'!I$29,"")) | Y3: =IF(O3="out",'Ficha de Jogo'!J$29,IF(O3="in",50+N('Ficha de Jogo'!$J$50)-'Ficha de Jogo'!J$29,"")) | Z3: =IF($P3>1,IF($P3>2,IF($P3>3,IF($P3>4,IF($P3>5,IF($P3>6,IF($P3>7,IF($P3>8,IF($P3>9,"aqui",-4*(50+N('Ficha de Jogo'!$J$50))),-3*(50+N('Ficha de Jogo'!$J$50))),-3*(50+N('Ficha de Jogo'!$J$50))),-2*(50+N('Ficha de Jogo'!$J$50))),-2*(50+N('Ficha de Jogo'!$J$50))),-1*(50+N('Ficha de Jogo'!$J$50))),-1*(50+N('Ficha de Jogo'!$J$50))),0),0) -> 0 | AA3: =IF($P3>1,IF($P3>2,IF($P3>3,IF($P3>4,IF($P3>5,IF($P3>6,IF($P3>7,IF($P3>8,IF($P3>9,"aqui",-4*(50+N('Ficha de Jogo'!$J$50))),-4*(50+N('Ficha de Jogo'!$J$50))),-3*(50+N('Ficha de Jogo'!$J$50))),-3*(50+N('Ficha de Jogo'!$J$50))),-2*(50+N('Ficha de Jogo'!$J$50))),-2*(50+N('Ficha de Jogo'!$J$50))),-1*(50+N('Ficha de Jogo'!$J$50))),-1*(50+N('Ficha de Jogo'!$J$50))),0) -> 0 | AC3: =IF(D3="x",B3,"") | AD3: =IF(AND(G3="",AC3=$B3),$B3,IF(G3="in",$B3,"")) | AE3: =IF(AND(H3="",AD3=$B3),$B3,IF(H3="in",$B3,"")) | AF3: =IF(AND(I3="",AE3=$B3),$B3,IF(I3="in",$B3,"")) | AG3: =IF(AND(J3="",AF3=$B3),$B3,IF(J3="in",$B3,"")) | AH3: =IF(AND(K3="",AG3=$B3),$B3,IF(K3="in",$B3,"")) | AI3: =IF(AND(L3="",AH3=$B3),$B3,IF(L3="in",$B3,"")) | AJ3: =IF(AND(M3="",AI3=$B3),$B3,IF(M3="in",$B3,"")) | AK3: =IF(AND(N3="",AJ3=$B3),$B3,IF(N3="in",$B3,"")) | AL3: =IF(AND(O3="",AK3=$B3),$B3,IF(O3="in",$B3,""))
A4: =IF(ISBLANK('Ficha de Jogo'!A11),"",'Ficha de Jogo'!A11) | B4: =IF(ISBLANK('Ficha de Jogo'!B11),"",'Ficha de Jogo'!B11) | C4: ='Ficha de Jogo'!C11 | D4: =IF(ISBLANK('Ficha de Jogo'!F11),"",'Ficha de Jogo'!F11) | E4: =IF(B4="","",IF(D4="x",IF(F4="",SUM(Q4:Y4)+Z4,SUM(Q4:Y4)+Z4+F4),IF(F4="",IF(AND(P4<>0,SUM(Q4:Y4)+AA4=0),SUM(Q4:Y4)+AA4+1,SUM(Q4:Y4)+AA4),SUM(Q4:Y4)+AA4+F4))) | F4: =IF($D4="x",IF(COUNTIF('Ficha de Jogo'!$B$27:$J$28,$B4)=0,50+N('Ficha de Jogo'!$J$50),""),IF(COUNTIF('Ficha de Jogo'!$B$27:$J$28,$B4)=0,0,"")) | G4: =IF(ISNUMBER($A4),IF('Ficha de Jogo'!B$27=$B4,"in",IF('Ficha de Jogo'!B$28=$B4,"out","")),"") | H4: =IF(ISNUMBER($A4),IF('Ficha de Jogo'!C$27=$B4,"in",IF('Ficha de Jogo'!C$28=$B4,"out","")),"") | I4: =IF(ISNUMBER($A4),IF('Ficha de Jogo'!D$27=$B4,"in",IF('Ficha de Jogo'!D$28=$B4,"out","")),"") | J4: =IF(ISNUMBER($A4),IF('Ficha de Jogo'!E$27=$B4,"in",IF('Ficha de Jogo'!E$28=$B4,"out","")),"") | K4: =IF(ISNUMBER($A4),IF('Ficha de Jogo'!F$27=$B4,"in",IF('Ficha de Jogo'!F$28=$B4,"out","")),"") | L4: =IF(ISNUMBER($A4),IF('Ficha de Jogo'!G$27=$B4,"in",IF('Ficha de Jogo'!G$28=$B4,"out","")),"") | M4: =IF(ISNUMBER($A4),IF('Ficha de Jogo'!H$27=$B4,"in",IF('Ficha de Jogo'!H$28=$B4,"out","")),"") | N4: =IF(ISNUMBER($A4),IF('Ficha de Jogo'!I$27=$B4,"in",IF('Ficha de Jogo'!I$28=$B4,"out","")),"") | O4: =IF(ISNUMBER($A4),IF('Ficha de Jogo'!J$27=$B4,"in",IF('Ficha de Jogo'!J$28=$B4,"out","")),"") | P4: =COUNTIF($G4:$O4,"in")+COUNTIF($G4:$O4,"out") -> 0 | Q4: =IF(G4="out",'Ficha de Jogo'!B$29,IF(G4="in",50+N('Ficha de Jogo'!$J$50)-'Ficha de Jogo'!B$29,"")) | R4: =IF(H4="out",'Ficha de Jogo'!C$29,IF(H4="in",50+N('Ficha de Jogo'!$J$50)-'Ficha de Jogo'!C$29,"")) | S4: =IF(I4="out",'Ficha de Jogo'!D$29,IF(I4="in",50+N('Ficha de Jogo'!$J$50)-'Ficha de Jogo'!D$29,"")) | T4: =IF(J4="out",'Ficha de Jogo'!E$29,IF(J4="in",50+N('Ficha de Jogo'!$J$50)-'Ficha de Jogo'!E$29,"")) | U4: =IF(K4="out",'Ficha de Jogo'!F$29,IF(K4="in",50+N('Ficha de Jogo'!$J$50)-'Ficha de Jogo'!F$29,"")) | V4: =IF(L4="out",'Ficha de Jogo'!G$29,IF(L4="in",50+N('Ficha de Jogo'!$J$50)-'Ficha de Jogo'!G$29,"")) | W4: =IF(M4="out",'Ficha de Jogo'!H$29,IF(M4="in",50+N('Ficha de Jogo'!$J$50)-'Ficha de Jogo'!H$29,"")) | X4: =IF(N4="out",'Ficha de Jogo'!I$29,IF(N4="in",50+N('Ficha de Jogo'!$J$50)-'Ficha de Jogo'!I$29,"")) | Y4: =IF(O4="out",'Ficha de Jogo'!J$29,IF(O4="in",50+N('Ficha de Jogo'!$J$50)-'Ficha de Jogo'!J$29,"")) | Z4: =IF($P4>1,IF($P4>2,IF($P4>3,IF($P4>4,IF($P4>5,IF($P4>6,IF($P4>7,IF($P4>8,IF($P4>9,"aqui",-4*(50+N('Ficha de Jogo'!$J$50))),-3*(50+N('Ficha de Jogo'!$J$50))),-3*(50+N('Ficha de Jogo'!$J$50))),-2*(50+N('Ficha de Jogo'!$J$50))),-2*(50+N('Ficha de Jogo'!$J$50))),-1*(50+N('Ficha de Jogo'!$J$50))),-1*(50+N('Ficha de Jogo'!$J$50))),0),0) -> 0 | AA4: =IF($P4>1,IF($P4>2,IF($P4>3,IF($P4>4,IF($P4>5,IF($P4>6,IF($P4>7,IF($P4>8,IF($P4>9,"aqui",-4*(50+N('Ficha de Jogo'!$J$50))),-4*(50+N('Ficha de Jogo'!$J$50))),-3*(50+N('Ficha de Jogo'!$J$50))),-3*(50+N('Ficha de Jogo'!$J$50))),-2*(50+N('Ficha de Jogo'!$J$50))),-2*(50+N('Ficha de Jogo'!$J$50))),-1*(50+N('Ficha de Jogo'!$J$50))),-1*(50+N('Ficha de Jogo'!$J$50))),0) -> 0 | AC4: =IF(D4="x",B4,"") | AD4: =IF(AND(G4="",AC4=$B4),$B4,IF(G4="in",$B4,"")) | AE4: =IF(AND(H4="",AD4=$B4),$B4,IF(H4="in",$B4,"")) | AF4: =IF(AND(I4="",AE4=$B4),$B4,IF(I4="in",$B4,"")) | AG4: =IF(AND(J4="",AF4=$B4),$B4,IF(J4="in",$B4,"")) | AH4: =IF(AND(K4="",AG4=$B4),$B4,IF(K4="in",$B4,"")) | AI4: =IF(AND(L4="",AH4=$B4),$B4,IF(L4="in",$B4,"")) | AJ4: =IF(AND(M4="",AI4=$B4),$B4,IF(M4="in",$B4,"")) | AK4: =IF(AND(N4="",AJ4=$B4),$B4,IF(N4="in",$B4,"")) | AL4: =IF(AND(O4="",AK4=$B4),$B4,IF(O4="in",$B4,""))
A5: =IF(ISBLANK('Ficha de Jogo'!A12),"",'Ficha de Jogo'!A12) | B5: =IF(ISBLANK('Ficha de Jogo'!B12),"",'Ficha de Jogo'!B12) | C5: ='Ficha de Jogo'!C12 | D5: =IF(ISBLANK('Ficha de Jogo'!F12),"",'Ficha de Jogo'!F12) | E5: =IF(B5="","",IF(D5="x",IF(F5="",SUM(Q5:Y5)+Z5,SUM(Q5:Y5)+Z5+F5),IF(F5="",IF(AND(P5<>0,SUM(Q5:Y5)+AA5=0),SUM(Q5:Y5)+AA5+1,SUM(Q5:Y5)+AA5),SUM(Q5:Y5)+AA5+F5))) | F5: =IF($D5="x",IF(COUNTIF('Ficha de Jogo'!$B$27:$J$28,$B5)=0,50+N('Ficha de Jogo'!$J$50),""),IF(COUNTIF('Ficha de Jogo'!$B$27:$J$28,$B5)=0,0,"")) | G5: =IF(ISNUMBER($A5),IF('Ficha de Jogo'!B$27=$B5,"in",IF('Ficha de Jogo'!B$28=$B5,"out","")),"") | H5: =IF(ISNUMBER($A5),IF('Ficha de Jogo'!C$27=$B5,"in",IF('Ficha de Jogo'!C$28=$B5,"out","")),"") | I5: =IF(ISNUMBER($A5),IF('Ficha de Jogo'!D$27=$B5,"in",IF('Ficha de Jogo'!D$28=$B5,"out","")),"") | J5: =IF(ISNUMBER($A5),IF('Ficha de Jogo'!E$27=$B5,"in",IF('Ficha de Jogo'!E$28=$B5,"out","")),"") | K5: =IF(ISNUMBER($A5),IF('Ficha de Jogo'!F$27=$B5,"in",IF('Ficha de Jogo'!F$28=$B5,"out","")),"") | L5: =IF(ISNUMBER($A5),IF('Ficha de Jogo'!G$27=$B5,"in",IF('Ficha de Jogo'!G$28=$B5,"out","")),"") | M5: =IF(ISNUMBER($A5),IF('Ficha de Jogo'!H$27=$B5,"in",IF('Ficha de Jogo'!H$28=$B5,"out","")),"") | N5: =IF(ISNUMBER($A5),IF('Ficha de Jogo'!I$27=$B5,"in",IF('Ficha de Jogo'!I$28=$B5,"out","")),"") | O5: =IF(ISNUMBER($A5),IF('Ficha de Jogo'!J$27=$B5,"in",IF('Ficha de Jogo'!J$28=$B5,"out","")),"") | P5: =COUNTIF($G5:$O5,"in")+COUNTIF($G5:$O5,"out") -> 0 | Q5: =IF(G5="out",'Ficha de Jogo'!B$29,IF(G5="in",50+N('Ficha de Jogo'!$J$50)-'Ficha de Jogo'!B$29,"")) | R5: =IF(H5="out",'Ficha de Jogo'!C$29,IF(H5="in",50+N('Ficha de Jogo'!$J$50)-'Ficha de Jogo'!C$29,"")) | S5: =IF(I5="out",'Ficha de Jogo'!D$29,IF(I5="in",50+N('Ficha de Jogo'!$J$50)-'Ficha de Jogo'!D$29,"")) | T5: =IF(J5="out",'Ficha de Jogo'!E$29,IF(J5="in",50+N('Ficha de Jogo'!$J$50)-'Ficha de Jogo'!E$29,"")) | U5: =IF(K5="out",'Ficha de Jogo'!F$29,IF(K5="in",50+N('Ficha de Jogo'!$J$50)-'Ficha de Jogo'!F$29,"")) | V5: =IF(L5="out",'Ficha de Jogo'!G$29,IF(L5="in",50+N('Ficha de Jogo'!$J$50)-'Ficha de Jogo'!G$29,"")) | W5: =IF(M5="out",'Ficha de Jogo'!H$29,IF(M5="in",50+N('Ficha de Jogo'!$J$50)-'Ficha de Jogo'!H$29,"")) | X5: =IF(N5="out",'Ficha de Jogo'!I$29,IF(N5="in",50+N('Ficha de Jogo'!$J$50)-'Ficha de Jogo'!I$29,"")) | Y5: =IF(O5="out",'Ficha de Jogo'!J$29,IF(O5="in",50+N('Ficha de Jogo'!$J$50)-'Ficha de Jogo'!J$29,"")) | Z5: =IF($P5>1,IF($P5>2,IF($P5>3,IF($P5>4,IF($P5>5,IF($P5>6,IF($P5>7,IF($P5>8,IF($P5>9,"aqui",-4*(50+N('Ficha de Jogo'!$J$50))),-3*(50+N('Ficha de Jogo'!$J$50))),-3*(50+N('Ficha de Jogo'!$J$50))),-2*(50+N('Ficha de Jogo'!$J$50))),-2*(50+N('Ficha de Jogo'!$J$50))),-1*(50+N('Ficha de Jogo'!$J$50))),-1*(50+N('Ficha de Jogo'!$J$50))),0),0) -> 0 | AA5: =IF($P5>1,IF($P5>2,IF($P5>3,IF($P5>4,IF($P5>5,IF($P5>6,IF($P5>7,IF($P5>8,IF($P5>9,"aqui",-4*(50+N('Ficha de Jogo'!$J$50))),-4*(50+N('Ficha de Jogo'!$J$50))),-3*(50+N('Ficha de Jogo'!$J$50))),-3*(50+N('Ficha de Jogo'!$J$50))),-2*(50+N('Ficha de Jogo'!$J$50))),-2*(50+N('Ficha de Jogo'!$J$50))),-1*(50+N('Ficha de Jogo'!$J$50))),-1*(50+N('Ficha de Jogo'!$J$50))),0) -> 0 | AC5: =IF(D5="x",B5,"") | AD5: =IF(AND(G5="",AC5=$B5),$B5,IF(G5="in",$B5,"")) | AE5: =IF(AND(H5="",AD5=$B5),$B5,IF(H5="in",$B5,"")) | AF5: =IF(AND(I5="",AE5=$B5),$B5,IF(I5="in",$B5,"")) | AG5: =IF(AND(J5="",AF5=$B5),$B5,IF(J5="in",$B5,"")) | AH5: =IF(AND(K5="",AG5=$B5),$B5,IF(K5="in",$B5,"")) | AI5: =IF(AND(L5="",AH5=$B5),$B5,IF(L5="in",$B5,"")) | AJ5: =IF(AND(M5="",AI5=$B5),$B5,IF(M5="in",$B5,"")) | AK5: =IF(AND(N5="",AJ5=$B5),$B5,IF(N5="in",$B5,"")) | AL5: =IF(AND(O5="",AK5=$B5),$B5,IF(O5="in",$B5,""))
A6: =IF(ISBLANK('Ficha de Jogo'!A13),"",'Ficha de Jogo'!A13) | B6: =IF(ISBLANK('Ficha de Jogo'!B13),"",'Ficha de Jogo'!B13) | C6: ='Ficha de Jogo'!C13 | D6: =IF(ISBLANK('Ficha de Jogo'!F13),"",'Ficha de Jogo'!F13) | E6: =IF(B6="","",IF(D6="x",IF(F6="",SUM(Q6:Y6)+Z6,SUM(Q6:Y6)+Z6+F6),IF(F6="",IF(AND(P6<>0,SUM(Q6:Y6)+AA6=0),SUM(Q6:Y6)+AA6+1,SUM(Q6:Y6)+AA6),SUM(Q6:Y6)+AA6+F6))) | F6: =IF($D6="x",IF(COUNTIF('Ficha de Jogo'!$B$27:$J$28,$B6)=0,50+N('Ficha de Jogo'!$J$50),""),IF(COUNTIF('Ficha de Jogo'!$B$27:$J$28,$B6)=0,0,"")) | G6: =IF(ISNUMBER($A6),IF('Ficha de Jogo'!B$27=$B6,"in",IF('Ficha de Jogo'!B$28=$B6,"out","")),"") | H6: =IF(ISNUMBER($A6),IF('Ficha de Jogo'!C$27=$B6,"in",IF('Ficha de Jogo'!C$28=$B6,"out","")),"") | I6: =IF(ISNUMBER($A6),IF('Ficha de Jogo'!D$27=$B6,"in",IF('Ficha de Jogo'!D$28=$B6,"out","")),"") | J6: =IF(ISNUMBER($A6),IF('Ficha de Jogo'!E$27=$B6,"in",IF('Ficha de Jogo'!E$28=$B6,"out","")),"") | K6: =IF(ISNUMBER($A6),IF('Ficha de Jogo'!F$27=$B6,"in",IF('Ficha de Jogo'!F$28=$B6,"out","")),"") | L6: =IF(ISNUMBER($A6),IF('Ficha de Jogo'!G$27=$B6,"in",IF('Ficha de Jogo'!G$28=$B6,"out","")),"") | M6: =IF(ISNUMBER($A6),IF('Ficha de Jogo'!H$27=$B6,"in",IF('Ficha de Jogo'!H$28=$B6,"out","")),"") | N6: =IF(ISNUMBER($A6),IF('Ficha de Jogo'!I$27=$B6,"in",IF('Ficha de Jogo'!I$28=$B6,"out","")),"") | O6: =IF(ISNUMBER($A6),IF('Ficha de Jogo'!J$27=$B6,"in",IF('Ficha de Jogo'!J$28=$B6,"out","")),"") | P6: =COUNTIF($G6:$O6,"in")+COUNTIF($G6:$O6,"out") -> 0 | Q6: =IF(G6="out",'Ficha de Jogo'!B$29,IF(G6="in",50+N('Ficha de Jogo'!$J$50)-'Ficha de Jogo'!B$29,"")) | R6: =IF(H6="out",'Ficha de Jogo'!C$29,IF(H6="in",50+N('Ficha de Jogo'!$J$50)-'Ficha de Jogo'!C$29,"")) | S6: =IF(I6="out",'Ficha de Jogo'!D$29,IF(I6="in",50+N('Ficha de Jogo'!$J$50)-'Ficha de Jogo'!D$29,"")) | T6: =IF(J6="out",'Ficha de Jogo'!E$29,IF(J6="in",50+N('Ficha de Jogo'!$J$50)-'Ficha de Jogo'!E$29,"")) | U6: =IF(K6="out",'Ficha de Jogo'!F$29,IF(K6="in",50+N('Ficha de Jogo'!$J$50)-'Ficha de Jogo'!F$29,"")) | V6: =IF(L6="out",'Ficha de Jogo'!G$29,IF(L6="in",50+N('Ficha de Jogo'!$J$50)-'Ficha de Jogo'!G$29,"")) | W6: =IF(M6="out",'Ficha de Jogo'!H$29,IF(M6="in",50+N('Ficha de Jogo'!$J$50)-'Ficha de Jogo'!H$29,"")) | X6: =IF(N6="out",'Ficha de Jogo'!I$29,IF(N6="in",50+N('Ficha de Jogo'!$J$50)-'Ficha de Jogo'!I$29,"")) | Y6: =IF(O6="out",'Ficha de Jogo'!J$29,IF(O6="in",50+N('Ficha de Jogo'!$J$50)-'Ficha de Jogo'!J$29,"")) | Z6: =IF($P6>1,IF($P6>2,IF($P6>3,IF($P6>4,IF($P6>5,IF($P6>6,IF($P6>7,IF($P6>8,IF($P6>9,"aqui",-4*(50+N('Ficha de Jogo'!$J$50))),-3*(50+N('Ficha de Jogo'!$J$50))),-3*(50+N('Ficha de Jogo'!$J$50))),-2*(50+N('Ficha de Jogo'!$J$50))),-2*(50+N('Ficha de Jogo'!$J$50))),-1*(50+N('Ficha de Jogo'!$J$50))),-1*(50+N('Ficha de Jogo'!$J$50))),0),0) -> 0 | AA6: =IF($P6>1,IF($P6>2,IF($P6>3,IF($P6>4,IF($P6>5,IF($P6>6,IF($P6>7,IF($P6>8,IF($P6>9,"aqui",-4*(50+N('Ficha de Jogo'!$J$50))),-4*(50+N('Ficha de Jogo'!$J$50))),-3*(50+N('Ficha de Jogo'!$J$50))),-3*(50+N('Ficha de Jogo'!$J$50))),-2*(50+N('Ficha de Jogo'!$J$50))),-2*(50+N('Ficha de Jogo'!$J$50))),-1*(50+N('Ficha de Jogo'!$J$50))),-1*(50+N('Ficha de Jogo'!$J$50))),0) -> 0 | AC6: =IF(D6="x",B6,"") | AD6: =IF(AND(G6="",AC6=$B6),$B6,IF(G6="in",$B6,"")) | AE6: =IF(AND(H6="",AD6=$B6),$B6,IF(H6="in",$B6,"")) | AF6: =IF(AND(I6="",AE6=$B6),$B6,IF(I6="in",$B6,"")) | AG6: =IF(AND(J6="",AF6=$B6),$B6,IF(J6="in",$B6,"")) | AH6: =IF(AND(K6="",AG6=$B6),$B6,IF(K6="in",$B6,"")) | AI6: =IF(AND(L6="",AH6=$B6),$B6,IF(L6="in",$B6,"")) | AJ6: =IF(AND(M6="",AI6=$B6),$B6,IF(M6="in",$B6,"")) | AK6: =IF(AND(N6="",AJ6=$B6),$B6,IF(N6="in",$B6,"")) | AL6: =IF(AND(O6="",AK6=$B6),$B6,IF(O6="in",$B6,""))
A7: =IF(ISBLANK('Ficha de Jogo'!A14),"",'Ficha de Jogo'!A14) | B7: =IF(ISBLANK('Ficha de Jogo'!B14),"",'Ficha de Jogo'!B14) | C7: ='Ficha de Jogo'!C14 | D7: =IF(ISBLANK('Ficha de Jogo'!F14),"",'Ficha de Jogo'!F14) | E7: =IF(B7="","",IF(D7="x",IF(F7="",SUM(Q7:Y7)+Z7,SUM(Q7:Y7)+Z7+F7),IF(F7="",IF(AND(P7<>0,SUM(Q7:Y7)+AA7=0),SUM(Q7:Y7)+AA7+1,SUM(Q7:Y7)+AA7),SUM(Q7:Y7)+AA7+F7))) | F7: =IF($D7="x",IF(COUNTIF('Ficha de Jogo'!$B$27:$J$28,$B7)=0,50+N('Ficha de Jogo'!$J$50),""),IF(COUNTIF('Ficha de Jogo'!$B$27:$J$28,$B7)=0,0,"")) | G7: =IF(ISNUMBER($A7),IF('Ficha de Jogo'!B$27=$B7,"in",IF('Ficha de Jogo'!B$28=$B7,"out","")),"") | H7: =IF(ISNUMBER($A7),IF('Ficha de Jogo'!C$27=$B7,"in",IF('Ficha de Jogo'!C$28=$B7,"out","")),"") | I7: =IF(ISNUMBER($A7),IF('Ficha de Jogo'!D$27=$B7,"in",IF('Ficha de Jogo'!D$28=$B7,"out","")),"") | J7: =IF(ISNUMBER($A7),IF('Ficha de Jogo'!E$27=$B7,"in",IF('Ficha de Jogo'!E$28=$B7,"out","")),"") | K7: =IF(ISNUMBER($A7),IF('Ficha de Jogo'!F$27=$B7,"in",IF('Ficha de Jogo'!F$28=$B7,"out","")),"") | L7: =IF(ISNUMBER($A7),IF('Ficha de Jogo'!G$27=$B7,"in",IF('Ficha de Jogo'!G$28=$B7,"out","")),"") | M7: =IF(ISNUMBER($A7),IF('Ficha de Jogo'!H$27=$B7,"in",IF('Ficha de Jogo'!H$28=$B7,"out","")),"") | N7: =IF(ISNUMBER($A7),IF('Ficha de Jogo'!I$27=$B7,"in",IF('Ficha de Jogo'!I$28=$B7,"out","")),"") | O7: =IF(ISNUMBER($A7),IF('Ficha de Jogo'!J$27=$B7,"in",IF('Ficha de Jogo'!J$28=$B7,"out","")),"") | P7: =COUNTIF($G7:$O7,"in")+COUNTIF($G7:$O7,"out") -> 0 | Q7: =IF(G7="out",'Ficha de Jogo'!B$29,IF(G7="in",50+N('Ficha de Jogo'!$J$50)-'Ficha de Jogo'!B$29,"")) | R7: =IF(H7="out",'Ficha de Jogo'!C$29,IF(H7="in",50+N('Ficha de Jogo'!$J$50)-'Ficha de Jogo'!C$29,"")) | S7: =IF(I7="out",'Ficha de Jogo'!D$29,IF(I7="in",50+N('Ficha de Jogo'!$J$50)-'Ficha de Jogo'!D$29,"")) | T7: =IF(J7="out",'Ficha de Jogo'!E$29,IF(J7="in",50+N('Ficha de Jogo'!$J$50)-'Ficha de Jogo'!E$29,"")) | U7: =IF(K7="out",'Ficha de Jogo'!F$29,IF(K7="in",50+N('Ficha de Jogo'!$J$50)-'Ficha de Jogo'!F$29,"")) | V7: =IF(L7="out",'Ficha de Jogo'!G$29,IF(L7="in",50+N('Ficha de Jogo'!$J$50)-'Ficha de Jogo'!G$29,"")) | W7: =IF(M7="out",'Ficha de Jogo'!H$29,IF(M7="in",50+N('Ficha de Jogo'!$J$50)-'Ficha de Jogo'!H$29,"")) | X7: =IF(N7="out",'Ficha de Jogo'!I$29,IF(N7="in",50+N('Ficha de Jogo'!$J$50)-'Ficha de Jogo'!I$29,"")) | Y7: =IF(O7="out",'Ficha de Jogo'!J$29,IF(O7="in",50+N('Ficha de Jogo'!$J$50)-'Ficha de Jogo'!J$29,"")) | Z7: =IF($P7>1,IF($P7>2,IF($P7>3,IF($P7>4,IF($P7>5,IF($P7>6,IF($P7>7,IF($P7>8,IF($P7>9,"aqui",-4*(50+N('Ficha de Jogo'!$J$50))),-3*(50+N('Ficha de Jogo'!$J$50))),-3*(50+N('Ficha de Jogo'!$J$50))),-2*(50+N('Ficha de Jogo'!$J$50))),-2*(50+N('Ficha de Jogo'!$J$50))),-1*(50+N('Ficha de Jogo'!$J$50))),-1*(50+N('Ficha de Jogo'!$J$50))),0),0) -> 0 | AA7: =IF($P7>1,IF($P7>2,IF($P7>3,IF($P7>4,IF($P7>5,IF($P7>6,IF($P7>7,IF($P7>8,IF($P7>9,"aqui",-4*(50+N('Ficha de Jogo'!$J$50))),-4*(50+N('Ficha de Jogo'!$J$50))),-3*(50+N('Ficha de Jogo'!$J$50))),-3*(50+N('Ficha de Jogo'!$J$50))),-2*(50+N('Ficha de Jogo'!$J$50))),-2*(50+N('Ficha de Jogo'!$J$50))),-1*(50+N('Ficha de Jogo'!$J$50))),-1*(50+N('Ficha de Jogo'!$J$50))),0) -> 0 | AC7: =IF(D7="x",B7,"") | AD7: =IF(AND(G7="",AC7=$B7),$B7,IF(G7="in",$B7,"")) | AE7: =IF(AND(H7="",AD7=$B7),$B7,IF(H7="in",$B7,"")) | AF7: =IF(AND(I7="",AE7=$B7),$B7,IF(I7="in",$B7,"")) | AG7: =IF(AND(J7="",AF7=$B7),$B7,IF(J7="in",$B7,"")) | AH7: =IF(AND(K7="",AG7=$B7),$B7,IF(K7="in",$B7,"")) | AI7: =IF(AND(L7="",AH7=$B7),$B7,IF(L7="in",$B7,"")) | AJ7: =IF(AND(M7="",AI7=$B7),$B7,IF(M7="in",$B7,"")) | AK7: =IF(AND(N7="",AJ7=$B7),$B7,IF(N7="in",$B7,"")) | AL7: =IF(AND(O7="",AK7=$B7),$B7,IF(O7="in",$B7,""))
A8: =IF(ISBLANK('Ficha de Jogo'!A15),"",'Ficha de Jogo'!A15) | B8: =IF(ISBLANK('Ficha de Jogo'!B15),"",'Ficha de Jogo'!B15) | C8: ='Ficha de Jogo'!C15 | D8: =IF(ISBLANK('Ficha de Jogo'!F15),"",'Ficha de Jogo'!F15) | E8: =IF(B8="","",IF(D8="x",IF(F8="",SUM(Q8:Y8)+Z8,SUM(Q8:Y8)+Z8+F8),IF(F8="",IF(AND(P8<>0,SUM(Q8:Y8)+AA8=0),SUM(Q8:Y8)+AA8+1,SUM(Q8:Y8)+AA8),SUM(Q8:Y8)+AA8+F8))) | F8: =IF($D8="x",IF(COUNTIF('Ficha de Jogo'!$B$27:$J$28,$B8)=0,50+N('Ficha de Jogo'!$J$50),""),IF(COUNTIF('Ficha de Jogo'!$B$27:$J$28,$B8)=0,0,"")) | G8: =IF(ISNUMBER($A8),IF('Ficha de Jogo'!B$27=$B8,"in",IF('Ficha de Jogo'!B$28=$B8,"out","")),"") | H8: =IF(ISNUMBER($A8),IF('Ficha de Jogo'!C$27=$B8,"in",IF('Ficha de Jogo'!C$28=$B8,"out","")),"") | I8: =IF(ISNUMBER($A8),IF('Ficha de Jogo'!D$27=$B8,"in",IF('Ficha de Jogo'!D$28=$B8,"out","")),"") | J8: =IF(ISNUMBER($A8),IF('Ficha de Jogo'!E$27=$B8,"in",IF('Ficha de Jogo'!E$28=$B8,"out","")),"") | K8: =IF(ISNUMBER($A8),IF('Ficha de Jogo'!F$27=$B8,"in",IF('Ficha de Jogo'!F$28=$B8,"out","")),"") | L8: =IF(ISNUMBER($A8),IF('Ficha de Jogo'!G$27=$B8,"in",IF('Ficha de Jogo'!G$28=$B8,"out","")),"") | M8: =IF(ISNUMBER($A8),IF('Ficha de Jogo'!H$27=$B8,"in",IF('Ficha de Jogo'!H$28=$B8,"out","")),"") | N8: =IF(ISNUMBER($A8),IF('Ficha de Jogo'!I$27=$B8,"in",IF('Ficha de Jogo'!I$28=$B8,"out","")),"") | O8: =IF(ISNUMBER($A8),IF('Ficha de Jogo'!J$27=$B8,"in",IF('Ficha de Jogo'!J$28=$B8,"out","")),"") | P8: =COUNTIF($G8:$O8,"in")+COUNTIF($G8:$O8,"out") -> 0 | Q8: =IF(G8="out",'Ficha de Jogo'!B$29,IF(G8="in",50+N('Ficha de Jogo'!$J$50)-'Ficha de Jogo'!B$29,"")) | R8: =IF(H8="out",'Ficha de Jogo'!C$29,IF(H8="in",50+N('Ficha de Jogo'!$J$50)-'Ficha de Jogo'!C$29,"")) | S8: =IF(I8="out",'Ficha de Jogo'!D$29,IF(I8="in",50+N('Ficha de Jogo'!$J$50)-'Ficha de Jogo'!D$29,"")) | T8: =IF(J8="out",'Ficha de Jogo'!E$29,IF(J8="in",50+N('Ficha de Jogo'!$J$50)-'Ficha de Jogo'!E$29,"")) | U8: =IF(K8="out",'Ficha de Jogo'!F$29,IF(K8="in",50+N('Ficha de Jogo'!$J$50)-'Ficha de Jogo'!F$29,"")) | V8: =IF(L8="out",'Ficha de Jogo'!G$29,IF(L8="in",50+N('Ficha de Jogo'!$J$50)-'Ficha de Jogo'!G$29,"")) | W8: =IF(M8="out",'Ficha de Jogo'!H$29,IF(M8="in",50+N('Ficha de Jogo'!$J$50)-'Ficha de Jogo'!H$29,"")) | X8: =IF(N8="out",'Ficha de Jogo'!I$29,IF(N8="in",50+N('Ficha de Jogo'!$J$50)-'Ficha de Jogo'!I$29,"")) | Y8: =IF(O8="out",'Ficha de Jogo'!J$29,IF(O8="in",50+N('Ficha de Jogo'!$J$50)-'Ficha de Jogo'!J$29,"")) | Z8: =IF($P8>1,IF($P8>2,IF($P8>3,IF($P8>4,IF($P8>5,IF($P8>6,IF($P8>7,IF($P8>8,IF($P8>9,"aqui",-4*(50+N('Ficha de Jogo'!$J$50))),-3*(50+N('Ficha de Jogo'!$J$50))),-3*(50+N('Ficha de Jogo'!$J$50))),-2*(50+N('Ficha de Jogo'!$J$50))),-2*(50+N('Ficha de Jogo'!$J$50))),-1*(50+N('Ficha de Jogo'!$J$50))),-1*(50+N('Ficha de Jogo'!$J$50))),0),0) -> 0 | AA8: =IF($P8>1,IF($P8>2,IF($P8>3,IF($P8>4,IF($P8>5,IF($P8>6,IF($P8>7,IF($P8>8,IF($P8>9,"aqui",-4*(50+N('Ficha de Jogo'!$J$50))),-4*(50+N('Ficha de Jogo'!$J$50))),-3*(50+N('Ficha de Jogo'!$J$50))),-3*(50+N('Ficha de Jogo'!$J$50))),-2*(50+N('Ficha de Jogo'!$J$50))),-2*(50+N('Ficha de Jogo'!$J$50))),-1*(50+N('Ficha de Jogo'!$J$50))),-1*(50+N('Ficha de Jogo'!$J$50))),0) -> 0 | AC8: =IF(D8="x",B8,"") | AD8: =IF(AND(G8="",AC8=$B8),$B8,IF(G8="in",$B8,"")) | AE8: =IF(AND(H8="",AD8=$B8),$B8,IF(H8="in",$B8,"")) | AF8: =IF(AND(I8="",AE8=$B8),$B8,IF(I8="in",$B8,"")) | AG8: =IF(AND(J8="",AF8=$B8),$B8,IF(J8="in",$B8,"")) | AH8: =IF(AND(K8="",AG8=$B8),$B8,IF(K8="in",$B8,"")) | AI8: =IF(AND(L8="",AH8=$B8),$B8,IF(L8="in",$B8,"")) | AJ8: =IF(AND(M8="",AI8=$B8),$B8,IF(M8="in",$B8,"")) | AK8: =IF(AND(N8="",AJ8=$B8),$B8,IF(N8="in",$B8,"")) | AL8: =IF(AND(O8="",AK8=$B8),$B8,IF(O8="in",$B8,""))
A9: =IF(ISBLANK('Ficha de Jogo'!A16),"",'Ficha de Jogo'!A16) | B9: =IF(ISBLANK('Ficha de Jogo'!B16),"",'Ficha de Jogo'!B16) | C9: ='Ficha de Jogo'!C16 | D9: =IF(ISBLANK('Ficha de Jogo'!F16),"",'Ficha de Jogo'!F16) | E9: =IF(B9="","",IF(D9="x",IF(F9="",SUM(Q9:Y9)+Z9,SUM(Q9:Y9)+Z9+F9),IF(F9="",IF(AND(P9<>0,SUM(Q9:Y9)+AA9=0),SUM(Q9:Y9)+AA9+1,SUM(Q9:Y9)+AA9),SUM(Q9:Y9)+AA9+F9))) | F9: =IF($D9="x",IF(COUNTIF('Ficha de Jogo'!$B$27:$J$28,$B9)=0,50+N('Ficha de Jogo'!$J$50),""),IF(COUNTIF('Ficha de Jogo'!$B$27:$J$28,$B9)=0,0,"")) | G9: =IF(ISNUMBER($A9),IF('Ficha de Jogo'!B$27=$B9,"in",IF('Ficha de Jogo'!B$28=$B9,"out","")),"") | H9: =IF(ISNUMBER($A9),IF('Ficha de Jogo'!C$27=$B9,"in",IF('Ficha de Jogo'!C$28=$B9,"out","")),"") | I9: =IF(ISNUMBER($A9),IF('Ficha de Jogo'!D$27=$B9,"in",IF('Ficha de Jogo'!D$28=$B9,"out","")),"") | J9: =IF(ISNUMBER($A9),IF('Ficha de Jogo'!E$27=$B9,"in",IF('Ficha de Jogo'!E$28=$B9,"out","")),"") | K9: =IF(ISNUMBER($A9),IF('Ficha de Jogo'!F$27=$B9,"in",IF('Ficha de Jogo'!F$28=$B9,"out","")),"") | L9: =IF(ISNUMBER($A9),IF('Ficha de Jogo'!G$27=$B9,"in",IF('Ficha de Jogo'!G$28=$B9,"out","")),"") | M9: =IF(ISNUMBER($A9),IF('Ficha de Jogo'!H$27=$B9,"in",IF('Ficha de Jogo'!H$28=$B9,"out","")),"") | N9: =IF(ISNUMBER($A9),IF('Ficha de Jogo'!I$27=$B9,"in",IF('Ficha de Jogo'!I$28=$B9,"out","")),"") | O9: =IF(ISNUMBER($A9),IF('Ficha de Jogo'!J$27=$B9,"in",IF('Ficha de Jogo'!J$28=$B9,"out","")),"") | P9: =COUNTIF($G9:$O9,"in")+COUNTIF($G9:$O9,"out") -> 0 | Q9: =IF(G9="out",'Ficha de Jogo'!B$29,IF(G9="in",50+N('Ficha de Jogo'!$J$50)-'Ficha de Jogo'!B$29,"")) | R9: =IF(H9="out",'Ficha de Jogo'!C$29,IF(H9="in",50+N('Ficha de Jogo'!$J$50)-'Ficha de Jogo'!C$29,"")) | S9: =IF(I9="out",'Ficha de Jogo'!D$29,IF(I9="in",50+N('Ficha de Jogo'!$J$50)-'Ficha de Jogo'!D$29,"")) | T9: =IF(J9="out",'Ficha de Jogo'!E$29,IF(J9="in",50+N('Ficha de Jogo'!$J$50)-'Ficha de Jogo'!E$29,"")) | U9: =IF(K9="out",'Ficha de Jogo'!F$29,IF(K9="in",50+N('Ficha de Jogo'!$J$50)-'Ficha de Jogo'!F$29,"")) | V9: =IF(L9="out",'Ficha de Jogo'!G$29,IF(L9="in",50+N('Ficha de Jogo'!$J$50)-'Ficha de Jogo'!G$29,"")) | W9: =IF(M9="out",'Ficha de Jogo'!H$29,IF(M9="in",50+N('Ficha de Jogo'!$J$50)-'Ficha de Jogo'!H$29,"")) | X9: =IF(N9="out",'Ficha de Jogo'!I$29,IF(N9="in",50+N('Ficha de Jogo'!$J$50)-'Ficha de Jogo'!I$29,"")) | Y9: =IF(O9="out",'Ficha de Jogo'!J$29,IF(O9="in",50+N('Ficha de Jogo'!$J$50)-'Ficha de Jogo'!J$29,"")) | Z9: =IF($P9>1,IF($P9>2,IF($P9>3,IF($P9>4,IF($P9>5,IF($P9>6,IF($P9>7,IF($P9>8,IF($P9>9,"aqui",-4*(50+N('Ficha de Jogo'!$J$50))),-3*(50+N('Ficha de Jogo'!$J$50))),-3*(50+N('Ficha de Jogo'!$J$50))),-2*(50+N('Ficha de Jogo'!$J$50))),-2*(50+N('Ficha de Jogo'!$J$50))),-1*(50+N('Ficha de Jogo'!$J$50))),-1*(50+N('Ficha de Jogo'!$J$50))),0),0) -> 0 | AA9: =IF($P9>1,IF($P9>2,IF($P9>3,IF($P9>4,IF($P9>5,IF($P9>6,IF($P9>7,IF($P9>8,IF($P9>9,"aqui",-4*(50+N('Ficha de Jogo'!$J$50))),-4*(50+N('Ficha de Jogo'!$J$50))),-3*(50+N('Ficha de Jogo'!$J$50))),-3*(50+N('Ficha de Jogo'!$J$50))),-2*(50+N('Ficha de Jogo'!$J$50))),-2*(50+N('Ficha de Jogo'!$J$50))),-1*(50+N('Ficha de Jogo'!$J$50))),-1*(50+N('Ficha de Jogo'!$J$50))),0) -> 0 | AC9: =IF(D9="x",B9,"") | AD9: =IF(AND(G9="",AC9=$B9),$B9,IF(G9="in",$B9,"")) | AE9: =IF(AND(H9="",AD9=$B9),$B9,IF(H9="in",$B9,"")) | AF9: =IF(AND(I9="",AE9=$B9),$B9,IF(I9="in",$B9,"")) | AG9: =IF(AND(J9="",AF9=$B9),$B9,IF(J9="in",$B9,"")) | AH9: =IF(AND(K9="",AG9=$B9),$B9,IF(K9="in",$B9,"")) | AI9: =IF(AND(L9="",AH9=$B9),$B9,IF(L9="in",$B9,"")) | AJ9: =IF(AND(M9="",AI9=$B9),$B9,IF(M9="in",$B9,"")) | AK9: =IF(AND(N9="",AJ9=$B9),$B9,IF(N9="in",$B9,"")) | AL9: =IF(AND(O9="",AK9=$B9),$B9,IF(O9="in",$B9,""))
A10: =IF(ISBLANK('Ficha de Jogo'!A17),"",'Ficha de Jogo'!A17) | B10: =IF(ISBLANK('Ficha de Jogo'!B17),"",'Ficha de Jogo'!B17) | C10: ='Ficha de Jogo'!C17 | D10: =IF(ISBLANK('Ficha de Jogo'!F17),"",'Ficha de Jogo'!F17) | E10: =IF(B10="","",IF(D10="x",IF(F10="",SUM(Q10:Y10)+Z10,SUM(Q10:Y10)+Z10+F10),IF(F10="",IF(AND(P10<>0,SUM(Q10:Y10)+AA10=0),SUM(Q10:Y10)+AA10+1,SUM(Q10:Y10)+AA10),SUM(Q10:Y10)+AA10+F10))) | F10: =IF($D10="x",IF(COUNTIF('Ficha de Jogo'!$B$27:$J$28,$B10)=0,50+N('Ficha de Jogo'!$J$50),""),IF(COUNTIF('Ficha de Jogo'!$B$27:$J$28,$B10)=0,0,"")) | G10: =IF(ISNUMBER($A10),IF('Ficha de Jogo'!B$27=$B10,"in",IF('Ficha de Jogo'!B$28=$B10,"out","")),"") | H10: =IF(ISNUMBER($A10),IF('Ficha de Jogo'!C$27=$B10,"in",IF('Ficha de Jogo'!C$28=$B10,"out","")),"") | I10: =IF(ISNUMBER($A10),IF('Ficha de Jogo'!D$27=$B10,"in",IF('Ficha de Jogo'!D$28=$B10,"out","")),"") | J10: =IF(ISNUMBER($A10),IF('Ficha de Jogo'!E$27=$B10,"in",IF('Ficha de Jogo'!E$28=$B10,"out","")),"") | K10: =IF(ISNUMBER($A10),IF('Ficha de Jogo'!F$27=$B10,"in",IF('Ficha de Jogo'!F$28=$B10,"out","")),"") | L10: =IF(ISNUMBER($A10),IF('Ficha de Jogo'!G$27=$B10,"in",IF('Ficha de Jogo'!G$28=$B10,"out","")),"") | M10: =IF(ISNUMBER($A10),IF('Ficha de Jogo'!H$27=$B10,"in",IF('Ficha de Jogo'!H$28=$B10,"out","")),"") | N10: =IF(ISNUMBER($A10),IF('Ficha de Jogo'!I$27=$B10,"in",IF('Ficha de Jogo'!I$28=$B10,"out","")),"") | O10: =IF(ISNUMBER($A10),IF('Ficha de Jogo'!J$27=$B10,"in",IF('Ficha de Jogo'!J$28=$B10,"out","")),"") | P10: =COUNTIF($G10:$O10,"in")+COUNTIF($G10:$O10,"out") -> 0 | Q10: =IF(G10="out",'Ficha de Jogo'!B$29,IF(G10="in",50+N('Ficha de Jogo'!$J$50)-'Ficha de Jogo'!B$29,"")) | R10: =IF(H10="out",'Ficha de Jogo'!C$29,IF(H10="in",50+N('Ficha de Jogo'!$J$50)-'Ficha de Jogo'!C$29,"")) | S10: =IF(I10="out",'Ficha de Jogo'!D$29,IF(I10="in",50+N('Ficha de Jogo'!$J$50)-'Ficha de Jogo'!D$29,"")) | T10: =IF(J10="out",'Ficha de Jogo'!E$29,IF(J10="in",50+N('Ficha de Jogo'!$J$50)-'Ficha de Jogo'!E$29,"")) | U10: =IF(K10="out",'Ficha de Jogo'!F$29,IF(K10="in",50+N('Ficha de Jogo'!$J$50)-'Ficha de Jogo'!F$29,"")) | V10: =IF(L10="out",'Ficha de Jogo'!G$29,IF(L10="in",50+N('Ficha de Jogo'!$J$50)-'Ficha de Jogo'!G$29,"")) | W10: =IF(M10="out",'Ficha de Jogo'!H$29,IF(M10="in",50+N('Ficha de Jogo'!$J$50)-'Ficha de Jogo'!H$29,"")) | X10: =IF(N10="out",'Ficha de Jogo'!I$29,IF(N10="in",50+N('Ficha de Jogo'!$J$50)-'Ficha de Jogo'!I$29,"")) | Y10: =IF(O10="out",'Ficha de Jogo'!J$29,IF(O10="in",50+N('Ficha de Jogo'!$J$50)-'Ficha de Jogo'!J$29,"")) | Z10: =IF($P10>1,IF($P10>2,IF($P10>3,IF($P10>4,IF($P10>5,IF($P10>6,IF($P10>7,IF($P10>8,IF($P10>9,"aqui",-4*(50+N('Ficha de Jogo'!$J$50))),-3*(50+N('Ficha de Jogo'!$J$50))),-3*(50+N('Ficha de Jogo'!$J$50))),-2*(50+N('Ficha de Jogo'!$J$50))),-2*(50+N('Ficha de Jogo'!$J$50))),-1*(50+N('Ficha de Jogo'!$J$50))),-1*(50+N('Ficha de Jogo'!$J$50))),0),0) -> 0 | AA10: =IF($P10>1,IF($P10>2,IF($P10>3,IF($P10>4,IF($P10>5,IF($P10>6,IF($P10>7,IF($P10>8,IF($P10>9,"aqui",-4*(50+N('Ficha de Jogo'!$J$50))),-4*(50+N('Ficha de Jogo'!$J$50))),-3*(50+N('Ficha de Jogo'!$J$50))),-3*(50+N('Ficha de Jogo'!$J$50))),-2*(50+N('Ficha de Jogo'!$J$50))),-2*(50+N('Ficha de Jogo'!$J$50))),-1*(50+N('Ficha de Jogo'!$J$50))),-1*(50+N('Ficha de Jogo'!$J$50))),0) -> 0 | AC10: =IF(D10="x",B10,"") | AD10: =IF(AND(G10="",AC10=$B10),$B10,IF(G10="in",$B10,"")) | AE10: =IF(AND(H10="",AD10=$B10),$B10,IF(H10="in",$B10,"")) | AF10: =IF(AND(I10="",AE10=$B10),$B10,IF(I10="in",$B10,"")) | AG10: =IF(AND(J10="",AF10=$B10),$B10,IF(J10="in",$B10,"")) | AH10: =IF(AND(K10="",AG10=$B10),$B10,IF(K10="in",$B10,"")) | AI10: =IF(AND(L10="",AH10=$B10),$B10,IF(L10="in",$B10,"")) | AJ10: =IF(AND(M10="",AI10=$B10),$B10,IF(M10="in",$B10,"")) | AK10: =IF(AND(N10="",AJ10=$B10),$B10,IF(N10="in",$B10,"")) | AL10: =IF(AND(O10="",AK10=$B10),$B10,IF(O10="in",$B10,""))
A11: =IF(ISBLANK('Ficha de Jogo'!A18),"",'Ficha de Jogo'!A18) | B11: =IF(ISBLANK('Ficha de Jogo'!B18),"",'Ficha de Jogo'!B18) | C11: ='Ficha de Jogo'!C18 | D11: =IF(ISBLANK('Ficha de Jogo'!F18),"",'Ficha de Jogo'!F18) | E11: =IF(B11="","",IF(D11="x",IF(F11="",SUM(Q11:Y11)+Z11,SUM(Q11:Y11)+Z11+F11),IF(F11="",IF(AND(P11<>0,SUM(Q11:Y11)+AA11=0),SUM(Q11:Y11)+AA11+1,SUM(Q11:Y11)+AA11),SUM(Q11:Y11)+AA11+F11))) | F11: =IF($D11="x",IF(COUNTIF('Ficha de Jogo'!$B$27:$J$28,$B11)=0,50+N('Ficha de Jogo'!$J$50),""),IF(COUNTIF('Ficha de Jogo'!$B$27:$J$28,$B11)=0,0,"")) | G11: =IF(ISNUMBER($A11),IF('Ficha de Jogo'!B$27=$B11,"in",IF('Ficha de Jogo'!B$28=$B11,"out","")),"") | H11: =IF(ISNUMBER($A11),IF('Ficha de Jogo'!C$27=$B11,"in",IF('Ficha de Jogo'!C$28=$B11,"out","")),"") | I11: =IF(ISNUMBER($A11),IF('Ficha de Jogo'!D$27=$B11,"in",IF('Ficha de Jogo'!D$28=$B11,"out","")),"") | J11: =IF(ISNUMBER($A11),IF('Ficha de Jogo'!E$27=$B11,"in",IF('Ficha de Jogo'!E$28=$B11,"out","")),"") | K11: =IF(ISNUMBER($A11),IF('Ficha de Jogo'!F$27=$B11,"in",IF('Ficha de Jogo'!F$28=$B11,"out","")),"") | L11: =IF(ISNUMBER($A11),IF('Ficha de Jogo'!G$27=$B11,"in",IF('Ficha de Jogo'!G$28=$B11,"out","")),"") | M11: =IF(ISNUMBER($A11),IF('Ficha de Jogo'!H$27=$B11,"in",IF('Ficha de Jogo'!H$28=$B11,"out","")),"") | N11: =IF(ISNUMBER($A11),IF('Ficha de Jogo'!I$27=$B11,"in",IF('Ficha de Jogo'!I$28=$B11,"out","")),"") | O11: =IF(ISNUMBER($A11),IF('Ficha de Jogo'!J$27=$B11,"in",IF('Ficha de Jogo'!J$28=$B11,"out","")),"") | P11: =COUNTIF($G11:$O11,"in")+COUNTIF($G11:$O11,"out") -> 0 | Q11: =IF(G11="out",'Ficha de Jogo'!B$29,IF(G11="in",50+N('Ficha de Jogo'!$J$50)-'Ficha de Jogo'!B$29,"")) | R11: =IF(H11="out",'Ficha de Jogo'!C$29,IF(H11="in",50+N('Ficha de Jogo'!$J$50)-'Ficha de Jogo'!C$29,"")) | S11: =IF(I11="out",'Ficha de Jogo'!D$29,IF(I11="in",50+N('Ficha de Jogo'!$J$50)-'Ficha de Jogo'!D$29,"")) | T11: =IF(J11="out",'Ficha de Jogo'!E$29,IF(J11="in",50+N('Ficha de Jogo'!$J$50)-'Ficha de Jogo'!E$29,"")) | U11: =IF(K11="out",'Ficha de Jogo'!F$29,IF(K11="in",50+N('Ficha de Jogo'!$J$50)-'Ficha de Jogo'!F$29,"")) | V11: =IF(L11="out",'Ficha de Jogo'!G$29,IF(L11="in",50+N('Ficha de Jogo'!$J$50)-'Ficha de Jogo'!G$29,"")) | W11: =IF(M11="out",'Ficha de Jogo'!H$29,IF(M11="in",50+N('Ficha de Jogo'!$J$50)-'Ficha de Jogo'!H$29,"")) | X11: =IF(N11="out",'Ficha de Jogo'!I$29,IF(N11="in",50+N('Ficha de Jogo'!$J$50)-'Ficha de Jogo'!I$29,"")) | Y11: =IF(O11="out",'Ficha de Jogo'!J$29,IF(O11="in",50+N('Ficha de Jogo'!$J$50)-'Ficha de Jogo'!J$29,"")) | Z11: =IF($P11>1,IF($P11>2,IF($P11>3,IF($P11>4,IF($P11>5,IF($P11>6,IF($P11>7,IF($P11>8,IF($P11>9,"aqui",-4*(50+N('Ficha de Jogo'!$J$50))),-3*(50+N('Ficha de Jogo'!$J$50))),-3*(50+N('Ficha de Jogo'!$J$50))),-2*(50+N('Ficha de Jogo'!$J$50))),-2*(50+N('Ficha de Jogo'!$J$50))),-1*(50+N('Ficha de Jogo'!$J$50))),-1*(50+N('Ficha de Jogo'!$J$50))),0),0) -> 0 | AA11: =IF($P11>1,IF($P11>2,IF($P11>3,IF($P11>4,IF($P11>5,IF($P11>6,IF($P11>7,IF($P11>8,IF($P11>9,"aqui",-4*(50+N('Ficha de Jogo'!$J$50))),-4*(50+N('Ficha de Jogo'!$J$50))),-3*(50+N('Ficha de Jogo'!$J$50))),-3*(50+N('Ficha de Jogo'!$J$50))),-2*(50+N('Ficha de Jogo'!$J$50))),-2*(50+N('Ficha de Jogo'!$J$50))),-1*(50+N('Ficha de Jogo'!$J$50))),-1*(50+N('Ficha de Jogo'!$J$50))),0) -> 0 | AC11: =IF(D11="x",B11,"") | AD11: =IF(AND(G11="",AC11=$B11),$B11,IF(G11="in",$B11,"")) | AE11: =IF(AND(H11="",AD11=$B11),$B11,IF(H11="in",$B11,"")) | AF11: =IF(AND(I11="",AE11=$B11),$B11,IF(I11="in",$B11,"")) | AG11: =IF(AND(J11="",AF11=$B11),$B11,IF(J11="in",$B11,"")) | AH11: =IF(AND(K11="",AG11=$B11),$B11,IF(K11="in",$B11,"")) | AI11: =IF(AND(L11="",AH11=$B11),$B11,IF(L11="in",$B11,"")) | AJ11: =IF(AND(M11="",AI11=$B11),$B11,IF(M11="in",$B11,"")) | AK11: =IF(AND(N11="",AJ11=$B11),$B11,IF(N11="in",$B11,"")) | AL11: =IF(AND(O11="",AK11=$B11),$B11,IF(O11="in",$B11,""))
A12: =IF(ISBLANK('Ficha de Jogo'!A19),"",'Ficha de Jogo'!A19) | B12: =IF(ISBLANK('Ficha de Jogo'!B19),"",'Ficha de Jogo'!B19) | C12: ='Ficha de Jogo'!C19 | D12: =IF(ISBLANK('Ficha de Jogo'!F19),"",'Ficha de Jogo'!F19) | E12: =IF(B12="","",IF(D12="x",IF(F12="",SUM(Q12:Y12)+Z12,SUM(Q12:Y12)+Z12+F12),IF(F12="",IF(AND(P12<>0,SUM(Q12:Y12)+AA12=0),SUM(Q12:Y12)+AA12+1,SUM(Q12:Y12)+AA12),SUM(Q12:Y12)+AA12+F12))) | F12: =IF($D12="x",IF(COUNTIF('Ficha de Jogo'!$B$27:$J$28,$B12)=0,50+N('Ficha de Jogo'!$J$50),""),IF(COUNTIF('Ficha de Jogo'!$B$27:$J$28,$B12)=0,0,"")) | G12: =IF(ISNUMBER($A12),IF('Ficha de Jogo'!B$27=$B12,"in",IF('Ficha de Jogo'!B$28=$B12,"out","")),"") | H12: =IF(ISNUMBER($A12),IF('Ficha de Jogo'!C$27=$B12,"in",IF('Ficha de Jogo'!C$28=$B12,"out","")),"") | I12: =IF(ISNUMBER($A12),IF('Ficha de Jogo'!D$27=$B12,"in",IF('Ficha de Jogo'!D$28=$B12,"out","")),"") | J12: =IF(ISNUMBER($A12),IF('Ficha de Jogo'!E$27=$B12,"in",IF('Ficha de Jogo'!E$28=$B12,"out","")),"") | K12: =IF(ISNUMBER($A12),IF('Ficha de Jogo'!F$27=$B12,"in",IF('Ficha de Jogo'!F$28=$B12,"out","")),"") | L12: =IF(ISNUMBER($A12),IF('Ficha de Jogo'!G$27=$B12,"in",IF('Ficha de Jogo'!G$28=$B12,"out","")),"") | M12: =IF(ISNUMBER($A12),IF('Ficha de Jogo'!H$27=$B12,"in",IF('Ficha de Jogo'!H$28=$B12,"out","")),"") | N12: =IF(ISNUMBER($A12),IF('Ficha de Jogo'!I$27=$B12,"in",IF('Ficha de Jogo'!I$28=$B12,"out","")),"") | O12: =IF(ISNUMBER($A12),IF('Ficha de Jogo'!J$27=$B12,"in",IF('Ficha de Jogo'!J$28=$B12,"out","")),"") | P12: =COUNTIF($G12:$O12,"in")+COUNTIF($G12:$O12,"out") -> 0 | Q12: =IF(G12="out",'Ficha de Jogo'!B$29,IF(G12="in",50+N('Ficha de Jogo'!$J$50)-'Ficha de Jogo'!B$29,"")) | R12: =IF(H12="out",'Ficha de Jogo'!C$29,IF(H12="in",50+N('Ficha de Jogo'!$J$50)-'Ficha de Jogo'!C$29,"")) | S12: =IF(I12="out",'Ficha de Jogo'!D$29,IF(I12="in",50+N('Ficha de Jogo'!$J$50)-'Ficha de Jogo'!D$29,"")) | T12: =IF(J12="out",'Ficha de Jogo'!E$29,IF(J12="in",50+N('Ficha de Jogo'!$J$50)-'Ficha de Jogo'!E$29,"")) | U12: =IF(K12="out",'Ficha de Jogo'!F$29,IF(K12="in",50+N('Ficha de Jogo'!$J$50)-'Ficha de Jogo'!F$29,"")) | V12: =IF(L12="out",'Ficha de Jogo'!G$29,IF(L12="in",50+N('Ficha de Jogo'!$J$50)-'Ficha de Jogo'!G$29,"")) | W12: =IF(M12="out",'Ficha de Jogo'!H$29,IF(M12="in",50+N('Ficha de Jogo'!$J$50)-'Ficha de Jogo'!H$29,"")) | X12: =IF(N12="out",'Ficha de Jogo'!I$29,IF(N12="in",50+N('Ficha de Jogo'!$J$50)-'Ficha de Jogo'!I$29,"")) | Y12: =IF(O12="out",'Ficha de Jogo'!J$29,IF(O12="in",50+N('Ficha de Jogo'!$J$50)-'Ficha de Jogo'!J$29,"")) | Z12: =IF($P12>1,IF($P12>2,IF($P12>3,IF($P12>4,IF($P12>5,IF($P12>6,IF($P12>7,IF($P12>8,IF($P12>9,"aqui",-4*(50+N('Ficha de Jogo'!$J$50))),-3*(50+N('Ficha de Jogo'!$J$50))),-3*(50+N('Ficha de Jogo'!$J$50))),-2*(50+N('Ficha de Jogo'!$J$50))),-2*(50+N('Ficha de Jogo'!$J$50))),-1*(50+N('Ficha de Jogo'!$J$50))),-1*(50+N('Ficha de Jogo'!$J$50))),0),0) -> 0 | AA12: =IF($P12>1,IF($P12>2,IF($P12>3,IF($P12>4,IF($P12>5,IF($P12>6,IF($P12>7,IF($P12>8,IF($P12>9,"aqui",-4*(50+N('Ficha de Jogo'!$J$50))),-4*(50+N('Ficha de Jogo'!$J$50))),-3*(50+N('Ficha de Jogo'!$J$50))),-3*(50+N('Ficha de Jogo'!$J$50))),-2*(50+N('Ficha de Jogo'!$J$50))),-2*(50+N('Ficha de Jogo'!$J$50))),-1*(50+N('Ficha de Jogo'!$J$50))),-1*(50+N('Ficha de Jogo'!$J$50))),0) -> 0 | AC12: =IF(D12="x",B12,"") | AD12: =IF(AND(G12="",AC12=$B12),$B12,IF(G12="in",$B12,"")) | AE12: =IF(AND(H12="",AD12=$B12),$B12,IF(H12="in",$B12,"")) | AF12: =IF(AND(I12="",AE12=$B12),$B12,IF(I12="in",$B12,"")) | AG12: =IF(AND(J12="",AF12=$B12),$B12,IF(J12="in",$B12,"")) | AH12: =IF(AND(K12="",AG12=$B12),$B12,IF(K12="in",$B12,"")) | AI12: =IF(AND(L12="",AH12=$B12),$B12,IF(L12="in",$B12,"")) | AJ12: =IF(AND(M12="",AI12=$B12),$B12,IF(M12="in",$B12,"")) | AK12: =IF(AND(N12="",AJ12=$B12),$B12,IF(N12="in",$B12,"")) | AL12: =IF(AND(O12="",AK12=$B12),$B12,IF(O12="in",$B12,""))
A13: =IF(ISBLANK('Ficha de Jogo'!A20),"",'Ficha de Jogo'!A20) | B13: =IF(ISBLANK('Ficha de Jogo'!B20),"",'Ficha de Jogo'!B20) | C13: ='Ficha de Jogo'!C20 | D13: =IF(ISBLANK('Ficha de Jogo'!F20),"",'Ficha de Jogo'!F20) | E13: =IF(B13="","",IF(D13="x",IF(F13="",SUM(Q13:Y13)+Z13,SUM(Q13:Y13)+Z13+F13),IF(F13="",IF(AND(P13<>0,SUM(Q13:Y13)+AA13=0),SUM(Q13:Y13)+AA13+1,SUM(Q13:Y13)+AA13),SUM(Q13:Y13)+AA13+F13))) | F13: =IF($D13="x",IF(COUNTIF('Ficha de Jogo'!$B$27:$J$28,$B13)=0,50+N('Ficha de Jogo'!$J$50),""),IF(COUNTIF('Ficha de Jogo'!$B$27:$J$28,$B13)=0,0,"")) | G13: =IF(ISNUMBER($A13),IF('Ficha de Jogo'!B$27=$B13,"in",IF('Ficha de Jogo'!B$28=$B13,"out","")),"") | H13: =IF(ISNUMBER($A13),IF('Ficha de Jogo'!C$27=$B13,"in",IF('Ficha de Jogo'!C$28=$B13,"out","")),"") | I13: =IF(ISNUMBER($A13),IF('Ficha de Jogo'!D$27=$B13,"in",IF('Ficha de Jogo'!D$28=$B13,"out","")),"") | J13: =IF(ISNUMBER($A13),IF('Ficha de Jogo'!E$27=$B13,"in",IF('Ficha de Jogo'!E$28=$B13,"out","")),"") | K13: =IF(ISNUMBER($A13),IF('Ficha de Jogo'!F$27=$B13,"in",IF('Ficha de Jogo'!F$28=$B13,"out","")),"") | L13: =IF(ISNUMBER($A13),IF('Ficha de Jogo'!G$27=$B13,"in",IF('Ficha de Jogo'!G$28=$B13,"out","")),"") | M13: =IF(ISNUMBER($A13),IF('Ficha de Jogo'!H$27=$B13,"in",IF('Ficha de Jogo'!H$28=$B13,"out","")),"") | N13: =IF(ISNUMBER($A13),IF('Ficha de Jogo'!I$27=$B13,"in",IF('Ficha de Jogo'!I$28=$B13,"out","")),"") | O13: =IF(ISNUMBER($A13),IF('Ficha de Jogo'!J$27=$B13,"in",IF('Ficha de Jogo'!J$28=$B13,"out","")),"") | P13: =COUNTIF($G13:$O13,"in")+COUNTIF($G13:$O13,"out") -> 0 | Q13: =IF(G13="out",'Ficha de Jogo'!B$29,IF(G13="in",50+N('Ficha de Jogo'!$J$50)-'Ficha de Jogo'!B$29,"")) | R13: =IF(H13="out",'Ficha de Jogo'!C$29,IF(H13="in",50+N('Ficha de Jogo'!$J$50)-'Ficha de Jogo'!C$29,"")) | S13: =IF(I13="out",'Ficha de Jogo'!D$29,IF(I13="in",50+N('Ficha de Jogo'!$J$50)-'Ficha de Jogo'!D$29,"")) | T13: =IF(J13="out",'Ficha de Jogo'!E$29,IF(J13="in",50+N('Ficha de Jogo'!$J$50)-'Ficha de Jogo'!E$29,"")) | U13: =IF(K13="out",'Ficha de Jogo'!F$29,IF(K13="in",50+N('Ficha de Jogo'!$J$50)-'Ficha de Jogo'!F$29,"")) | V13: =IF(L13="out",'Ficha de Jogo'!G$29,IF(L13="in",50+N('Ficha de Jogo'!$J$50)-'Ficha de Jogo'!G$29,"")) | W13: =IF(M13="out",'Ficha de Jogo'!H$29,IF(M13="in",50+N('Ficha de Jogo'!$J$50)-'Ficha de Jogo'!H$29,"")) | X13: =IF(N13="out",'Ficha de Jogo'!I$29,IF(N13="in",50+N('Ficha de Jogo'!$J$50)-'Ficha de Jogo'!I$29,"")) | Y13: =IF(O13="out",'Ficha de Jogo'!J$29,IF(O13="in",50+N('Ficha de Jogo'!$J$50)-'Ficha de Jogo'!J$29,"")) | Z13: =IF($P13>1,IF($P13>2,IF($P13>3,IF($P13>4,IF($P13>5,IF($P13>6,IF($P13>7,IF($P13>8,IF($P13>9,"aqui",-4*(50+N('Ficha de Jogo'!$J$50))),-3*(50+N('Ficha de Jogo'!$J$50))),-3*(50+N('Ficha de Jogo'!$J$50))),-2*(50+N('Ficha de Jogo'!$J$50))),-2*(50+N('Ficha de Jogo'!$J$50))),-1*(50+N('Ficha de Jogo'!$J$50))),-1*(50+N('Ficha de Jogo'!$J$50))),0),0) -> 0 | AA13: =IF($P13>1,IF($P13>2,IF($P13>3,IF($P13>4,IF($P13>5,IF($P13>6,IF($P13>7,IF($P13>8,IF($P13>9,"aqui",-4*(50+N('Ficha de Jogo'!$J$50))),-4*(50+N('Ficha de Jogo'!$J$50))),-3*(50+N('Ficha de Jogo'!$J$50))),-3*(50+N('Ficha de Jogo'!$J$50))),-2*(50+N('Ficha de Jogo'!$J$50))),-2*(50+N('Ficha de Jogo'!$J$50))),-1*(50+N('Ficha de Jogo'!$J$50))),-1*(50+N('Ficha de Jogo'!$J$50))),0) -> 0 | AC13: =IF(D13="x",B13,"") | AD13: =IF(AND(G13="",AC13=$B13),$B13,IF(G13="in",$B13,"")) | AE13: =IF(AND(H13="",AD13=$B13),$B13,IF(H13="in",$B13,"")) | AF13: =IF(AND(I13="",AE13=$B13),$B13,IF(I13="in",$B13,"")) | AG13: =IF(AND(J13="",AF13=$B13),$B13,IF(J13="in",$B13,"")) | AH13: =IF(AND(K13="",AG13=$B13),$B13,IF(K13="in",$B13,"")) | AI13: =IF(AND(L13="",AH13=$B13),$B13,IF(L13="in",$B13,"")) | AJ13: =IF(AND(M13="",AI13=$B13),$B13,IF(M13="in",$B13,"")) | AK13: =IF(AND(N13="",AJ13=$B13),$B13,IF(N13="in",$B13,"")) | AL13: =IF(AND(O13="",AK13=$B13),$B13,IF(O13="in",$B13,""))
A14: =IF(ISBLANK('Ficha de Jogo'!A21),"",'Ficha de Jogo'!A21) | B14: =IF(ISBLANK('Ficha de Jogo'!B21),"",'Ficha de Jogo'!B21) | C14: ='Ficha de Jogo'!C21 | D14: =IF(ISBLANK('Ficha de Jogo'!F21),"",'Ficha de Jogo'!F21) | E14: =IF(B14="","",IF(D14="x",IF(F14="",SUM(Q14:Y14)+Z14,SUM(Q14:Y14)+Z14+F14),IF(F14="",IF(AND(P14<>0,SUM(Q14:Y14)+AA14=0),SUM(Q14:Y14)+AA14+1,SUM(Q14:Y14)+AA14),SUM(Q14:Y14)+AA14+F14))) | F14: =IF($D14="x",IF(COUNTIF('Ficha de Jogo'!$B$27:$J$28,$B14)=0,50+N('Ficha de Jogo'!$J$50),""),IF(COUNTIF('Ficha de Jogo'!$B$27:$J$28,$B14)=0,0,"")) | G14: =IF(ISNUMBER($A14),IF('Ficha de Jogo'!B$27=$B14,"in",IF('Ficha de Jogo'!B$28=$B14,"out","")),"") | H14: =IF(ISNUMBER($A14),IF('Ficha de Jogo'!C$27=$B14,"in",IF('Ficha de Jogo'!C$28=$B14,"out","")),"") | I14: =IF(ISNUMBER($A14),IF('Ficha de Jogo'!D$27=$B14,"in",IF('Ficha de Jogo'!D$28=$B14,"out","")),"") | J14: =IF(ISNUMBER($A14),IF('Ficha de Jogo'!E$27=$B14,"in",IF('Ficha de Jogo'!E$28=$B14,"out","")),"") | K14: =IF(ISNUMBER($A14),IF('Ficha de Jogo'!F$27=$B14,"in",IF('Ficha de Jogo'!F$28=$B14,"out","")),"") | L14: =IF(ISNUMBER($A14),IF('Ficha de Jogo'!G$27=$B14,"in",IF('Ficha de Jogo'!G$28=$B14,"out","")),"") | M14: =IF(ISNUMBER($A14),IF('Ficha de Jogo'!H$27=$B14,"in",IF('Ficha de Jogo'!H$28=$B14,"out","")),"") | N14: =IF(ISNUMBER($A14),IF('Ficha de Jogo'!I$27=$B14,"in",IF('Ficha de Jogo'!I$28=$B14,"out","")),"") | O14: =IF(ISNUMBER($A14),IF('Ficha de Jogo'!J$27=$B14,"in",IF('Ficha de Jogo'!J$28=$B14,"out","")),"") | P14: =COUNTIF($G14:$O14,"in")+COUNTIF($G14:$O14,"out") -> 0 | Q14: =IF(G14="out",'Ficha de Jogo'!B$29,IF(G14="in",50+N('Ficha de Jogo'!$J$50)-'Ficha de Jogo'!B$29,"")) | R14: =IF(H14="out",'Ficha de Jogo'!C$29,IF(H14="in",50+N('Ficha de Jogo'!$J$50)-'Ficha de Jogo'!C$29,"")) | S14: =IF(I14="out",'Ficha de Jogo'!D$29,IF(I14="in",50+N('Ficha de Jogo'!$J$50)-'Ficha de Jogo'!D$29,"")) | T14: =IF(J14="out",'Ficha de Jogo'!E$29,IF(J14="in",50+N('Ficha de Jogo'!$J$50)-'Ficha de Jogo'!E$29,"")) | U14: =IF(K14="out",'Ficha de Jogo'!F$29,IF(K14="in",50+N('Ficha de Jogo'!$J$50)-'Ficha de Jogo'!F$29,"")) | V14: =IF(L14="out",'Ficha de Jogo'!G$29,IF(L14="in",50+N('Ficha de Jogo'!$J$50)-'Ficha de Jogo'!G$29,"")) | W14: =IF(M14="out",'Ficha de Jogo'!H$29,IF(M14="in",50+N('Ficha de Jogo'!$J$50)-'Ficha de Jogo'!H$29,"")) | X14: =IF(N14="out",'Ficha de Jogo'!I$29,IF(N14="in",50+N('Ficha de Jogo'!$J$50)-'Ficha de Jogo'!I$29,"")) | Y14: =IF(O14="out",'Ficha de Jogo'!J$29,IF(O14="in",50+N('Ficha de Jogo'!$J$50)-'Ficha de Jogo'!J$29,"")) | Z14: =IF($P14>1,IF($P14>2,IF($P14>3,IF($P14>4,IF($P14>5,IF($P14>6,IF($P14>7,IF($P14>8,IF($P14>9,"aqui",-4*(50+N('Ficha de Jogo'!$J$50))),-3*(50+N('Ficha de Jogo'!$J$50))),-3*(50+N('Ficha de Jogo'!$J$50))),-2*(50+N('Ficha de Jogo'!$J$50))),-2*(50+N('Ficha de Jogo'!$J$50))),-1*(50+N('Ficha de Jogo'!$J$50))),-1*(50+N('Ficha de Jogo'!$J$50))),0),0) -> 0 | AA14: =IF($P14>1,IF($P14>2,IF($P14>3,IF($P14>4,IF($P14>5,IF($P14>6,IF($P14>7,IF($P14>8,IF($P14>9,"aqui",-4*(50+N('Ficha de Jogo'!$J$50))),-4*(50+N('Ficha de Jogo'!$J$50))),-3*(50+N('Ficha de Jogo'!$J$50))),-3*(50+N('Ficha de Jogo'!$J$50))),-2*(50+N('Ficha de Jogo'!$J$50))),-2*(50+N('Ficha de Jogo'!$J$50))),-1*(50+N('Ficha de Jogo'!$J$50))),-1*(50+N('Ficha de Jogo'!$J$50))),0) -> 0 | AC14: =IF(D14="x",B14,"") | AD14: =IF(AND(G14="",AC14=$B14),$B14,IF(G14="in",$B14,"")) | AE14: =IF(AND(H14="",AD14=$B14),$B14,IF(H14="in",$B14,"")) | AF14: =IF(AND(I14="",AE14=$B14),$B14,IF(I14="in",$B14,"")) | AG14: =IF(AND(J14="",AF14=$B14),$B14,IF(J14="in",$B14,"")) | AH14: =IF(AND(K14="",AG14=$B14),$B14,IF(K14="in",$B14,"")) | AI14: =IF(AND(L14="",AH14=$B14),$B14,IF(L14="in",$B14,"")) | AJ14: =IF(AND(M14="",AI14=$B14),$B14,IF(M14="in",$B14,"")) | AK14: =IF(AND(N14="",AJ14=$B14),$B14,IF(N14="in",$B14,"")) | AL14: =IF(AND(O14="",AK14=$B14),$B14,IF(O14="in",$B14,""))
... A16: =IF(ISBLANK('Ficha de Jogo'!A23),"",'Ficha de Jogo'!A23) | B16: =IF(ISBLANK('Ficha de Jogo'!B23),"",'Ficha de Jogo'!B23) | C16: ='Ficha de Jogo'!C23 | D16: =IF(ISBLANK('Ficha de Jogo'!F23),"",'Ficha de Jogo'!F23) | E16: =IF(B16="","",IF(D16="x",IF(F16="",SUM(Q16:Y16)+Z16,SUM(Q16:Y16)+Z16+F16),IF(F16="",IF(AND(P16<>0,SUM(Q16:Y16)+AA16=0),SUM(Q16:Y16)+AA16+1,SUM(Q16:Y16)+AA16),SUM(Q16:Y16)+AA16+F16))) | F16: =IF($D16="x",IF(COUNTIF('Ficha de Jogo'!$B$27:$J$28,$B16)=0,50+N('Ficha de Jogo'!$J$50),""),IF(COUNTIF('Ficha de Jogo'!$B$27:$J$28,$B16)=0,0,"")) | G16: =IF(ISNUMBER($A16),IF('Ficha de Jogo'!B$27=$B16,"in",IF('Ficha de Jogo'!B$28=$B16,"out","")),"") | H16: =IF(ISNUMBER($A16),IF('Ficha de Jogo'!C$27=$B16,"in",IF('Ficha de Jogo'!C$28=$B16,"out","")),"") | I16: =IF(ISNUMBER($A16),IF('Ficha de Jogo'!D$27=$B16,"in",IF('Ficha de Jogo'!D$28=$B16,"out","")),"") | J16: =IF(ISNUMBER($A16),IF('Ficha de Jogo'!E$27=$B16,"in",IF('Ficha de Jogo'!E$28=$B16,"out","")),"") | K16: =IF(ISNUMBER($A16),IF('Ficha de Jogo'!F$27=$B16,"in",IF('Ficha de Jogo'!F$28=$B16,"out","")),"") | L16: =IF(ISNUMBER($A16),IF('Ficha de Jogo'!G$27=$B16,"in",IF('Ficha de Jogo'!G$28=$B16,"out","")),"") | M16: =IF(ISNUMBER($A16),IF('Ficha de Jogo'!H$27=$B16,"in",IF('Ficha de Jogo'!H$28=$B16,"out","")),"") | N16: =IF(ISNUMBER($A16),IF('Ficha de Jogo'!I$27=$B16,"in",IF('Ficha de Jogo'!I$28=$B16,"out","")),"") | O16: =IF(ISNUMBER($A16),IF('Ficha de Jogo'!J$27=$B16,"in",IF('Ficha de Jogo'!J$28=$B16,"out","")),"") | P16: =COUNTIF($G16:$O16,"in")+COUNTIF($G16:$O16,"out") -> 0 | Q16: =IF(G16="out",'Ficha de Jogo'!B$29,IF(G16="in",50+N('Ficha de Jogo'!$J$50)-'Ficha de Jogo'!B$29,"")) | R16: =IF(H16="out",'Ficha de Jogo'!C$29,IF(H16="in",50+N('Ficha de Jogo'!$J$50)-'Ficha de Jogo'!C$29,"")) | S16: =IF(I16="out",'Ficha de Jogo'!D$29,IF(I16="in",50+N('Ficha de Jogo'!$J$50)-'Ficha de Jogo'!D$29,"")) | T16: =IF(J16="out",'Ficha de Jogo'!E$29,IF(J16="in",50+N('Ficha de Jogo'!$J$50)-'Ficha de Jogo'!E$29,"")) | U16: =IF(K16="out",'Ficha de Jogo'!F$29,IF(K16="in",50+N('Ficha de Jogo'!$J$50)-'Ficha de Jogo'!F$29,"")) | V16: =IF(L16="out",'Ficha de Jogo'!G$29,IF(L16="in",50+N('Ficha de Jogo'!$J$50)-'Ficha de Jogo'!G$29,"")) | W16: =IF(M16="out",'Ficha de Jogo'!H$29,IF(M16="in",50+N('Ficha de Jogo'!$J$50)-'Ficha de Jogo'!H$29,"")) | X16: =IF(N16="out",'Ficha de Jogo'!I$29,IF(N16="in",50+N('Ficha de Jogo'!$J$50)-'Ficha de Jogo'!I$29,"")) | Y16: =IF(O16="out",'Ficha de Jogo'!J$29,IF(O16="in",50+N('Ficha de Jogo'!$J$50)-'Ficha de Jogo'!J$29,"")) | Z16: =IF($P16>1,IF($P16>2,IF($P16>3,IF($P16>4,IF($P16>5,IF($P16>6,IF($P16>7,IF($P16>8,IF($P16>9,"aqui",-4*(50+N('Ficha de Jogo'!$J$50))),-3*(50+N('Ficha de Jogo'!$J$50))),-3*(50+N('Ficha de Jogo'!$J$50))),-2*(50+N('Ficha de Jogo'!$J$50))),-2*(50+N('Ficha de Jogo'!$J$50))),-1*(50+N('Ficha de Jogo'!$J$50))),-1*(50+N('Ficha de Jogo'!$J$50))),0),0) -> 0 | AA16: =IF($P16>1,IF($P16>2,IF($P16>3,IF($P16>4,IF($P16>5,IF($P16>6,IF($P16>7,IF($P16>8,IF($P16>9,"aqui",-4*(50+N('Ficha de Jogo'!$J$50))),-4*(50+N('Ficha de Jogo'!$J$50))),-3*(50+N('Ficha de Jogo'!$J$50))),-3*(50+N('Ficha de Jogo'!$J$50))),-2*(50+N('Ficha de Jogo'!$J$50))),-2*(50+N('Ficha de Jogo'!$J$50))),-1*(50+N('Ficha de Jogo'!$J$50))),-1*(50+N('Ficha de Jogo'!$J$50))),0) -> 0 | AC16: =IF(D16="x",B16,"") | AD16: =IF(AND(G16="",AC16=$B16),$B16,IF(G16="in",$B16,"")) | AE16: =IF(AND(H16="",AD16=$B16),$B16,IF(H16="in",$B16,"")) | AF16: =IF(AND(I16="",AE16=$B16),$B16,IF(I16="in",$B16,"")) | AG16: =IF(AND(J16="",AF16=$B16),$B16,IF(J16="in",$B16,"")) | AH16: =IF(AND(K16="",AG16=$B16),$B16,IF(K16="in",$B16,"")) | AI16: =IF(AND(L16="",AH16=$B16),$B16,IF(L16="in",$B16,"")) | AJ16: =IF(AND(M16="",AI16=$B16),$B16,IF(M16="in",$B16,"")) | AK16: =IF(AND(N16="",AJ16=$B16),$B16,IF(N16="in",$B16,"")) | AL16: =IF(AND(O16="",AK16=$B16),$B16,IF(O16="in",$B16,""))
E17: =SUM(E3:E16) -> 0 | AC17: =COUNT(AC3:AC16) -> 0 | AD17: =COUNT(AD3:AD16) -> 0 | AE17: =COUNT(AE3:AE16) -> 0 | AF17: =COUNT(AF3:AF16) -> 0 | AG17: =COUNT(AG3:AG16) -> 0 | AH17: =COUNT(AH3:AH16) -> 0 | AI17: =COUNT(AI3:AI16) -> 0 | AJ17: =COUNT(AJ3:AJ16) -> 0 | ... AL17: =COUNT(AL3:AL16) -> 0
E19: Nota: tive que adicionar a opção de que se entra e sai no mesmo minuto (tendo jogado menos do que um minuto) apareça na mesma 1 à frente do nome. Doutro modo, aparece apenas que o jogador entrou (não fica a amarelo), mas não aparece nenhum minuto de jogo.
E20: Se aparecer que o tempo total de jogo é mais do que 400, por exemplo, 401, é um problema de arredondamentos.

Sheet MinutosVisitante
A1: ='Ficha de Jogo'!L6 | AC1: Equipa em jogo
A2: ='Ficha de Jogo'!L9 -> FPC nº | B2: ='Ficha de Jogo'!M9 -> Jogador nº | C2: ='Ficha de Jogo'!N9 -> Nome | D2: ='Ficha de Jogo'!Q9 -> Equipa Inicial (x) | E2: Minutos jogados | F2: Ponto Inicial | G2: 1ª | H2: 2ª | I2: 3ª | J2: 4ª | K2: 5ª | L2: 6ª | M2: 7ª | N2: 8ª | O2: 9ª | P2: Quantas vezes "in" e "out" | Q2: 1ª | R2: 2ª | S2: 3ª | T2: 4ª | U2: 5ª | V2: 6ª | W2: 7ª | X2: 8ª | Y2: 9ª | Z2: Compensação 2 ou + in/out e titular | AA2: Compensação 2 ou + in/out e suplente | AC2: Equipa inicial | AD2: 1ª | AE2: 2ª | AF2: 3ª | AG2: 4ª | AH2: 5ª | AI2: 6ª | AJ2: 7ª | AK2: 8ª | AL2: 9ª
A3: =IF(ISBLANK('Ficha de Jogo'!L10),"",'Ficha de Jogo'!L10) | B3: =IF(ISBLANK('Ficha de Jogo'!M10),"",'Ficha de Jogo'!M10) | C3: ='Ficha de Jogo'!N10 | D3: =IF(ISBLANK('Ficha de Jogo'!Q10),"",'Ficha de Jogo'!Q10) | E3: =IF(B3="","",IF(D3="x",IF(F3="",SUM(Q3:Y3)+Z3,SUM(Q3:Y3)+Z3+F3),IF(F3="",IF(AND(P3<>0,SUM(Q3:Y3)+AA3=0),SUM(Q3:Y3)+AA3+1,SUM(Q3:Y3)+AA3),SUM(Q3:Y3)+AA3+F3))) | F3: =IF($D3="x",IF(COUNTIF('Ficha de Jogo'!$M$27:$U$28,$B3)=0,50+N('Ficha de Jogo'!$J$50),""),IF(COUNTIF('Ficha de Jogo'!$M$27:$U$28,$B3)=0,0,"")) | G3: =IF(ISNUMBER($A3),IF('Ficha de Jogo'!M$27=$B3,"in",IF('Ficha de Jogo'!M$28=$B3,"out","")),"") | H3: =IF(ISNUMBER($A3),IF('Ficha de Jogo'!N$27=$B3,"in",IF('Ficha de Jogo'!N$28=$B3,"out","")),"") | I3: =IF(ISNUMBER($A3),IF('Ficha de Jogo'!O$27=$B3,"in",IF('Ficha de Jogo'!O$28=$B3,"out","")),"") | J3: =IF(ISNUMBER($A3),IF('Ficha de Jogo'!P$27=$B3,"in",IF('Ficha de Jogo'!P$28=$B3,"out","")),"") | K3: =IF(ISNUMBER($A3),IF('Ficha de Jogo'!Q$27=$B3,"in",IF('Ficha de Jogo'!Q$28=$B3,"out","")),"") | L3: =IF(ISNUMBER($A3),IF('Ficha de Jogo'!R$27=$B3,"in",IF('Ficha de Jogo'!R$28=$B3,"out","")),"") | M3: =IF(ISNUMBER($A3),IF('Ficha de Jogo'!S$27=$B3,"in",IF('Ficha de Jogo'!S$28=$B3,"out","")),"") | N3: =IF(ISNUMBER($A3),IF('Ficha de Jogo'!T$27=$B3,"in",IF('Ficha de Jogo'!T$28=$B3,"out","")),"") | O3: =IF(ISNUMBER($A3),IF('Ficha de Jogo'!U$27=$B3,"in",IF('Ficha de Jogo'!U$28=$B3,"out","")),"") | P3: =COUNTIF($G3:$O3,"in")+COUNTIF($G3:$O3,"out") -> 0 | Q3: =IF(G3="out",'Ficha de Jogo'!M$29,IF(G3="in",50+N('Ficha de Jogo'!$J$50)-'Ficha de Jogo'!M$29,"")) | R3: =IF(H3="out",'Ficha de Jogo'!N$29,IF(H3="in",50+N('Ficha de Jogo'!$J$50)-'Ficha de Jogo'!N$29,"")) | S3: =IF(I3="out",'Ficha de Jogo'!O$29,IF(I3="in",50+N('Ficha de Jogo'!$J$50)-'Ficha de Jogo'!O$29,"")) | T3: =IF(J3="out",'Ficha de Jogo'!P$29,IF(J3="in",50+N('Ficha de Jogo'!$J$50)-'Ficha de Jogo'!P$29,"")) | U3: =IF(K3="out",'Ficha de Jogo'!Q$29,IF(K3="in",50+N('Ficha de Jogo'!$J$50)-'Ficha de Jogo'!Q$29,"")) | V3: =IF(L3="out",'Ficha de Jogo'!R$29,IF(L3="in",50+N('Ficha de Jogo'!$J$50)-'Ficha de Jogo'!R$29,"")) | W3: =IF(M3="out",'Ficha de Jogo'!S$29,IF(M3="in",50+N('Ficha de Jogo'!$J$50)-'Ficha de Jogo'!S$29,"")) | X3: =IF(N3="out",'Ficha de Jogo'!T$29,IF(N3="in",50+N('Ficha de Jogo'!$J$50)-'Ficha de Jogo'!T$29,"")) | Y3: =IF(O3="out",'Ficha de Jogo'!U$29,IF(O3="in",50+N('Ficha de Jogo'!$J$50)-'Ficha de Jogo'!U$29,"")) | Z3: =IF($P3>1,IF($P3>2,IF($P3>3,IF($P3>4,IF($P3>5,IF($P3>6,IF($P3>7,IF($P3>8,IF($P3>9,"aqui",-4*(50+N('Ficha de Jogo'!$J$50))),-3*(50+N('Ficha de Jogo'!$J$50))),-3*(50+N('Ficha de Jogo'!$J$50))),-2*(50+N('Ficha de Jogo'!$J$50))),-2*(50+N('Ficha de Jogo'!$J$50))),-1*(50+N('Ficha de Jogo'!$J$50))),-1*(50+N('Ficha de Jogo'!$J$50))),0),0) -> 0 | AA3: =IF($P3>1,IF($P3>2,IF($P3>3,IF($P3>4,IF($P3>5,IF($P3>6,IF($P3>7,IF($P3>8,IF($P3>9,"aqui",-4*(50+N('Ficha de Jogo'!$J$50))),-4*(50+N('Ficha de Jogo'!$J$50))),-3*(50+N('Ficha de Jogo'!$J$50))),-3*(50+N('Ficha de Jogo'!$J$50))),-2*(50+N('Ficha de Jogo'!$J$50))),-2*(50+N('Ficha de Jogo'!$J$50))),-1*(50+N('Ficha de Jogo'!$J$50))),-1*(50+N('Ficha de Jogo'!$J$50))),0) -> 0 | AC3: =IF(D3="x",B3,"") | AD3: =IF(AND(G3="",AC3=$B3),$B3,IF(G3="in",$B3,"")) | AE3: =IF(AND(H3="",AD3=$B3),$B3,IF(H3="in",$B3,"")) | AF3: =IF(AND(I3="",AE3=$B3),$B3,IF(I3="in",$B3,"")) | AG3: =IF(AND(J3="",AF3=$B3),$B3,IF(J3="in",$B3,"")) | AH3: =IF(AND(K3="",AG3=$B3),$B3,IF(K3="in",$B3,"")) | AI3: =IF(AND(L3="",AH3=$B3),$B3,IF(L3="in",$B3,"")) | AJ3: =IF(AND(M3="",AI3=$B3),$B3,IF(M3="in",$B3,"")) | AK3: =IF(AND(N3="",AJ3=$B3),$B3,IF(N3="in",$B3,"")) | AL3: =IF(AND(O3="",AK3=$B3),$B3,IF(O3="in",$B3,""))
A4: =IF(ISBLANK('Ficha de Jogo'!L11),"",'Ficha de Jogo'!L11) | B4: =IF(ISBLANK('Ficha de Jogo'!M11),"",'Ficha de Jogo'!M11) | C4: ='Ficha de Jogo'!N11 | D4: =IF(ISBLANK('Ficha de Jogo'!Q11),"",'Ficha de Jogo'!Q11) | E4: =IF(B4="","",IF(D4="x",IF(F4="",SUM(Q4:Y4)+Z4,SUM(Q4:Y4)+Z4+F4),IF(F4="",IF(AND(P4<>0,SUM(Q4:Y4)+AA4=0),SUM(Q4:Y4)+AA4+1,SUM(Q4:Y4)+AA4),SUM(Q4:Y4)+AA4+F4))) | F4: =IF($D4="x",IF(COUNTIF('Ficha de Jogo'!$M$27:$U$28,$B4)=0,50+N('Ficha de Jogo'!$J$50),""),IF(COUNTIF('Ficha de Jogo'!$M$27:$U$28,$B4)=0,0,"")) | G4: =IF(ISNUMBER($A4),IF('Ficha de Jogo'!M$27=$B4,"in",IF('Ficha de Jogo'!M$28=$B4,"out","")),"") | H4: =IF(ISNUMBER($A4),IF('Ficha de Jogo'!N$27=$B4,"in",IF('Ficha de Jogo'!N$28=$B4,"out","")),"") | I4: =IF(ISNUMBER($A4),IF('Ficha de Jogo'!O$27=$B4,"in",IF('Ficha de Jogo'!O$28=$B4,"out","")),"") | J4: =IF(ISNUMBER($A4),IF('Ficha de Jogo'!P$27=$B4,"in",IF('Ficha de Jogo'!P$28=$B4,"out","")),"") | K4: =IF(ISNUMBER($A4),IF('Ficha de Jogo'!Q$27=$B4,"in",IF('Ficha de Jogo'!Q$28=$B4,"out","")),"") | L4: =IF(ISNUMBER($A4),IF('Ficha de Jogo'!R$27=$B4,"in",IF('Ficha de Jogo'!R$28=$B4,"out","")),"") | M4: =IF(ISNUMBER($A4),IF('Ficha de Jogo'!S$27=$B4,"in",IF('Ficha de Jogo'!S$28=$B4,"out","")),"") | N4: =IF(ISNUMBER($A4),IF('Ficha de Jogo'!T$27=$B4,"in",IF('Ficha de Jogo'!T$28=$B4,"out","")),"") | O4: =IF(ISNUMBER($A4),IF('Ficha de Jogo'!U$27=$B4,"in",IF('Ficha de Jogo'!U$28=$B4,"out","")),"") | P4: =COUNTIF($G4:$O4,"in")+COUNTIF($G4:$O4,"out") -> 0 | Q4: =IF(G4="out",'Ficha de Jogo'!M$29,IF(G4="in",50+N('Ficha de Jogo'!$J$50)-'Ficha de Jogo'!M$29,"")) | R4: =IF(H4="out",'Ficha de Jogo'!N$29,IF(H4="in",50+N('Ficha de Jogo'!$J$50)-'Ficha de Jogo'!N$29,"")) | S4: =IF(I4="out",'Ficha de Jogo'!O$29,IF(I4="in",50+N('Ficha de Jogo'!$J$50)-'Ficha de Jogo'!O$29,"")) | T4: =IF(J4="out",'Ficha de Jogo'!P$29,IF(J4="in",50+N('Ficha de Jogo'!$J$50)-'Ficha de Jogo'!P$29,"")) | U4: =IF(K4="out",'Ficha de Jogo'!Q$29,IF(K4="in",50+N('Ficha de Jogo'!$J$50)-'Ficha de Jogo'!Q$29,"")) | V4: =IF(L4="out",'Ficha de Jogo'!R$29,IF(L4="in",50+N('Ficha de Jogo'!$J$50)-'Ficha de Jogo'!R$29,"")) | W4: =IF(M4="out",'Ficha de Jogo'!S$29,IF(M4="in",50+N('Ficha de Jogo'!$J$50)-'Ficha de Jogo'!S$29,"")) | X4: =IF(N4="out",'Ficha de Jogo'!T$29,IF(N4="in",50+N('Ficha de Jogo'!$J$50)-'Ficha de Jogo'!T$29,"")) | Y4: =IF(O4="out",'Ficha de Jogo'!U$29,IF(O4="in",50+N('Ficha de Jogo'!$J$50)-'Ficha de Jogo'!U$29,"")) | Z4: =IF($P4>1,IF($P4>2,IF($P4>3,IF($P4>4,IF($P4>5,IF($P4>6,IF($P4>7,IF($P4>8,IF($P4>9,"aqui",-4*(50+N('Ficha de Jogo'!$J$50))),-3*(50+N('Ficha de Jogo'!$J$50))),-3*(50+N('Ficha de Jogo'!$J$50))),-2*(50+N('Ficha de Jogo'!$J$50))),-2*(50+N('Ficha de Jogo'!$J$50))),-1*(50+N('Ficha de Jogo'!$J$50))),-1*(50+N('Ficha de Jogo'!$J$50))),0),0) -> 0 | AA4: =IF($P4>1,IF($P4>2,IF($P4>3,IF($P4>4,IF($P4>5,IF($P4>6,IF($P4>7,IF($P4>8,IF($P4>9,"aqui",-4*(50+N('Ficha de Jogo'!$J$50))),-4*(50+N('Ficha de Jogo'!$J$50))),-3*(50+N('Ficha de Jogo'!$J$50))),-3*(50+N('Ficha de Jogo'!$J$50))),-2*(50+N('Ficha de Jogo'!$J$50))),-2*(50+N('Ficha de Jogo'!$J$50))),-1*(50+N('Ficha de Jogo'!$J$50))),-1*(50+N('Ficha de Jogo'!$J$50))),0) -> 0 | AC4: =IF(D4="x",B4,"") | AD4: =IF(AND(G4="",AC4=$B4),$B4,IF(G4="in",$B4,"")) | AE4: =IF(AND(H4="",AD4=$B4),$B4,IF(H4="in",$B4,"")) | AF4: =IF(AND(I4="",AE4=$B4),$B4,IF(I4="in",$B4,"")) | AG4: =IF(AND(J4="",AF4=$B4),$B4,IF(J4="in",$B4,"")) | AH4: =IF(AND(K4="",AG4=$B4),$B4,IF(K4="in",$B4,"")) | AI4: =IF(AND(L4="",AH4=$B4),$B4,IF(L4="in",$B4,"")) | AJ4: =IF(AND(M4="",AI4=$B4),$B4,IF(M4="in",$B4,"")) | AK4: =IF(AND(N4="",AJ4=$B4),$B4,IF(N4="in",$B4,"")) | AL4: =IF(AND(O4="",AK4=$B4),$B4,IF(O4="in",$B4,""))
A5: =IF(ISBLANK('Ficha de Jogo'!L12),"",'Ficha de Jogo'!L12) | B5: =IF(ISBLANK('Ficha de Jogo'!M12),"",'Ficha de Jogo'!M12) | C5: ='Ficha de Jogo'!N12 | D5: =IF(ISBLANK('Ficha de Jogo'!Q12),"",'Ficha de Jogo'!Q12) | E5: =IF(B5="","",IF(D5="x",IF(F5="",SUM(Q5:Y5)+Z5,SUM(Q5:Y5)+Z5+F5),IF(F5="",IF(AND(P5<>0,SUM(Q5:Y5)+AA5=0),SUM(Q5:Y5)+AA5+1,SUM(Q5:Y5)+AA5),SUM(Q5:Y5)+AA5+F5))) | F5: =IF($D5="x",IF(COUNTIF('Ficha de Jogo'!$M$27:$U$28,$B5)=0,50+N('Ficha de Jogo'!$J$50),""),IF(COUNTIF('Ficha de Jogo'!$M$27:$U$28,$B5)=0,0,"")) | G5: =IF(ISNUMBER($A5),IF('Ficha de Jogo'!M$27=$B5,"in",IF('Ficha de Jogo'!M$28=$B5,"out","")),"") | H5: =IF(ISNUMBER($A5),IF('Ficha de Jogo'!N$27=$B5,"in",IF('Ficha de Jogo'!N$28=$B5,"out","")),"") | I5: =IF(ISNUMBER($A5),IF('Ficha de Jogo'!O$27=$B5,"in",IF('Ficha de Jogo'!O$28=$B5,"out","")),"") | J5: =IF(ISNUMBER($A5),IF('Ficha de Jogo'!P$27=$B5,"in",IF('Ficha de Jogo'!P$28=$B5,"out","")),"") | K5: =IF(ISNUMBER($A5),IF('Ficha de Jogo'!Q$27=$B5,"in",IF('Ficha de Jogo'!Q$28=$B5,"out","")),"") | L5: =IF(ISNUMBER($A5),IF('Ficha de Jogo'!R$27=$B5,"in",IF('Ficha de Jogo'!R$28=$B5,"out","")),"") | M5: =IF(ISNUMBER($A5),IF('Ficha de Jogo'!S$27=$B5,"in",IF('Ficha de Jogo'!S$28=$B5,"out","")),"") | N5: =IF(ISNUMBER($A5),IF('Ficha de Jogo'!T$27=$B5,"in",IF('Ficha de Jogo'!T$28=$B5,"out","")),"") | O5: =IF(ISNUMBER($A5),IF('Ficha de Jogo'!U$27=$B5,"in",IF('Ficha de Jogo'!U$28=$B5,"out","")),"") | P5: =COUNTIF($G5:$O5,"in")+COUNTIF($G5:$O5,"out") -> 0 | Q5: =IF(G5="out",'Ficha de Jogo'!M$29,IF(G5="in",50+N('Ficha de Jogo'!$J$50)-'Ficha de Jogo'!M$29,"")) | R5: =IF(H5="out",'Ficha de Jogo'!N$29,IF(H5="in",50+N('Ficha de Jogo'!$J$50)-'Ficha de Jogo'!N$29,"")) | S5: =IF(I5="out",'Ficha de Jogo'!O$29,IF(I5="in",50+N('Ficha de Jogo'!$J$50)-'Ficha de Jogo'!O$29,"")) | T5: =IF(J5="out",'Ficha de Jogo'!P$29,IF(J5="in",50+N('Ficha de Jogo'!$J$50)-'Ficha de Jogo'!P$29,"")) | U5: =IF(K5="out",'Ficha de Jogo'!Q$29,IF(K5="in",50+N('Ficha de Jogo'!$J$50)-'Ficha de Jogo'!Q$29,"")) | V5: =IF(L5="out",'Ficha de Jogo'!R$29,IF(L5="in",50+N('Ficha de Jogo'!$J$50)-'Ficha de Jogo'!R$29,"")) | W5: =IF(M5="out",'Ficha de Jogo'!S$29,IF(M5="in",50+N('Ficha de Jogo'!$J$50)-'Ficha de Jogo'!S$29,"")) | X5: =IF(N5="out",'Ficha de Jogo'!T$29,IF(N5="in",50+N('Ficha de Jogo'!$J$50)-'Ficha de Jogo'!T$29,"")) | Y5: =IF(O5="out",'Ficha de Jogo'!U$29,IF(O5="in",50+N('Ficha de Jogo'!$J$50)-'Ficha de Jogo'!U$29,"")) | Z5: =IF($P5>1,IF($P5>2,IF($P5>3,IF($P5>4,IF($P5>5,IF($P5>6,IF($P5>7,IF($P5>8,IF($P5>9,"aqui",-4*(50+N('Ficha de Jogo'!$J$50))),-3*(50+N('Ficha de Jogo'!$J$50))),-3*(50+N('Ficha de Jogo'!$J$50))),-2*(50+N('Ficha de Jogo'!$J$50))),-2*(50+N('Ficha de Jogo'!$J$50))),-1*(50+N('Ficha de Jogo'!$J$50))),-1*(50+N('Ficha de Jogo'!$J$50))),0),0) -> 0 | AA5: =IF($P5>1,IF($P5>2,IF($P5>3,IF($P5>4,IF($P5>5,IF($P5>6,IF($P5>7,IF($P5>8,IF($P5>9,"aqui",-4*(50+N('Ficha de Jogo'!$J$50))),-4*(50+N('Ficha de Jogo'!$J$50))),-3*(50+N('Ficha de Jogo'!$J$50))),-3*(50+N('Ficha de Jogo'!$J$50))),-2*(50+N('Ficha de Jogo'!$J$50))),-2*(50+N('Ficha de Jogo'!$J$50))),-1*(50+N('Ficha de Jogo'!$J$50))),-1*(50+N('Ficha de Jogo'!$J$50))),0) -> 0 | AC5: =IF(D5="x",B5,"") | AD5: =IF(AND(G5="",AC5=$B5),$B5,IF(G5="in",$B5,"")) | AE5: =IF(AND(H5="",AD5=$B5),$B5,IF(H5="in",$B5,"")) | AF5: =IF(AND(I5="",AE5=$B5),$B5,IF(I5="in",$B5,"")) | AG5: =IF(AND(J5="",AF5=$B5),$B5,IF(J5="in",$B5,"")) | AH5: =IF(AND(K5="",AG5=$B5),$B5,IF(K5="in",$B5,"")) | AI5: =IF(AND(L5="",AH5=$B5),$B5,IF(L5="in",$B5,"")) | AJ5: =IF(AND(M5="",AI5=$B5),$B5,IF(M5="in",$B5,"")) | AK5: =IF(AND(N5="",AJ5=$B5),$B5,IF(N5="in",$B5,"")) | AL5: =IF(AND(O5="",AK5=$B5),$B5,IF(O5="in",$B5,""))
A6: =IF(ISBLANK('Ficha de Jogo'!L13),"",'Ficha de Jogo'!L13) | B6: =IF(ISBLANK('Ficha de Jogo'!M13),"",'Ficha de Jogo'!M13) | C6: ='Ficha de Jogo'!N13 | D6: =IF(ISBLANK('Ficha de Jogo'!Q13),"",'Ficha de Jogo'!Q13) | E6: =IF(B6="","",IF(D6="x",IF(F6="",SUM(Q6:Y6)+Z6,SUM(Q6:Y6)+Z6+F6),IF(F6="",IF(AND(P6<>0,SUM(Q6:Y6)+AA6=0),SUM(Q6:Y6)+AA6+1,SUM(Q6:Y6)+AA6),SUM(Q6:Y6)+AA6+F6))) | F6: =IF($D6="x",IF(COUNTIF('Ficha de Jogo'!$M$27:$U$28,$B6)=0,50+N('Ficha de Jogo'!$J$50),""),IF(COUNTIF('Ficha de Jogo'!$M$27:$U$28,$B6)=0,0,"")) | G6: =IF(ISNUMBER($A6),IF('Ficha de Jogo'!M$27=$B6,"in",IF('Ficha de Jogo'!M$28=$B6,"out","")),"") | H6: =IF(ISNUMBER($A6),IF('Ficha de Jogo'!N$27=$B6,"in",IF('Ficha de Jogo'!N$28=$B6,"out","")),"") | I6: =IF(ISNUMBER($A6),IF('Ficha de Jogo'!O$27=$B6,"in",IF('Ficha de Jogo'!O$28=$B6,"out","")),"") | J6: =IF(ISNUMBER($A6),IF('Ficha de Jogo'!P$27=$B6,"in",IF('Ficha de Jogo'!P$28=$B6,"out","")),"") | K6: =IF(ISNUMBER($A6),IF('Ficha de Jogo'!Q$27=$B6,"in",IF('Ficha de Jogo'!Q$28=$B6,"out","")),"") | L6: =IF(ISNUMBER($A6),IF('Ficha de Jogo'!R$27=$B6,"in",IF('Ficha de Jogo'!R$28=$B6,"out","")),"") | M6: =IF(ISNUMBER($A6),IF('Ficha de Jogo'!S$27=$B6,"in",IF('Ficha de Jogo'!S$28=$B6,"out","")),"") | N6: =IF(ISNUMBER($A6),IF('Ficha de Jogo'!T$27=$B6,"in",IF('Ficha de Jogo'!T$28=$B6,"out","")),"") | O6: =IF(ISNUMBER($A6),IF('Ficha de Jogo'!U$27=$B6,"in",IF('Ficha de Jogo'!U$28=$B6,"out","")),"") | P6: =COUNTIF($G6:$O6,"in")+COUNTIF($G6:$O6,"out") -> 0 | Q6: =IF(G6="out",'Ficha de Jogo'!M$29,IF(G6="in",50+N('Ficha de Jogo'!$J$50)-'Ficha de Jogo'!M$29,"")) | R6: =IF(H6="out",'Ficha de Jogo'!N$29,IF(H6="in",50+N('Ficha de Jogo'!$J$50)-'Ficha de Jogo'!N$29,"")) | S6: =IF(I6="out",'Ficha de Jogo'!O$29,IF(I6="in",50+N('Ficha de Jogo'!$J$50)-'Ficha de Jogo'!O$29,"")) | T6: =IF(J6="out",'Ficha de Jogo'!P$29,IF(J6="in",50+N('Ficha de Jogo'!$J$50)-'Ficha de Jogo'!P$29,"")) | U6: =IF(K6="out",'Ficha de Jogo'!Q$29,IF(K6="in",50+N('Ficha de Jogo'!$J$50)-'Ficha de Jogo'!Q$29,"")) | V6: =IF(L6="out",'Ficha de Jogo'!R$29,IF(L6="in",50+N('Ficha de Jogo'!$J$50)-'Ficha de Jogo'!R$29,"")) | W6: =IF(M6="out",'Ficha de Jogo'!S$29,IF(M6="in",50+N('Ficha de Jogo'!$J$50)-'Ficha de Jogo'!S$29,"")) | X6: =IF(N6="out",'Ficha de Jogo'!T$29,IF(N6="in",50+N('Ficha de Jogo'!$J$50)-'Ficha de Jogo'!T$29,"")) | Y6: =IF(O6="out",'Ficha de Jogo'!U$29,IF(O6="in",50+N('Ficha de Jogo'!$J$50)-'Ficha de Jogo'!U$29,"")) | Z6: =IF($P6>1,IF($P6>2,IF($P6>3,IF($P6>4,IF($P6>5,IF($P6>6,IF($P6>7,IF($P6>8,IF($P6>9,"aqui",-4*(50+N('Ficha de Jogo'!$J$50))),-3*(50+N('Ficha de Jogo'!$J$50))),-3*(50+N('Ficha de Jogo'!$J$50))),-2*(50+N('Ficha de Jogo'!$J$50))),-2*(50+N('Ficha de Jogo'!$J$50))),-1*(50+N('Ficha de Jogo'!$J$50))),-1*(50+N('Ficha de Jogo'!$J$50))),0),0) -> 0 | AA6: =IF($P6>1,IF($P6>2,IF($P6>3,IF($P6>4,IF($P6>5,IF($P6>6,IF($P6>7,IF($P6>8,IF($P6>9,"aqui",-4*(50+N('Ficha de Jogo'!$J$50))),-4*(50+N('Ficha de Jogo'!$J$50))),-3*(50+N('Ficha de Jogo'!$J$50))),-3*(50+N('Ficha de Jogo'!$J$50))),-2*(50+N('Ficha de Jogo'!$J$50))),-2*(50+N('Ficha de Jogo'!$J$50))),-1*(50+N('Ficha de Jogo'!$J$50))),-1*(50+N('Ficha de Jogo'!$J$50))),0) -> 0 | AC6: =IF(D6="x",B6,"") | AD6: =IF(AND(G6="",AC6=$B6),$B6,IF(G6="in",$B6,"")) | AE6: =IF(AND(H6="",AD6=$B6),$B6,IF(H6="in",$B6,"")) | AF6: =IF(AND(I6="",AE6=$B6),$B6,IF(I6="in",$B6,"")) | AG6: =IF(AND(J6="",AF6=$B6),$B6,IF(J6="in",$B6,"")) | AH6: =IF(AND(K6="",AG6=$B6),$B6,IF(K6="in",$B6,"")) | AI6: =IF(AND(L6="",AH6=$B6),$B6,IF(L6="in",$B6,"")) | AJ6: =IF(AND(M6="",AI6=$B6),$B6,IF(M6="in",$B6,"")) | AK6: =IF(AND(N6="",AJ6=$B6),$B6,IF(N6="in",$B6,"")) | AL6: =IF(AND(O6="",AK6=$B6),$B6,IF(O6="in",$B6,""))
A7: =IF(ISBLANK('Ficha de Jogo'!L14),"",'Ficha de Jogo'!L14) | B7: =IF(ISBLANK('Ficha de Jogo'!M14),"",'Ficha de Jogo'!M14) | C7: ='Ficha de Jogo'!N14 | D7: =IF(ISBLANK('Ficha de Jogo'!Q14),"",'Ficha de Jogo'!Q14) | E7: =IF(B7="","",IF(D7="x",IF(F7="",SUM(Q7:Y7)+Z7,SUM(Q7:Y7)+Z7+F7),IF(F7="",IF(AND(P7<>0,SUM(Q7:Y7)+AA7=0),SUM(Q7:Y7)+AA7+1,SUM(Q7:Y7)+AA7),SUM(Q7:Y7)+AA7+F7))) | F7: =IF($D7="x",IF(COUNTIF('Ficha de Jogo'!$M$27:$U$28,$B7)=0,50+N('Ficha de Jogo'!$J$50),""),IF(COUNTIF('Ficha de Jogo'!$M$27:$U$28,$B7)=0,0,"")) | G7: =IF(ISNUMBER($A7),IF('Ficha de Jogo'!M$27=$B7,"in",IF('Ficha de Jogo'!M$28=$B7,"out","")),"") | H7: =IF(ISNUMBER($A7),IF('Ficha de Jogo'!N$27=$B7,"in",IF('Ficha de Jogo'!N$28=$B7,"out","")),"") | I7: =IF(ISNUMBER($A7),IF('Ficha de Jogo'!O$27=$B7,"in",IF('Ficha de Jogo'!O$28=$B7,"out","")),"") | J7: =IF(ISNUMBER($A7),IF('Ficha de Jogo'!P$27=$B7,"in",IF('Ficha de Jogo'!P$28=$B7,"out","")),"") | K7: =IF(ISNUMBER($A7),IF('Ficha de Jogo'!Q$27=$B7,"in",IF('Ficha de Jogo'!Q$28=$B7,"out","")),"") | L7: =IF(ISNUMBER($A7),IF('Ficha de Jogo'!R$27=$B7,"in",IF('Ficha de Jogo'!R$28=$B7,"out","")),"") | M7: =IF(ISNUMBER($A7),IF('Ficha de Jogo'!S$27=$B7,"in",IF('Ficha de Jogo'!S$28=$B7,"out","")),"") | N7: =IF(ISNUMBER($A7),IF('Ficha de Jogo'!T$27=$B7,"in",IF('Ficha de Jogo'!T$28=$B7,"out","")),"") | O7: =IF(ISNUMBER($A7),IF('Ficha de Jogo'!U$27=$B7,"in",IF('Ficha de Jogo'!U$28=$B7,"out","")),"") | P7: =COUNTIF($G7:$O7,"in")+COUNTIF($G7:$O7,"out") -> 0 | Q7: =IF(G7="out",'Ficha de Jogo'!M$29,IF(G7="in",50+N('Ficha de Jogo'!$J$50)-'Ficha de Jogo'!M$29,"")) | R7: =IF(H7="out",'Ficha de Jogo'!N$29,IF(H7="in",50+N('Ficha de Jogo'!$J$50)-'Ficha de Jogo'!N$29,"")) | S7: =IF(I7="out",'Ficha de Jogo'!O$29,IF(I7="in",50+N('Ficha de Jogo'!$J$50)-'Ficha de Jogo'!O$29,"")) | T7: =IF(J7="out",'Ficha de Jogo'!P$29,IF(J7="in",50+N('Ficha de Jogo'!$J$50)-'Ficha de Jogo'!P$29,"")) | U7: =IF(K7="out",'Ficha de Jogo'!Q$29,IF(K7="in",50+N('Ficha de Jogo'!$J$50)-'Ficha de Jogo'!Q$29,"")) | V7: =IF(L7="out",'Ficha de Jogo'!R$29,IF(L7="in",50+N('Ficha de Jogo'!$J$50)-'Ficha de Jogo'!R$29,"")) | W7: =IF(M7="out",'Ficha de Jogo'!S$29,IF(M7="in",50+N('Ficha de Jogo'!$J$50)-'Ficha de Jogo'!S$29,"")) | X7: =IF(N7="out",'Ficha de Jogo'!T$29,IF(N7="in",50+N('Ficha de Jogo'!$J$50)-'Ficha de Jogo'!T$29,"")) | Y7: =IF(O7="out",'Ficha de Jogo'!U$29,IF(O7="in",50+N('Ficha de Jogo'!$J$50)-'Ficha de Jogo'!U$29,"")) | Z7: =IF($P7>1,IF($P7>2,IF($P7>3,IF($P7>4,IF($P7>5,IF($P7>6,IF($P7>7,IF($P7>8,IF($P7>9,"aqui",-4*(50+N('Ficha de Jogo'!$J$50))),-3*(50+N('Ficha de Jogo'!$J$50))),-3*(50+N('Ficha de Jogo'!$J$50))),-2*(50+N('Ficha de Jogo'!$J$50))),-2*(50+N('Ficha de Jogo'!$J$50))),-1*(50+N('Ficha de Jogo'!$J$50))),-1*(50+N('Ficha de Jogo'!$J$50))),0),0) -> 0 | AA7: =IF($P7>1,IF($P7>2,IF($P7>3,IF($P7>4,IF($P7>5,IF($P7>6,IF($P7>7,IF($P7>8,IF($P7>9,"aqui",-4*(50+N('Ficha de Jogo'!$J$50))),-4*(50+N('Ficha de Jogo'!$J$50))),-3*(50+N('Ficha de Jogo'!$J$50))),-3*(50+N('Ficha de Jogo'!$J$50))),-2*(50+N('Ficha de Jogo'!$J$50))),-2*(50+N('Ficha de Jogo'!$J$50))),-1*(50+N('Ficha de Jogo'!$J$50))),-1*(50+N('Ficha de Jogo'!$J$50))),0) -> 0 | AC7: =IF(D7="x",B7,"") | AD7: =IF(AND(G7="",AC7=$B7),$B7,IF(G7="in",$B7,"")) | AE7: =IF(AND(H7="",AD7=$B7),$B7,IF(H7="in",$B7,"")) | AF7: =IF(AND(I7="",AE7=$B7),$B7,IF(I7="in",$B7,"")) | AG7: =IF(AND(J7="",AF7=$B7),$B7,IF(J7="in",$B7,"")) | AH7: =IF(AND(K7="",AG7=$B7),$B7,IF(K7="in",$B7,"")) | AI7: =IF(AND(L7="",AH7=$B7),$B7,IF(L7="in",$B7,"")) | AJ7: =IF(AND(M7="",AI7=$B7),$B7,IF(M7="in",$B7,"")) | AK7: =IF(AND(N7="",AJ7=$B7),$B7,IF(N7="in",$B7,"")) | AL7: =IF(AND(O7="",AK7=$B7),$B7,IF(O7="in",$B7,""))
A8: =IF(ISBLANK('Ficha de Jogo'!L15),"",'Ficha de Jogo'!L15) | B8: =IF(ISBLANK('Ficha de Jogo'!M15),"",'Ficha de Jogo'!M15) | C8: ='Ficha de Jogo'!N15 | D8: =IF(ISBLANK('Ficha de Jogo'!Q15),"",'Ficha de Jogo'!Q15) | E8: =IF(B8="","",IF(D8="x",IF(F8="",SUM(Q8:Y8)+Z8,SUM(Q8:Y8)+Z8+F8),IF(F8="",IF(AND(P8<>0,SUM(Q8:Y8)+AA8=0),SUM(Q8:Y8)+AA8+1,SUM(Q8:Y8)+AA8),SUM(Q8:Y8)+AA8+F8))) | F8: =IF($D8="x",IF(COUNTIF('Ficha de Jogo'!$M$27:$U$28,$B8)=0,50+N('Ficha de Jogo'!$J$50),""),IF(COUNTIF('Ficha de Jogo'!$M$27:$U$28,$B8)=0,0,"")) | G8: =IF(ISNUMBER($A8),IF('Ficha de Jogo'!M$27=$B8,"in",IF('Ficha de Jogo'!M$28=$B8,"out","")),"") | H8: =IF(ISNUMBER($A8),IF('Ficha de Jogo'!N$27=$B8,"in",IF('Ficha de Jogo'!N$28=$B8,"out","")),"") | I8: =IF(ISNUMBER($A8),IF('Ficha de Jogo'!O$27=$B8,"in",IF('Ficha de Jogo'!O$28=$B8,"out","")),"") | J8: =IF(ISNUMBER($A8),IF('Ficha de Jogo'!P$27=$B8,"in",IF('Ficha de Jogo'!P$28=$B8,"out","")),"") | K8: =IF(ISNUMBER($A8),IF('Ficha de Jogo'!Q$27=$B8,"in",IF('Ficha de Jogo'!Q$28=$B8,"out","")),"") | L8: =IF(ISNUMBER($A8),IF('Ficha de Jogo'!R$27=$B8,"in",IF('Ficha de Jogo'!R$28=$B8,"out","")),"") | M8: =IF(ISNUMBER($A8),IF('Ficha de Jogo'!S$27=$B8,"in",IF('Ficha de Jogo'!S$28=$B8,"out","")),"") | N8: =IF(ISNUMBER($A8),IF('Ficha de Jogo'!T$27=$B8,"in",IF('Ficha de Jogo'!T$28=$B8,"out","")),"") | O8: =IF(ISNUMBER($A8),IF('Ficha de Jogo'!U$27=$B8,"in",IF('Ficha de Jogo'!U$28=$B8,"out","")),"") | P8: =COUNTIF($G8:$O8,"in")+COUNTIF($G8:$O8,"out") -> 0 | Q8: =IF(G8="out",'Ficha de Jogo'!M$29,IF(G8="in",50+N('Ficha de Jogo'!$J$50)-'Ficha de Jogo'!M$29,"")) | R8: =IF(H8="out",'Ficha de Jogo'!N$29,IF(H8="in",50+N('Ficha de Jogo'!$J$50)-'Ficha de Jogo'!N$29,"")) | S8: =IF(I8="out",'Ficha de Jogo'!O$29,IF(I8="in",50+N('Ficha de Jogo'!$J$50)-'Ficha de Jogo'!O$29,"")) | T8: =IF(J8="out",'Ficha de Jogo'!P$29,IF(J8="in",50+N('Ficha de Jogo'!$J$50)-'Ficha de Jogo'!P$29,"")) | U8: =IF(K8="out",'Ficha de Jogo'!Q$29,IF(K8="in",50+N('Ficha de Jogo'!$J$50)-'Ficha de Jogo'!Q$29,"")) | V8: =IF(L8="out",'Ficha de Jogo'!R$29,IF(L8="in",50+N('Ficha de Jogo'!$J$50)-'Ficha de Jogo'!R$29,"")) | W8: =IF(M8="out",'Ficha de Jogo'!S$29,IF(M8="in",50+N('Ficha de Jogo'!$J$50)-'Ficha de Jogo'!S$29,"")) | X8: =IF(N8="out",'Ficha de Jogo'!T$29,IF(N8="in",50+N('Ficha de Jogo'!$J$50)-'Ficha de Jogo'!T$29,"")) | Y8: =IF(O8="out",'Ficha de Jogo'!U$29,IF(O8="in",50+N('Ficha de Jogo'!$J$50)-'Ficha de Jogo'!U$29,"")) | Z8: =IF($P8>1,IF($P8>2,IF($P8>3,IF($P8>4,IF($P8>5,IF($P8>6,IF($P8>7,IF($P8>8,IF($P8>9,"aqui",-4*(50+N('Ficha de Jogo'!$J$50))),-3*(50+N('Ficha de Jogo'!$J$50))),-3*(50+N('Ficha de Jogo'!$J$50))),-2*(50+N('Ficha de Jogo'!$J$50))),-2*(50+N('Ficha de Jogo'!$J$50))),-1*(50+N('Ficha de Jogo'!$J$50))),-1*(50+N('Ficha de Jogo'!$J$50))),0),0) -> 0 | AA8: =IF($P8>1,IF($P8>2,IF($P8>3,IF($P8>4,IF($P8>5,IF($P8>6,IF($P8>7,IF($P8>8,IF($P8>9,"aqui",-4*(50+N('Ficha de Jogo'!$J$50))),-4*(50+N('Ficha de Jogo'!$J$50))),-3*(50+N('Ficha de Jogo'!$J$50))),-3*(50+N('Ficha de Jogo'!$J$50))),-2*(50+N('Ficha de Jogo'!$J$50))),-2*(50+N('Ficha de Jogo'!$J$50))),-1*(50+N('Ficha de Jogo'!$J$50))),-1*(50+N('Ficha de Jogo'!$J$50))),0) -> 0 | AC8: =IF(D8="x",B8,"") | AD8: =IF(AND(G8="",AC8=$B8),$B8,IF(G8="in",$B8,"")) | AE8: =IF(AND(H8="",AD8=$B8),$B8,IF(H8="in",$B8,"")) | AF8: =IF(AND(I8="",AE8=$B8),$B8,IF(I8="in",$B8,"")) | AG8: =IF(AND(J8="",AF8=$B8),$B8,IF(J8="in",$B8,"")) | AH8: =IF(AND(K8="",AG8=$B8),$B8,IF(K8="in",$B8,"")) | AI8: =IF(AND(L8="",AH8=$B8),$B8,IF(L8="in",$B8,"")) | AJ8: =IF(AND(M8="",AI8=$B8),$B8,IF(M8="in",$B8,"")) | AK8: =IF(AND(N8="",AJ8=$B8),$B8,IF(N8="in",$B8,"")) | AL8: =IF(AND(O8="",AK8=$B8),$B8,IF(O8="in",$B8,""))
A9: =IF(ISBLANK('Ficha de Jogo'!L16),"",'Ficha de Jogo'!L16) | B9: =IF(ISBLANK('Ficha de Jogo'!M16),"",'Ficha de Jogo'!M16) | C9: ='Ficha de Jogo'!N16 | D9: =IF(ISBLANK('Ficha de Jogo'!Q16),"",'Ficha de Jogo'!Q16) | E9: =IF(B9="","",IF(D9="x",IF(F9="",SUM(Q9:Y9)+Z9,SUM(Q9:Y9)+Z9+F9),IF(F9="",IF(AND(P9<>0,SUM(Q9:Y9)+AA9=0),SUM(Q9:Y9)+AA9+1,SUM(Q9:Y9)+AA9),SUM(Q9:Y9)+AA9+F9))) | F9: =IF($D9="x",IF(COUNTIF('Ficha de Jogo'!$M$27:$U$28,$B9)=0,50+N('Ficha de Jogo'!$J$50),""),IF(COUNTIF('Ficha de Jogo'!$M$27:$U$28,$B9)=0,0,"")) | G9: =IF(ISNUMBER($A9),IF('Ficha de Jogo'!M$27=$B9,"in",IF('Ficha de Jogo'!M$28=$B9,"out","")),"") | H9: =IF(ISNUMBER($A9),IF('Ficha de Jogo'!N$27=$B9,"in",IF('Ficha de Jogo'!N$28=$B9,"out","")),"") | I9: =IF(ISNUMBER($A9),IF('Ficha de Jogo'!O$27=$B9,"in",IF('Ficha de Jogo'!O$28=$B9,"out","")),"") | J9: =IF(ISNUMBER($A9),IF('Ficha de Jogo'!P$27=$B9,"in",IF('Ficha de Jogo'!P$28=$B9,"out","")),"") | K9: =IF(ISNUMBER($A9),IF('Ficha de Jogo'!Q$27=$B9,"in",IF('Ficha de Jogo'!Q$28=$B9,"out","")),"") | L9: =IF(ISNUMBER($A9),IF('Ficha de Jogo'!R$27=$B9,"in",IF('Ficha de Jogo'!R$28=$B9,"out","")),"") | M9: =IF(ISNUMBER($A9),IF('Ficha de Jogo'!S$27=$B9,"in",IF('Ficha de Jogo'!S$28=$B9,"out","")),"") | N9: =IF(ISNUMBER($A9),IF('Ficha de Jogo'!T$27=$B9,"in",IF('Ficha de Jogo'!T$28=$B9,"out","")),"") | O9: =IF(ISNUMBER($A9),IF('Ficha de Jogo'!U$27=$B9,"in",IF('Ficha de Jogo'!U$28=$B9,"out","")),"") | P9: =COUNTIF($G9:$O9,"in")+COUNTIF($G9:$O9,"out") -> 0 | Q9: =IF(G9="out",'Ficha de Jogo'!M$29,IF(G9="in",50+N('Ficha de Jogo'!$J$50)-'Ficha de Jogo'!M$29,"")) | R9: =IF(H9="out",'Ficha de Jogo'!N$29,IF(H9="in",50+N('Ficha de Jogo'!$J$50)-'Ficha de Jogo'!N$29,"")) | S9: =IF(I9="out",'Ficha de Jogo'!O$29,IF(I9="in",50+N('Ficha de Jogo'!$J$50)-'Ficha de Jogo'!O$29,"")) | T9: =IF(J9="out",'Ficha de Jogo'!P$29,IF(J9="in",50+N('Ficha de Jogo'!$J$50)-'Ficha de Jogo'!P$29,"")) | U9: =IF(K9="out",'Ficha de Jogo'!Q$29,IF(K9="in",50+N('Ficha de Jogo'!$J$50)-'Ficha de Jogo'!Q$29,"")) | V9: =IF(L9="out",'Ficha de Jogo'!R$29,IF(L9="in",50+N('Ficha de Jogo'!$J$50)-'Ficha de Jogo'!R$29,"")) | W9: =IF(M9="out",'Ficha de Jogo'!S$29,IF(M9="in",50+N('Ficha de Jogo'!$J$50)-'Ficha de Jogo'!S$29,"")) | X9: =IF(N9="out",'Ficha de Jogo'!T$29,IF(N9="in",50+N('Ficha de Jogo'!$J$50)-'Ficha de Jogo'!T$29,"")) | Y9: =IF(O9="out",'Ficha de Jogo'!U$29,IF(O9="in",50+N('Ficha de Jogo'!$J$50)-'Ficha de Jogo'!U$29,"")) | Z9: =IF($P9>1,IF($P9>2,IF($P9>3,IF($P9>4,IF($P9>5,IF($P9>6,IF($P9>7,IF($P9>8,IF($P9>9,"aqui",-4*(50+N('Ficha de Jogo'!$J$50))),-3*(50+N('Ficha de Jogo'!$J$50))),-3*(50+N('Ficha de Jogo'!$J$50))),-2*(50+N('Ficha de Jogo'!$J$50))),-2*(50+N('Ficha de Jogo'!$J$50))),-1*(50+N('Ficha de Jogo'!$J$50))),-1*(50+N('Ficha de Jogo'!$J$50))),0),0) -> 0 | AA9: =IF($P9>1,IF($P9>2,IF($P9>3,IF($P9>4,IF($P9>5,IF($P9>6,IF($P9>7,IF($P9>8,IF($P9>9,"aqui",-4*(50+N('Ficha de Jogo'!$J$50))),-4*(50+N('Ficha de Jogo'!$J$50))),-3*(50+N('Ficha de Jogo'!$J$50))),-3*(50+N('Ficha de Jogo'!$J$50))),-2*(50+N('Ficha de Jogo'!$J$50))),-2*(50+N('Ficha de Jogo'!$J$50))),-1*(50+N('Ficha de Jogo'!$J$50))),-1*(50+N('Ficha de Jogo'!$J$50))),0) -> 0 | AC9: =IF(D9="x",B9,"") | AD9: =IF(AND(G9="",AC9=$B9),$B9,IF(G9="in",$B9,"")) | AE9: =IF(AND(H9="",AD9=$B9),$B9,IF(H9="in",$B9,"")) | AF9: =IF(AND(I9="",AE9=$B9),$B9,IF(I9="in",$B9,"")) | AG9: =IF(AND(J9="",AF9=$B9),$B9,IF(J9="in",$B9,"")) | AH9: =IF(AND(K9="",AG9=$B9),$B9,IF(K9="in",$B9,"")) | AI9: =IF(AND(L9="",AH9=$B9),$B9,IF(L9="in",$B9,"")) | AJ9: =IF(AND(M9="",AI9=$B9),$B9,IF(M9="in",$B9,"")) | AK9: =IF(AND(N9="",AJ9=$B9),$B9,IF(N9="in",$B9,"")) | AL9: =IF(AND(O9="",AK9=$B9),$B9,IF(O9="in",$B9,""))
A10: =IF(ISBLANK('Ficha de Jogo'!L17),"",'Ficha de Jogo'!L17) | B10: =IF(ISBLANK('Ficha de Jogo'!M17),"",'Ficha de Jogo'!M17) | C10: ='Ficha de Jogo'!N17 | D10: =IF(ISBLANK('Ficha de Jogo'!Q17),"",'Ficha de Jogo'!Q17) | E10: =IF(B10="","",IF(D10="x",IF(F10="",SUM(Q10:Y10)+Z10,SUM(Q10:Y10)+Z10+F10),IF(F10="",IF(AND(P10<>0,SUM(Q10:Y10)+AA10=0),SUM(Q10:Y10)+AA10+1,SUM(Q10:Y10)+AA10),SUM(Q10:Y10)+AA10+F10))) | F10: =IF($D10="x",IF(COUNTIF('Ficha de Jogo'!$M$27:$U$28,$B10)=0,50+N('Ficha de Jogo'!$J$50),""),IF(COUNTIF('Ficha de Jogo'!$M$27:$U$28,$B10)=0,0,"")) | G10: =IF(ISNUMBER($A10),IF('Ficha de Jogo'!M$27=$B10,"in",IF('Ficha de Jogo'!M$28=$B10,"out","")),"") | H10: =IF(ISNUMBER($A10),IF('Ficha de Jogo'!N$27=$B10,"in",IF('Ficha de Jogo'!N$28=$B10,"out","")),"") | I10: =IF(ISNUMBER($A10),IF('Ficha de Jogo'!O$27=$B10,"in",IF('Ficha de Jogo'!O$28=$B10,"out","")),"") | J10: =IF(ISNUMBER($A10),IF('Ficha de Jogo'!P$27=$B10,"in",IF('Ficha de Jogo'!P$28=$B10,"out","")),"") | K10: =IF(ISNUMBER($A10),IF('Ficha de Jogo'!Q$27=$B10,"in",IF('Ficha de Jogo'!Q$28=$B10,"out","")),"") | L10: =IF(ISNUMBER($A10),IF('Ficha de Jogo'!R$27=$B10,"in",IF('Ficha de Jogo'!R$28=$B10,"out","")),"") | M10: =IF(ISNUMBER($A10),IF('Ficha de Jogo'!S$27=$B10,"in",IF('Ficha de Jogo'!S$28=$B10,"out","")),"") | N10: =IF(ISNUMBER($A10),IF('Ficha de Jogo'!T$27=$B10,"in",IF('Ficha de Jogo'!T$28=$B10,"out","")),"") | O10: =IF(ISNUMBER($A10),IF('Ficha de Jogo'!U$27=$B10,"in",IF('Ficha de Jogo'!U$28=$B10,"out","")),"") | P10: =COUNTIF($G10:$O10,"in")+COUNTIF($G10:$O10,"out") -> 0 | Q10: =IF(G10="out",'Ficha de Jogo'!M$29,IF(G10="in",50+N('Ficha de Jogo'!$J$50)-'Ficha de Jogo'!M$29,"")) | R10: =IF(H10="out",'Ficha de Jogo'!N$29,IF(H10="in",50+N('Ficha de Jogo'!$J$50)-'Ficha de Jogo'!N$29,"")) | S10: =IF(I10="out",'Ficha de Jogo'!O$29,IF(I10="in",50+N('Ficha de Jogo'!$J$50)-'Ficha de Jogo'!O$29,"")) | T10: =IF(J10="out",'Ficha de Jogo'!P$29,IF(J10="in",50+N('Ficha de Jogo'!$J$50)-'Ficha de Jogo'!P$29,"")) | U10: =IF(K10="out",'Ficha de Jogo'!Q$29,IF(K10="in",50+N('Ficha de Jogo'!$J$50)-'Ficha de Jogo'!Q$29,"")) | V10: =IF(L10="out",'Ficha de Jogo'!R$29,IF(L10="in",50+N('Ficha de Jogo'!$J$50)-'Ficha de Jogo'!R$29,"")) | W10: =IF(M10="out",'Ficha de Jogo'!S$29,IF(M10="in",50+N('Ficha de Jogo'!$J$50)-'Ficha de Jogo'!S$29,"")) | X10: =IF(N10="out",'Ficha de Jogo'!T$29,IF(N10="in",50+N('Ficha de Jogo'!$J$50)-'Ficha de Jogo'!T$29,"")) | Y10: =IF(O10="out",'Ficha de Jogo'!U$29,IF(O10="in",50+N('Ficha de Jogo'!$J$50)-'Ficha de Jogo'!U$29,"")) | Z10: =IF($P10>1,IF($P10>2,IF($P10>3,IF($P10>4,IF($P10>5,IF($P10>6,IF($P10>7,IF($P10>8,IF($P10>9,"aqui",-4*(50+N('Ficha de Jogo'!$J$50))),-3*(50+N('Ficha de Jogo'!$J$50))),-3*(50+N('Ficha de Jogo'!$J$50))),-2*(50+N('Ficha de Jogo'!$J$50))),-2*(50+N('Ficha de Jogo'!$J$50))),-1*(50+N('Ficha de Jogo'!$J$50))),-1*(50+N('Ficha de Jogo'!$J$50))),0),0) -> 0 | AA10: =IF($P10>1,IF($P10>2,IF($P10>3,IF($P10>4,IF($P10>5,IF($P10>6,IF($P10>7,IF($P10>8,IF($P10>9,"aqui",-4*(50+N('Ficha de Jogo'!$J$50))),-4*(50+N('Ficha de Jogo'!$J$50))),-3*(50+N('Ficha de Jogo'!$J$50))),-3*(50+N('Ficha de Jogo'!$J$50))),-2*(50+N('Ficha de Jogo'!$J$50))),-2*(50+N('Ficha de Jogo'!$J$50))),-1*(50+N('Ficha de Jogo'!$J$50))),-1*(50+N('Ficha de Jogo'!$J$50))),0) -> 0 | AC10: =IF(D10="x",B10,"") | AD10: =IF(AND(G10="",AC10=$B10),$B10,IF(G10="in",$B10,"")) | AE10: =IF(AND(H10="",AD10=$B10),$B10,IF(H10="in",$B10,"")) | AF10: =IF(AND(I10="",AE10=$B10),$B10,IF(I10="in",$B10,"")) | AG10: =IF(AND(J10="",AF10=$B10),$B10,IF(J10="in",$B10,"")) | AH10: =IF(AND(K10="",AG10=$B10),$B10,IF(K10="in",$B10,"")) | AI10: =IF(AND(L10="",AH10=$B10),$B10,IF(L10="in",$B10,"")) | AJ10: =IF(AND(M10="",AI10=$B10),$B10,IF(M10="in",$B10,"")) | AK10: =IF(AND(N10="",AJ10=$B10),$B10,IF(N10="in",$B10,"")) | AL10: =IF(AND(O10="",AK10=$B10),$B10,IF(O10="in",$B10,""))
A11: =IF(ISBLANK('Ficha de Jogo'!L18),"",'Ficha de Jogo'!L18) | B11: =IF(ISBLANK('Ficha de Jogo'!M18),"",'Ficha de Jogo'!M18) | C11: ='Ficha de Jogo'!N18 | D11: =IF(ISBLANK('Ficha de Jogo'!Q18),"",'Ficha de Jogo'!Q18) | E11: =IF(B11="","",IF(D11="x",IF(F11="",SUM(Q11:Y11)+Z11,SUM(Q11:Y11)+Z11+F11),IF(F11="",IF(AND(P11<>0,SUM(Q11:Y11)+AA11=0),SUM(Q11:Y11)+AA11+1,SUM(Q11:Y11)+AA11),SUM(Q11:Y11)+AA11+F11))) | F11: =IF($D11="x",IF(COUNTIF('Ficha de Jogo'!$M$27:$U$28,$B11)=0,50+N('Ficha de Jogo'!$J$50),""),IF(COUNTIF('Ficha de Jogo'!$M$27:$U$28,$B11)=0,0,"")) | G11: =IF(ISNUMBER($A11),IF('Ficha de Jogo'!M$27=$B11,"in",IF('Ficha de Jogo'!M$28=$B11,"out","")),"") | H11: =IF(ISNUMBER($A11),IF('Ficha de Jogo'!N$27=$B11,"in",IF('Ficha de Jogo'!N$28=$B11,"out","")),"") | I11: =IF(ISNUMBER($A11),IF('Ficha de Jogo'!O$27=$B11,"in",IF('Ficha de Jogo'!O$28=$B11,"out","")),"") | J11: =IF(ISNUMBER($A11),IF('Ficha de Jogo'!P$27=$B11,"in",IF('Ficha de Jogo'!P$28=$B11,"out","")),"") | K11: =IF(ISNUMBER($A11),IF('Ficha de Jogo'!Q$27=$B11,"in",IF('Ficha de Jogo'!Q$28=$B11,"out","")),"") | L11: =IF(ISNUMBER($A11),IF('Ficha de Jogo'!R$27=$B11,"in",IF('Ficha de Jogo'!R$28=$B11,"out","")),"") | M11: =IF(ISNUMBER($A11),IF('Ficha de Jogo'!S$27=$B11,"in",IF('Ficha de Jogo'!S$28=$B11,"out","")),"") | N11: =IF(ISNUMBER($A11),IF('Ficha de Jogo'!T$27=$B11,"in",IF('Ficha de Jogo'!T$28=$B11,"out","")),"") | O11: =IF(ISNUMBER($A11),IF('Ficha de Jogo'!U$27=$B11,"in",IF('Ficha de Jogo'!U$28=$B11,"out","")),"") | P11: =COUNTIF($G11:$O11,"in")+COUNTIF($G11:$O11,"out") -> 0 | Q11: =IF(G11="out",'Ficha de Jogo'!M$29,IF(G11="in",50+N('Ficha de Jogo'!$J$50)-'Ficha de Jogo'!M$29,"")) | R11: =IF(H11="out",'Ficha de Jogo'!N$29,IF(H11="in",50+N('Ficha de Jogo'!$J$50)-'Ficha de Jogo'!N$29,"")) | S11: =IF(I11="out",'Ficha de Jogo'!O$29,IF(I11="in",50+N('Ficha de Jogo'!$J$50)-'Ficha de Jogo'!O$29,"")) | T11: =IF(J11="out",'Ficha de Jogo'!P$29,IF(J11="in",50+N('Ficha de Jogo'!$J$50)-'Ficha de Jogo'!P$29,"")) | U11: =IF(K11="out",'Ficha de Jogo'!Q$29,IF(K11="in",50+N('Ficha de Jogo'!$J$50)-'Ficha de Jogo'!Q$29,"")) | V11: =IF(L11="out",'Ficha de Jogo'!R$29,IF(L11="in",50+N('Ficha de Jogo'!$J$50)-'Ficha de Jogo'!R$29,"")) | W11: =IF(M11="out",'Ficha de Jogo'!S$29,IF(M11="in",50+N('Ficha de Jogo'!$J$50)-'Ficha de Jogo'!S$29,"")) | X11: =IF(N11="out",'Ficha de Jogo'!T$29,IF(N11="in",50+N('Ficha de Jogo'!$J$50)-'Ficha de Jogo'!T$29,"")) | Y11: =IF(O11="out",'Ficha de Jogo'!U$29,IF(O11="in",50+N('Ficha de Jogo'!$J$50)-'Ficha de Jogo'!U$29,"")) | Z11: =IF($P11>1,IF($P11>2,IF($P11>3,IF($P11>4,IF($P11>5,IF($P11>6,IF($P11>7,IF($P11>8,IF($P11>9,"aqui",-4*(50+N('Ficha de Jogo'!$J$50))),-3*(50+N('Ficha de Jogo'!$J$50))),-3*(50+N('Ficha de Jogo'!$J$50))),-2*(50+N('Ficha de Jogo'!$J$50))),-2*(50+N('Ficha de Jogo'!$J$50))),-1*(50+N('Ficha de Jogo'!$J$50))),-1*(50+N('Ficha de Jogo'!$J$50))),0),0) -> 0 | AA11: =IF($P11>1,IF($P11>2,IF($P11>3,IF($P11>4,IF($P11>5,IF($P11>6,IF($P11>7,IF($P11>8,IF($P11>9,"aqui",-4*(50+N('Ficha de Jogo'!$J$50))),-4*(50+N('Ficha de Jogo'!$J$50))),-3*(50+N('Ficha de Jogo'!$J$50))),-3*(50+N('Ficha de Jogo'!$J$50))),-2*(50+N('Ficha de Jogo'!$J$50))),-2*(50+N('Ficha de Jogo'!$J$50))),-1*(50+N('Ficha de Jogo'!$J$50))),-1*(50+N('Ficha de Jogo'!$J$50))),0) -> 0 | AC11: =IF(D11="x",B11,"") | AD11: =IF(AND(G11="",AC11=$B11),$B11,IF(G11="in",$B11,"")) | AE11: =IF(AND(H11="",AD11=$B11),$B11,IF(H11="in",$B11,"")) | AF11: =IF(AND(I11="",AE11=$B11),$B11,IF(I11="in",$B11,"")) | AG11: =IF(AND(J11="",AF11=$B11),$B11,IF(J11="in",$B11,"")) | AH11: =IF(AND(K11="",AG11=$B11),$B11,IF(K11="in",$B11,"")) | AI11: =IF(AND(L11="",AH11=$B11),$B11,IF(L11="in",$B11,"")) | AJ11: =IF(AND(M11="",AI11=$B11),$B11,IF(M11="in",$B11,"")) | AK11: =IF(AND(N11="",AJ11=$B11),$B11,IF(N11="in",$B11,"")) | AL11: =IF(AND(O11="",AK11=$B11),$B11,IF(O11="in",$B11,""))
A12: =IF(ISBLANK('Ficha de Jogo'!L19),"",'Ficha de Jogo'!L19) | B12: =IF(ISBLANK('Ficha de Jogo'!M19),"",'Ficha de Jogo'!M19) | C12: ='Ficha de Jogo'!N19 | D12: =IF(ISBLANK('Ficha de Jogo'!Q19),"",'Ficha de Jogo'!Q19) | E12: =IF(B12="","",IF(D12="x",IF(F12="",SUM(Q12:Y12)+Z12,SUM(Q12:Y12)+Z12+F12),IF(F12="",IF(AND(P12<>0,SUM(Q12:Y12)+AA12=0),SUM(Q12:Y12)+AA12+1,SUM(Q12:Y12)+AA12),SUM(Q12:Y12)+AA12+F12))) | F12: =IF($D12="x",IF(COUNTIF('Ficha de Jogo'!$M$27:$U$28,$B12)=0,50+N('Ficha de Jogo'!$J$50),""),IF(COUNTIF('Ficha de Jogo'!$M$27:$U$28,$B12)=0,0,"")) | G12: =IF(ISNUMBER($A12),IF('Ficha de Jogo'!M$27=$B12,"in",IF('Ficha de Jogo'!M$28=$B12,"out","")),"") | H12: =IF(ISNUMBER($A12),IF('Ficha de Jogo'!N$27=$B12,"in",IF('Ficha de Jogo'!N$28=$B12,"out","")),"") | I12: =IF(ISNUMBER($A12),IF('Ficha de Jogo'!O$27=$B12,"in",IF('Ficha de Jogo'!O$28=$B12,"out","")),"") | J12: =IF(ISNUMBER($A12),IF('Ficha de Jogo'!P$27=$B12,"in",IF('Ficha de Jogo'!P$28=$B12,"out","")),"") | K12: =IF(ISNUMBER($A12),IF('Ficha de Jogo'!Q$27=$B12,"in",IF('Ficha de Jogo'!Q$28=$B12,"out","")),"") | L12: =IF(ISNUMBER($A12),IF('Ficha de Jogo'!R$27=$B12,"in",IF('Ficha de Jogo'!R$28=$B12,"out","")),"") | M12: =IF(ISNUMBER($A12),IF('Ficha de Jogo'!S$27=$B12,"in",IF('Ficha de Jogo'!S$28=$B12,"out","")),"") | N12: =IF(ISNUMBER($A12),IF('Ficha de Jogo'!T$27=$B12,"in",IF('Ficha de Jogo'!T$28=$B12,"out","")),"") | O12: =IF(ISNUMBER($A12),IF('Ficha de Jogo'!U$27=$B12,"in",IF('Ficha de Jogo'!U$28=$B12,"out","")),"") | P12: =COUNTIF($G12:$O12,"in")+COUNTIF($G12:$O12,"out") -> 0 | Q12: =IF(G12="out",'Ficha de Jogo'!M$29,IF(G12="in",50+N('Ficha de Jogo'!$J$50)-'Ficha de Jogo'!M$29,"")) | R12: =IF(H12="out",'Ficha de Jogo'!N$29,IF(H12="in",50+N('Ficha de Jogo'!$J$50)-'Ficha de Jogo'!N$29,"")) | S12: =IF(I12="out",'Ficha de Jogo'!O$29,IF(I12="in",50+N('Ficha de Jogo'!$J$50)-'Ficha de Jogo'!O$29,"")) | T12: =IF(J12="out",'Ficha de Jogo'!P$29,IF(J12="in",50+N('Ficha de Jogo'!$J$50)-'Ficha de Jogo'!P$29,"")) | U12: =IF(K12="out",'Ficha de Jogo'!Q$29,IF(K12="in",50+N('Ficha de Jogo'!$J$50)-'Ficha de Jogo'!Q$29,"")) | V12: =IF(L12="out",'Ficha de Jogo'!R$29,IF(L12="in",50+N('Ficha de Jogo'!$J$50)-'Ficha de Jogo'!R$29,"")) | W12: =IF(M12="out",'Ficha de Jogo'!S$29,IF(M12="in",50+N('Ficha de Jogo'!$J$50)-'Ficha de Jogo'!S$29,"")) | X12: =IF(N12="out",'Ficha de Jogo'!T$29,IF(N12="in",50+N('Ficha de Jogo'!$J$50)-'Ficha de Jogo'!T$29,"")) | Y12: =IF(O12="out",'Ficha de Jogo'!U$29,IF(O12="in",50+N('Ficha de Jogo'!$J$50)-'Ficha de Jogo'!U$29,"")) | Z12: =IF($P12>1,IF($P12>2,IF($P12>3,IF($P12>4,IF($P12>5,IF($P12>6,IF($P12>7,IF($P12>8,IF($P12>9,"aqui",-4*(50+N('Ficha de Jogo'!$J$50))),-3*(50+N('Ficha de Jogo'!$J$50))),-3*(50+N('Ficha de Jogo'!$J$50))),-2*(50+N('Ficha de Jogo'!$J$50))),-2*(50+N('Ficha de Jogo'!$J$50))),-1*(50+N('Ficha de Jogo'!$J$50))),-1*(50+N('Ficha de Jogo'!$J$50))),0),0) -> 0 | AA12: =IF($P12>1,IF($P12>2,IF($P12>3,IF($P12>4,IF($P12>5,IF($P12>6,IF($P12>7,IF($P12>8,IF($P12>9,"aqui",-4*(50+N('Ficha de Jogo'!$J$50))),-4*(50+N('Ficha de Jogo'!$J$50))),-3*(50+N('Ficha de Jogo'!$J$50))),-3*(50+N('Ficha de Jogo'!$J$50))),-2*(50+N('Ficha de Jogo'!$J$50))),-2*(50+N('Ficha de Jogo'!$J$50))),-1*(50+N('Ficha de Jogo'!$J$50))),-1*(50+N('Ficha de Jogo'!$J$50))),0) -> 0 | AC12: =IF(D12="x",B12,"") | AD12: =IF(AND(G12="",AC12=$B12),$B12,IF(G12="in",$B12,"")) | AE12: =IF(AND(H12="",AD12=$B12),$B12,IF(H12="in",$B12,"")) | AF12: =IF(AND(I12="",AE12=$B12),$B12,IF(I12="in",$B12,"")) | AG12: =IF(AND(J12="",AF12=$B12),$B12,IF(J12="in",$B12,"")) | AH12: =IF(AND(K12="",AG12=$B12),$B12,IF(K12="in",$B12,"")) | AI12: =IF(AND(L12="",AH12=$B12),$B12,IF(L12="in",$B12,"")) | AJ12: =IF(AND(M12="",AI12=$B12),$B12,IF(M12="in",$B12,"")) | AK12: =IF(AND(N12="",AJ12=$B12),$B12,IF(N12="in",$B12,"")) | AL12: =IF(AND(O12="",AK12=$B12),$B12,IF(O12="in",$B12,""))
A13: =IF(ISBLANK('Ficha de Jogo'!L20),"",'Ficha de Jogo'!L20) | B13: =IF(ISBLANK('Ficha de Jogo'!M20),"",'Ficha de Jogo'!M20) | C13: ='Ficha de Jogo'!N20 | D13: =IF(ISBLANK('Ficha de Jogo'!Q20),"",'Ficha de Jogo'!Q20) | E13: =IF(B13="","",IF(D13="x",IF(F13="",SUM(Q13:Y13)+Z13,SUM(Q13:Y13)+Z13+F13),IF(F13="",IF(AND(P13<>0,SUM(Q13:Y13)+AA13=0),SUM(Q13:Y13)+AA13+1,SUM(Q13:Y13)+AA13),SUM(Q13:Y13)+AA13+F13))) | F13: =IF($D13="x",IF(COUNTIF('Ficha de Jogo'!$M$27:$U$28,$B13)=0,50+N('Ficha de Jogo'!$J$50),""),IF(COUNTIF('Ficha de Jogo'!$M$27:$U$28,$B13)=0,0,"")) | G13: =IF(ISNUMBER($A13),IF('Ficha de Jogo'!M$27=$B13,"in",IF('Ficha de Jogo'!M$28=$B13,"out","")),"") | H13: =IF(ISNUMBER($A13),IF('Ficha de Jogo'!N$27=$B13,"in",IF('Ficha de Jogo'!N$28=$B13,"out","")),"") | I13: =IF(ISNUMBER($A13),IF('Ficha de Jogo'!O$27=$B13,"in",IF('Ficha de Jogo'!O$28=$B13,"out","")),"") | J13: =IF(ISNUMBER($A13),IF('Ficha de Jogo'!P$27=$B13,"in",IF('Ficha de Jogo'!P$28=$B13,"out","")),"") | K13: =IF(ISNUMBER($A13),IF('Ficha de Jogo'!Q$27=$B13,"in",IF('Ficha de Jogo'!Q$28=$B13,"out","")),"") | L13: =IF(ISNUMBER($A13),IF('Ficha de Jogo'!R$27=$B13,"in",IF('Ficha de Jogo'!R$28=$B13,"out","")),"") | M13: =IF(ISNUMBER($A13),IF('Ficha de Jogo'!S$27=$B13,"in",IF('Ficha de Jogo'!S$28=$B13,"out","")),"") | N13: =IF(ISNUMBER($A13),IF('Ficha de Jogo'!T$27=$B13,"in",IF('Ficha de Jogo'!T$28=$B13,"out","")),"") | O13: =IF(ISNUMBER($A13),IF('Ficha de Jogo'!U$27=$B13,"in",IF('Ficha de Jogo'!U$28=$B13,"out","")),"") | P13: =COUNTIF($G13:$O13,"in")+COUNTIF($G13:$O13,"out") -> 0 | Q13: =IF(G13="out",'Ficha de Jogo'!M$29,IF(G13="in",50+N('Ficha de Jogo'!$J$50)-'Ficha de Jogo'!M$29,"")) | R13: =IF(H13="out",'Ficha de Jogo'!N$29,IF(H13="in",50+N('Ficha de Jogo'!$J$50)-'Ficha de Jogo'!N$29,"")) | S13: =IF(I13="out",'Ficha de Jogo'!O$29,IF(I13="in",50+N('Ficha de Jogo'!$J$50)-'Ficha de Jogo'!O$29,"")) | T13: =IF(J13="out",'Ficha de Jogo'!P$29,IF(J13="in",50+N('Ficha de Jogo'!$J$50)-'Ficha de Jogo'!P$29,"")) | U13: =IF(K13="out",'Ficha de Jogo'!Q$29,IF(K13="in",50+N('Ficha de Jogo'!$J$50)-'Ficha de Jogo'!Q$29,"")) | V13: =IF(L13="out",'Ficha de Jogo'!R$29,IF(L13="in",50+N('Ficha de Jogo'!$J$50)-'Ficha de Jogo'!R$29,"")) | W13: =IF(M13="out",'Ficha de Jogo'!S$29,IF(M13="in",50+N('Ficha de Jogo'!$J$50)-'Ficha de Jogo'!S$29,"")) | X13: =IF(N13="out",'Ficha de Jogo'!T$29,IF(N13="in",50+N('Ficha de Jogo'!$J$50)-'Ficha de Jogo'!T$29,"")) | Y13: =IF(O13="out",'Ficha de Jogo'!U$29,IF(O13="in",50+N('Ficha de Jogo'!$J$50)-'Ficha de Jogo'!U$29,"")) | Z13: =IF($P13>1,IF($P13>2,IF($P13>3,IF($P13>4,IF($P13>5,IF($P13>6,IF($P13>7,IF($P13>8,IF($P13>9,"aqui",-4*(50+N('Ficha de Jogo'!$J$50))),-3*(50+N('Ficha de Jogo'!$J$50))),-3*(50+N('Ficha de Jogo'!$J$50))),-2*(50+N('Ficha de Jogo'!$J$50))),-2*(50+N('Ficha de Jogo'!$J$50))),-1*(50+N('Ficha de Jogo'!$J$50))),-1*(50+N('Ficha de Jogo'!$J$50))),0),0) -> 0 | AA13: =IF($P13>1,IF($P13>2,IF($P13>3,IF($P13>4,IF($P13>5,IF($P13>6,IF($P13>7,IF($P13>8,IF($P13>9,"aqui",-4*(50+N('Ficha de Jogo'!$J$50))),-4*(50+N('Ficha de Jogo'!$J$50))),-3*(50+N('Ficha de Jogo'!$J$50))),-3*(50+N('Ficha de Jogo'!$J$50))),-2*(50+N('Ficha de Jogo'!$J$50))),-2*(50+N('Ficha de Jogo'!$J$50))),-1*(50+N('Ficha de Jogo'!$J$50))),-1*(50+N('Ficha de Jogo'!$J$50))),0) -> 0 | AC13: =IF(D13="x",B13,"") | AD13: =IF(AND(G13="",AC13=$B13),$B13,IF(G13="in",$B13,"")) | AE13: =IF(AND(H13="",AD13=$B13),$B13,IF(H13="in",$B13,"")) | AF13: =IF(AND(I13="",AE13=$B13),$B13,IF(I13="in",$B13,"")) | AG13: =IF(AND(J13="",AF13=$B13),$B13,IF(J13="in",$B13,"")) | AH13: =IF(AND(K13="",AG13=$B13),$B13,IF(K13="in",$B13,"")) | AI13: =IF(AND(L13="",AH13=$B13),$B13,IF(L13="in",$B13,"")) | AJ13: =IF(AND(M13="",AI13=$B13),$B13,IF(M13="in",$B13,"")) | AK13: =IF(AND(N13="",AJ13=$B13),$B13,IF(N13="in",$B13,"")) | AL13: =IF(AND(O13="",AK13=$B13),$B13,IF(O13="in",$B13,""))
A14: =IF(ISBLANK('Ficha de Jogo'!L21),"",'Ficha de Jogo'!L21) | B14: =IF(ISBLANK('Ficha de Jogo'!M21),"",'Ficha de Jogo'!M21) | C14: ='Ficha de Jogo'!N21 | D14: =IF(ISBLANK('Ficha de Jogo'!Q21),"",'Ficha de Jogo'!Q21) | E14: =IF(B14="","",IF(D14="x",IF(F14="",SUM(Q14:Y14)+Z14,SUM(Q14:Y14)+Z14+F14),IF(F14="",IF(AND(P14<>0,SUM(Q14:Y14)+AA14=0),SUM(Q14:Y14)+AA14+1,SUM(Q14:Y14)+AA14),SUM(Q14:Y14)+AA14+F14))) | F14: =IF($D14="x",IF(COUNTIF('Ficha de Jogo'!$M$27:$U$28,$B14)=0,50+N('Ficha de Jogo'!$J$50),""),IF(COUNTIF('Ficha de Jogo'!$M$27:$U$28,$B14)=0,0,"")) | G14: =IF(ISNUMBER($A14),IF('Ficha de Jogo'!M$27=$B14,"in",IF('Ficha de Jogo'!M$28=$B14,"out","")),"") | H14: =IF(ISNUMBER($A14),IF('Ficha de Jogo'!N$27=$B14,"in",IF('Ficha de Jogo'!N$28=$B14,"out","")),"") | I14: =IF(ISNUMBER($A14),IF('Ficha de Jogo'!O$27=$B14,"in",IF('Ficha de Jogo'!O$28=$B14,"out","")),"") | J14: =IF(ISNUMBER($A14),IF('Ficha de Jogo'!P$27=$B14,"in",IF('Ficha de Jogo'!P$28=$B14,"out","")),"") | K14: =IF(ISNUMBER($A14),IF('Ficha de Jogo'!Q$27=$B14,"in",IF('Ficha de Jogo'!Q$28=$B14,"out","")),"") | L14: =IF(ISNUMBER($A14),IF('Ficha de Jogo'!R$27=$B14,"in",IF('Ficha de Jogo'!R$28=$B14,"out","")),"") | M14: =IF(ISNUMBER($A14),IF('Ficha de Jogo'!S$27=$B14,"in",IF('Ficha de Jogo'!S$28=$B14,"out","")),"") | N14: =IF(ISNUMBER($A14),IF('Ficha de Jogo'!T$27=$B14,"in",IF('Ficha de Jogo'!T$28=$B14,"out","")),"") | O14: =IF(ISNUMBER($A14),IF('Ficha de Jogo'!U$27=$B14,"in",IF('Ficha de Jogo'!U$28=$B14,"out","")),"") | P14: =COUNTIF($G14:$O14,"in")+COUNTIF($G14:$O14,"out") -> 0 | Q14: =IF(G14="out",'Ficha de Jogo'!M$29,IF(G14="in",50+N('Ficha de Jogo'!$J$50)-'Ficha de Jogo'!M$29,"")) | R14: =IF(H14="out",'Ficha de Jogo'!N$29,IF(H14="in",50+N('Ficha de Jogo'!$J$50)-'Ficha de Jogo'!N$29,"")) | S14: =IF(I14="out",'Ficha de Jogo'!O$29,IF(I14="in",50+N('Ficha de Jogo'!$J$50)-'Ficha de Jogo'!O$29,"")) | T14: =IF(J14="out",'Ficha de Jogo'!P$29,IF(J14="in",50+N('Ficha de Jogo'!$J$50)-'Ficha de Jogo'!P$29,"")) | U14: =IF(K14="out",'Ficha de Jogo'!Q$29,IF(K14="in",50+N('Ficha de Jogo'!$J$50)-'Ficha de Jogo'!Q$29,"")) | V14: =IF(L14="out",'Ficha de Jogo'!R$29,IF(L14="in",50+N('Ficha de Jogo'!$J$50)-'Ficha de Jogo'!R$29,"")) | W14: =IF(M14="out",'Ficha de Jogo'!S$29,IF(M14="in",50+N('Ficha de Jogo'!$J$50)-'Ficha de Jogo'!S$29,"")) | X14: =IF(N14="out",'Ficha de Jogo'!T$29,IF(N14="in",50+N('Ficha de Jogo'!$J$50)-'Ficha de Jogo'!T$29,"")) | Y14: =IF(O14="out",'Ficha de Jogo'!U$29,IF(O14="in",50+N('Ficha de Jogo'!$J$50)-'Ficha de Jogo'!U$29,"")) | Z14: =IF($P14>1,IF($P14>2,IF($P14>3,IF($P14>4,IF($P14>5,IF($P14>6,IF($P14>7,IF($P14>8,IF($P14>9,"aqui",-4*(50+N('Ficha de Jogo'!$J$50))),-3*(50+N('Ficha de Jogo'!$J$50))),-3*(50+N('Ficha de Jogo'!$J$50))),-2*(50+N('Ficha de Jogo'!$J$50))),-2*(50+N('Ficha de Jogo'!$J$50))),-1*(50+N('Ficha de Jogo'!$J$50))),-1*(50+N('Ficha de Jogo'!$J$50))),0),0) -> 0 | AA14: =IF($P14>1,IF($P14>2,IF($P14>3,IF($P14>4,IF($P14>5,IF($P14>6,IF($P14>7,IF($P14>8,IF($P14>9,"aqui",-4*(50+N('Ficha de Jogo'!$J$50))),-4*(50+N('Ficha de Jogo'!$J$50))),-3*(50+N('Ficha de Jogo'!$J$50))),-3*(50+N('Ficha de Jogo'!$J$50))),-2*(50+N('Ficha de Jogo'!$J$50))),-2*(50+N('Ficha de Jogo'!$J$50))),-1*(50+N('Ficha de Jogo'!$J$50))),-1*(50+N('Ficha de Jogo'!$J$50))),0) -> 0 | AC14: =IF(D14="x",B14,"") | AD14: =IF(AND(G14="",AC14=$B14),$B14,IF(G14="in",$B14,"")) | AE14: =IF(AND(H14="",AD14=$B14),$B14,IF(H14="in",$B14,"")) | AF14: =IF(AND(I14="",AE14=$B14),$B14,IF(I14="in",$B14,"")) | AG14: =IF(AND(J14="",AF14=$B14),$B14,IF(J14="in",$B14,"")) | AH14: =IF(AND(K14="",AG14=$B14),$B14,IF(K14="in",$B14,"")) | AI14: =IF(AND(L14="",AH14=$B14),$B14,IF(L14="in",$B14,"")) | AJ14: =IF(AND(M14="",AI14=$B14),$B14,IF(M14="in",$B14,"")) | AK14: =IF(AND(N14="",AJ14=$B14),$B14,IF(N14="in",$B14,"")) | AL14: =IF(AND(O14="",AK14=$B14),$B14,IF(O14="in",$B14,""))
... A16: =IF(ISBLANK('Ficha de Jogo'!L23),"",'Ficha de Jogo'!L23) | B16: =IF(ISBLANK('Ficha de Jogo'!M23),"",'Ficha de Jogo'!M23) | C16: ='Ficha de Jogo'!N23 | D16: =IF(ISBLANK('Ficha de Jogo'!Q23),"",'Ficha de Jogo'!Q23) | E16: =IF(B16="","",IF(D16="x",IF(F16="",SUM(Q16:Y16)+Z16,SUM(Q16:Y16)+Z16+F16),IF(F16="",IF(AND(P16<>0,SUM(Q16:Y16)+AA16=0),SUM(Q16:Y16)+AA16+1,SUM(Q16:Y16)+AA16),SUM(Q16:Y16)+AA16+F16))) | F16: =IF($D16="x",IF(COUNTIF('Ficha de Jogo'!$M$27:$U$28,$B16)=0,50+N('Ficha de Jogo'!$J$50),""),IF(COUNTIF('Ficha de Jogo'!$M$27:$U$28,$B16)=0,0,"")) | G16: =IF(ISNUMBER($A16),IF('Ficha de Jogo'!M$27=$B16,"in",IF('Ficha de Jogo'!M$28=$B16,"out","")),"") | H16: =IF(ISNUMBER($A16),IF('Ficha de Jogo'!N$27=$B16,"in",IF('Ficha de Jogo'!N$28=$B16,"out","")),"") | I16: =IF(ISNUMBER($A16),IF('Ficha de Jogo'!O$27=$B16,"in",IF('Ficha de Jogo'!O$28=$B16,"out","")),"") | J16: =IF(ISNUMBER($A16),IF('Ficha de Jogo'!P$27=$B16,"in",IF('Ficha de Jogo'!P$28=$B16,"out","")),"") | K16: =IF(ISNUMBER($A16),IF('Ficha de Jogo'!Q$27=$B16,"in",IF('Ficha de Jogo'!Q$28=$B16,"out","")),"") | L16: =IF(ISNUMBER($A16),IF('Ficha de Jogo'!R$27=$B16,"in",IF('Ficha de Jogo'!R$28=$B16,"out","")),"") | M16: =IF(ISNUMBER($A16),IF('Ficha de Jogo'!S$27=$B16,"in",IF('Ficha de Jogo'!S$28=$B16,"out","")),"") | N16: =IF(ISNUMBER($A16),IF('Ficha de Jogo'!T$27=$B16,"in",IF('Ficha de Jogo'!T$28=$B16,"out","")),"") | O16: =IF(ISNUMBER($A16),IF('Ficha de Jogo'!U$27=$B16,"in",IF('Ficha de Jogo'!U$28=$B16,"out","")),"") | P16: =COUNTIF($G16:$O16,"in")+COUNTIF($G16:$O16,"out") -> 0 | Q16: =IF(G16="out",'Ficha de Jogo'!M$29,IF(G16="in",50+N('Ficha de Jogo'!$J$50)-'Ficha de Jogo'!M$29,"")) | R16: =IF(H16="out",'Ficha de Jogo'!N$29,IF(H16="in",50+N('Ficha de Jogo'!$J$50)-'Ficha de Jogo'!N$29,"")) | S16: =IF(I16="out",'Ficha de Jogo'!O$29,IF(I16="in",50+N('Ficha de Jogo'!$J$50)-'Ficha de Jogo'!O$29,"")) | T16: =IF(J16="out",'Ficha de Jogo'!P$29,IF(J16="in",50+N('Ficha de Jogo'!$J$50)-'Ficha de Jogo'!P$29,"")) | U16: =IF(K16="out",'Ficha de Jogo'!Q$29,IF(K16="in",50+N('Ficha de Jogo'!$J$50)-'Ficha de Jogo'!Q$29,"")) | V16: =IF(L16="out",'Ficha de Jogo'!R$29,IF(L16="in",50+N('Ficha de Jogo'!$J$50)-'Ficha de Jogo'!R$29,"")) | W16: =IF(M16="out",'Ficha de Jogo'!S$29,IF(M16="in",50+N('Ficha de Jogo'!$J$50)-'Ficha de Jogo'!S$29,"")) | X16: =IF(N16="out",'Ficha de Jogo'!T$29,IF(N16="in",50+N('Ficha de Jogo'!$J$50)-'Ficha de Jogo'!T$29,"")) | Y16: =IF(O16="out",'Ficha de Jogo'!U$29,IF(O16="in",50+N('Ficha de Jogo'!$J$50)-'Ficha de Jogo'!U$29,"")) | Z16: =IF($P16>1,IF($P16>2,IF($P16>3,IF($P16>4,IF($P16>5,IF($P16>6,IF($P16>7,IF($P16>8,IF($P16>9,"aqui",-4*(50+N('Ficha de Jogo'!$J$50))),-3*(50+N('Ficha de Jogo'!$J$50))),-3*(50+N('Ficha de Jogo'!$J$50))),-2*(50+N('Ficha de Jogo'!$J$50))),-2*(50+N('Ficha de Jogo'!$J$50))),-1*(50+N('Ficha de Jogo'!$J$50))),-1*(50+N('Ficha de Jogo'!$J$50))),0),0) -> 0 | AA16: =IF($P16>1,IF($P16>2,IF($P16>3,IF($P16>4,IF($P16>5,IF($P16>6,IF($P16>7,IF($P16>8,IF($P16>9,"aqui",-4*(50+N('Ficha de Jogo'!$J$50))),-4*(50+N('Ficha de Jogo'!$J$50))),-3*(50+N('Ficha de Jogo'!$J$50))),-3*(50+N('Ficha de Jogo'!$J$50))),-2*(50+N('Ficha de Jogo'!$J$50))),-2*(50+N('Ficha de Jogo'!$J$50))),-1*(50+N('Ficha de Jogo'!$J$50))),-1*(50+N('Ficha de Jogo'!$J$50))),0) -> 0 | AC16: =IF(D16="x",B16,"") | AD16: =IF(AND(G16="",AC16=$B16),$B16,IF(G16="in",$B16,"")) | AE16: =IF(AND(H16="",AD16=$B16),$B16,IF(H16="in",$B16,"")) | AF16: =IF(AND(I16="",AE16=$B16),$B16,IF(I16="in",$B16,"")) | AG16: =IF(AND(J16="",AF16=$B16),$B16,IF(J16="in",$B16,"")) | AH16: =IF(AND(K16="",AG16=$B16),$B16,IF(K16="in",$B16,"")) | AI16: =IF(AND(L16="",AH16=$B16),$B16,IF(L16="in",$B16,"")) | AJ16: =IF(AND(M16="",AI16=$B16),$B16,IF(M16="in",$B16,"")) | AK16: =IF(AND(N16="",AJ16=$B16),$B16,IF(N16="in",$B16,"")) | AL16: =IF(AND(O16="",AK16=$B16),$B16,IF(O16="in",$B16,""))
E17: =SUM(E3:E16) -> 0 | AC17: =COUNT(AC3:AC16) -> 0 | AD17: =COUNT(AD3:AD16) -> 0 | AE17: =COUNT(AE3:AE16) -> 0 | AF17: =COUNT(AF3:AF16) -> 0 | AG17: =COUNT(AG3:AG16) -> 0 | AH17: =COUNT(AH3:AH16) -> 0 | AI17: =COUNT(AI3:AI16) -> 0 | AJ17: =COUNT(AJ3:AJ16) -> 0 | ... AL17: =COUNT(AL3:AL16) -> 0
E19: Nota: tive que adicionar a opção de que se entra e sai no mesmo minuto (tendo jogado menos do que um minuto) apareça na mesma 1 à frente do nome. Doutro modo, aparece apenas que o jogador entrou (não fica a amarelo), mas não aparece nenhum minuto de jogo.
E20: Se aparecer que o tempo total de jogo é mais do que 400, por exemplo, 401, é um problema de arredondamentos.
